BEGIN:VCALENDAR
VERSION:2.0
PRODID:-//New Cumberland B&amp;PG - ECPv6.15.17.1//NONSGML v1.0//EN
CALSCALE:GREGORIAN
METHOD:PUBLISH
X-ORIGINAL-URL:https://newcumberlandpa.org
X-WR-CALDESC:Events for New Cumberland B&amp;PG
REFRESH-INTERVAL;VALUE=DURATION:PT1H
X-Robots-Tag:noindex
X-PUBLISHED-TTL:PT1H
BEGIN:VTIMEZONE
TZID:America/New_York
BEGIN:DAYLIGHT
TZOFFSETFROM:-0500
TZOFFSETTO:-0400
TZNAME:EDT
DTSTART:20180311T070000
END:DAYLIGHT
BEGIN:STANDARD
TZOFFSETFROM:-0400
TZOFFSETTO:-0500
TZNAME:EST
DTSTART:20181104T060000
END:STANDARD
BEGIN:DAYLIGHT
TZOFFSETFROM:-0500
TZOFFSETTO:-0400
TZNAME:EDT
DTSTART:20190310T070000
END:DAYLIGHT
BEGIN:STANDARD
TZOFFSETFROM:-0400
TZOFFSETTO:-0500
TZNAME:EST
DTSTART:20191103T060000
END:STANDARD
BEGIN:DAYLIGHT
TZOFFSETFROM:-0500
TZOFFSETTO:-0400
TZNAME:EDT
DTSTART:20200308T070000
END:DAYLIGHT
BEGIN:STANDARD
TZOFFSETFROM:-0400
TZOFFSETTO:-0500
TZNAME:EST
DTSTART:20201101T060000
END:STANDARD
BEGIN:DAYLIGHT
TZOFFSETFROM:-0500
TZOFFSETTO:-0400
TZNAME:EDT
DTSTART:20210314T070000
END:DAYLIGHT
BEGIN:STANDARD
TZOFFSETFROM:-0400
TZOFFSETTO:-0500
TZNAME:EST
DTSTART:20211107T060000
END:STANDARD
BEGIN:DAYLIGHT
TZOFFSETFROM:-0500
TZOFFSETTO:-0400
TZNAME:EDT
DTSTART:20220313T070000
END:DAYLIGHT
BEGIN:STANDARD
TZOFFSETFROM:-0400
TZOFFSETTO:-0500
TZNAME:EST
DTSTART:20221106T060000
END:STANDARD
BEGIN:DAYLIGHT
TZOFFSETFROM:-0500
TZOFFSETTO:-0400
TZNAME:EDT
DTSTART:20230312T070000
END:DAYLIGHT
BEGIN:STANDARD
TZOFFSETFROM:-0400
TZOFFSETTO:-0500
TZNAME:EST
DTSTART:20231105T060000
END:STANDARD
BEGIN:DAYLIGHT
TZOFFSETFROM:-0500
TZOFFSETTO:-0400
TZNAME:EDT
DTSTART:20240310T070000
END:DAYLIGHT
BEGIN:STANDARD
TZOFFSETFROM:-0400
TZOFFSETTO:-0500
TZNAME:EST
DTSTART:20241103T060000
END:STANDARD
BEGIN:DAYLIGHT
TZOFFSETFROM:-0500
TZOFFSETTO:-0400
TZNAME:EDT
DTSTART:20250309T070000
END:DAYLIGHT
BEGIN:STANDARD
TZOFFSETFROM:-0400
TZOFFSETTO:-0500
TZNAME:EST
DTSTART:20251102T060000
END:STANDARD
BEGIN:DAYLIGHT
TZOFFSETFROM:-0500
TZOFFSETTO:-0400
TZNAME:EDT
DTSTART:20260308T070000
END:DAYLIGHT
BEGIN:STANDARD
TZOFFSETFROM:-0400
TZOFFSETTO:-0500
TZNAME:EST
DTSTART:20261101T060000
END:STANDARD
END:VTIMEZONE
BEGIN:VEVENT
DTSTART;TZID=America/New_York:20251130T100000
DTEND;TZID=America/New_York:20251130T150000
DTSTAMP:20260423T213406
CREATED:20251112T153559Z
LAST-MODIFIED:20251112T153559Z
UID:10004038-1764496800-1764514800@newcumberlandpa.org
SUMMARY:Santa Visits The Event Cafe
DESCRIPTION:Join The Event Cafe for a special visit with Santa to benefit Carly’s Hope. Enjoy our hot chocolate bar\, festive treats\, holiday crafts and gifts for the kids!\nCarly’s Hope is a local 501(c)(3) non-profit organization which provides grants for essential adoption expenses. Every dollar helps ensure a child finds a loving home. For this event we request a $5 minimum donation in support of Carly’s Hope.\n\n\n\n\n\nDate & Time: Sunday\, November 30th from 10AM – 3PM\nLocation: The Event Cafe (206 3rd St. New Cumberland\, PA)\nPlease remember to bring your camera to take photos with Santa.
URL:https://newcumberlandpa.org/event/santa-visits-the-event-cafe/
LOCATION:The Event Cafe\, 206 Third Street\, New Cumberland\, PA\, 17070\, United States
CATEGORIES:Community,Fundraiser
ATTACH;FMTTYPE=image/jpeg:https://newcumberlandpa.org/wp-content/uploads/2025/11/580727618_858690040023505_3131561712842247621_n.jpg
ORGANIZER;CN="The Event Cafe":MAILTO:info@theeventcafe.com
END:VEVENT
BEGIN:VEVENT
DTSTART;TZID=America/New_York:20241207T100000
DTEND;TZID=America/New_York:20241207T140000
DTSTAMP:20260423T213406
CREATED:20241206T203729Z
LAST-MODIFIED:20241206T203751Z
UID:10003922-1733565600-1733580000@newcumberlandpa.org
SUMMARY:Santa Visits Event Café
DESCRIPTION:
URL:https://newcumberlandpa.org/event/santa-visits-event-cafe/
LOCATION:The Event Cafe\, 206 Third Street\, New Cumberland\, PA\, 17070\, United States
END:VEVENT
BEGIN:VEVENT
DTSTART;TZID=America/New_York:20221217T090000
DTEND;TZID=America/New_York:20221217T130000
DTSTAMP:20260423T213406
CREATED:20221111T133749Z
LAST-MODIFIED:20221111T133803Z
UID:10002040-1671267600-1671282000@newcumberlandpa.org
SUMMARY:Santa and Cocoa BYOC Event
DESCRIPTION:
URL:https://newcumberlandpa.org/event/santa-and-cocoa-byoc-event/
LOCATION:The Event Cafe\, 206 Third Street\, New Cumberland\, PA\, 17070\, United States
CATEGORIES:Community,Fundraiser
ATTACH;FMTTYPE=image/jpeg:https://newcumberlandpa.org/wp-content/uploads/2022/11/BYOC-Santa-Poster-LJM.jpg
ORGANIZER;CN="The Event Cafe":MAILTO:info@theeventcafe.com
END:VEVENT
BEGIN:VEVENT
DTSTART;TZID=America/New_York:20191211T180000
DTEND;TZID=America/New_York:20191211T203000
DTSTAMP:20260423T213406
CREATED:20191203T153308Z
LAST-MODIFIED:20191203T160029Z
UID:10000994-1576087200-1576096200@newcumberlandpa.org
SUMMARY:B&PG December Holiday Mixer
DESCRIPTION:Join us to mix and mingle at a special holiday gathering with friends and colleagues. The Event Cafe will welcome the New Cumberland B&PG into its space for holiday cheer\, festive food and beverages\, and joyful camaraderie. Plus\, get the inside scoop on the 2020 B&PG activities that are sure to beneﬁt your business. Guests are welcome. \nThank you to The Event Cafe for hosting a special December Member Mixer! \nRSVP by December 4 to Stephanie Franklin via email at CommunicationsChairNC@gmail.com or by calling 717-421-6173.
URL:https://newcumberlandpa.org/event/december-holiday-mixer/
LOCATION:The Event Cafe\, 206 Third Street\, New Cumberland\, PA\, 17070\, United States
ATTACH;FMTTYPE=image/jpeg:https://newcumberlandpa.org/wp-content/uploads/2019/12/member-mixer-flyer_holiday19_FINAL-copy.jpg
ORGANIZER;CN="New Cumberland Business & Profesional Group":MAILTO:communicationschairNC@gmail.com
END:VEVENT
END:VCALENDAR