BEGIN:VCALENDAR
VERSION:2.0
PRODID:-//New Cumberland B&amp;PG - ECPv6.15.17.1//NONSGML v1.0//EN
CALSCALE:GREGORIAN
METHOD:PUBLISH
X-ORIGINAL-URL:https://newcumberlandpa.org
X-WR-CALDESC:Events for New Cumberland B&amp;PG
REFRESH-INTERVAL;VALUE=DURATION:PT1H
X-Robots-Tag:noindex
X-PUBLISHED-TTL:PT1H
BEGIN:VTIMEZONE
TZID:America/New_York
BEGIN:DAYLIGHT
TZOFFSETFROM:-0500
TZOFFSETTO:-0400
TZNAME:EDT
DTSTART:20180311T070000
END:DAYLIGHT
BEGIN:STANDARD
TZOFFSETFROM:-0400
TZOFFSETTO:-0500
TZNAME:EST
DTSTART:20181104T060000
END:STANDARD
BEGIN:DAYLIGHT
TZOFFSETFROM:-0500
TZOFFSETTO:-0400
TZNAME:EDT
DTSTART:20190310T070000
END:DAYLIGHT
BEGIN:STANDARD
TZOFFSETFROM:-0400
TZOFFSETTO:-0500
TZNAME:EST
DTSTART:20191103T060000
END:STANDARD
BEGIN:DAYLIGHT
TZOFFSETFROM:-0500
TZOFFSETTO:-0400
TZNAME:EDT
DTSTART:20200308T070000
END:DAYLIGHT
BEGIN:STANDARD
TZOFFSETFROM:-0400
TZOFFSETTO:-0500
TZNAME:EST
DTSTART:20201101T060000
END:STANDARD
BEGIN:DAYLIGHT
TZOFFSETFROM:-0500
TZOFFSETTO:-0400
TZNAME:EDT
DTSTART:20210314T070000
END:DAYLIGHT
BEGIN:STANDARD
TZOFFSETFROM:-0400
TZOFFSETTO:-0500
TZNAME:EST
DTSTART:20211107T060000
END:STANDARD
BEGIN:DAYLIGHT
TZOFFSETFROM:-0500
TZOFFSETTO:-0400
TZNAME:EDT
DTSTART:20220313T070000
END:DAYLIGHT
BEGIN:STANDARD
TZOFFSETFROM:-0400
TZOFFSETTO:-0500
TZNAME:EST
DTSTART:20221106T060000
END:STANDARD
END:VTIMEZONE
BEGIN:VEVENT
DTSTART;TZID=America/New_York:20211120T090000
DTEND;TZID=America/New_York:20211120T160000
DTSTAMP:20260424T212408
CREATED:20210901T152319Z
LAST-MODIFIED:20211112T143742Z
UID:10001260-1637398800-1637424000@newcumberlandpa.org
SUMMARY:Holiday Open House
DESCRIPTION:Join us for a day full of festive fun and activities for all ages at the New Cumberland Holiday Open House on Saturday\, November 20 from 9 a.m. – 4 p.m.! Pictures with Santa\, coloring contest\, crafts\, holiday sales and promotions\, family friendly entertainment and more. Sponsored by the New Cumberland Business & Professional Group\, young and young at heart will enjoy a day of holiday cheer. \nClick here to download our 2021 coloring pages!
URL:https://newcumberlandpa.org/event/holiday-open-house-3/
LOCATION:New Cumberland\, New Cumberland\, PA\, 17070\, United States
CATEGORIES:Community
ATTACH;FMTTYPE=image/jpeg:https://newcumberlandpa.org/wp-content/uploads/2021/09/HOH-art.jpg
END:VEVENT
BEGIN:VEVENT
DTSTART;TZID=America/New_York:20211028T180000
DTEND;TZID=America/New_York:20211028T200000
DTSTAMP:20260424T212408
CREATED:20211019T124105Z
LAST-MODIFIED:20211019T124105Z
UID:10001285-1635444000-1635451200@newcumberlandpa.org
SUMMARY:New Cumberland Trick-or-Treat
DESCRIPTION:
URL:https://newcumberlandpa.org/event/new-cumberland-trick-or-treat-3/
LOCATION:New Cumberland\, New Cumberland\, PA\, 17070\, United States
CATEGORIES:Community
END:VEVENT
BEGIN:VEVENT
DTSTART;VALUE=DATE:20210614
DTEND;VALUE=DATE:20210814
DTSTAMP:20260424T212408
CREATED:20210608T131918Z
LAST-MODIFIED:20210608T131918Z
UID:10001222-1623628800-1628899199@newcumberlandpa.org
SUMMARY:Fairy Door Trail
DESCRIPTION:The 4th Annual Fairy Door Trail is set to begin June 14th! Residents and visitors of New Cumberland can pick up a Fairy Door Trail Passport beginning June 7 at: Weist Hardware\, S&T Bank\, Oxford Hall Celtic Shop\, New Cumberland Public Library\, and New Cumberland Federal Credit Union. \nFollow the path of 18 New Cumberland businesses to find the magical fairy doors and fill in the names of each resident fairy in the passport. Turn in your completed passport at Oxford Hall Celtic Shop and Café and receive a Fairy Certificate\, Harry Potter and fairy treats\, and be entered into a drawing to win prizes. Let’s find those resident fairies! Sponsored by the New Cumberland Business & Professional Group.
URL:https://newcumberlandpa.org/event/fairy-door-trail-2/
LOCATION:New Cumberland\, New Cumberland\, PA\, 17070\, United States
CATEGORIES:Community
ATTACH;FMTTYPE=image/jpeg:https://newcumberlandpa.org/wp-content/uploads/2021/06/186056018_10158971241878913_1413193468342975637_n.jpg
ORGANIZER;CN="New Cumberland Business & Profesional Group":MAILTO:communicationschairNC@gmail.com
END:VEVENT
BEGIN:VEVENT
DTSTART;TZID=America/New_York:20201121T090000
DTEND;TZID=America/New_York:20201121T160000
DTSTAMP:20260424T212408
CREATED:20200917T210921Z
LAST-MODIFIED:20201109T220620Z
UID:10001097-1605949200-1605974400@newcumberlandpa.org
SUMMARY:Holiday Open House
DESCRIPTION:Click here for our 2020 COLORING CONTEST templates.
URL:https://newcumberlandpa.org/event/holiday-open-house-2/
LOCATION:New Cumberland\, New Cumberland\, PA\, 17070\, United States
ATTACH;FMTTYPE=image/jpeg:https://newcumberlandpa.org/wp-content/uploads/2020/09/BPG-holiday-open-house-flyer-20_FINAL.jpg
END:VEVENT
BEGIN:VEVENT
DTSTART;TZID=America/New_York:20201029T180000
DTEND;TZID=America/New_York:20201029T210000
DTSTAMP:20260424T212408
CREATED:20200903T211306Z
LAST-MODIFIED:20200903T211653Z
UID:10001090-1603994400-1604005200@newcumberlandpa.org
SUMMARY:New Cumberland Trick-or-Treat
DESCRIPTION:
URL:https://newcumberlandpa.org/event/new-cumberland-trick-or-treat-2/
LOCATION:New Cumberland\, New Cumberland\, PA\, 17070\, United States
CATEGORIES:Community
END:VEVENT
BEGIN:VEVENT
DTSTART;VALUE=DATE:20200706
DTEND;VALUE=DATE:20200818
DTSTAMP:20260424T212408
CREATED:20200610T193046Z
LAST-MODIFIED:20200629T161107Z
UID:10001076-1593993600-1597708799@newcumberlandpa.org
SUMMARY:Fairy Door Trail
DESCRIPTION:The 3nd Annual Fairy Door Trail is set to begin July 6th! Residents and visitors of New Cumberland can pick up a Fairy Door Trail Passport beginning July 1 at: Weist Hardware\, S&T Bank\, Oxford Hall Celtic Shop\, New Cumberland Public Library\, and New Cumberland Federal Credit Union. Or\, DOWNLOAD YOUR PASSPORT here. \nFollow the path of 12 New Cumberland businesses to find the magical fairy doors and fill in the names of each resident fairy in the passport. Turn in your completed passport at Oxford Hall Celtic Shop and Café and receive a Fairy Certificate\, Harry Potter and fairy treats\, and be entered into a drawing to win prizes. Let’s find those resident fairies! Sponsored by the New Cumberland Business & Professional Group.
URL:https://newcumberlandpa.org/event/fairy-door-trail/
LOCATION:New Cumberland\, New Cumberland\, PA\, 17070\, United States
CATEGORIES:Community
ATTACH;FMTTYPE=image/jpeg:https://newcumberlandpa.org/wp-content/uploads/2020/06/fairy-door-trail-art-20.jpg
ORGANIZER;CN="New Cumberland Business & Profesional Group":MAILTO:communicationschairNC@gmail.com
END:VEVENT
BEGIN:VEVENT
DTSTART;TZID=America/New_York:20191221T170000
DTEND;TZID=America/New_York:20191221T200000
DTSTAMP:20260424T212408
CREATED:20191203T163254Z
LAST-MODIFIED:20191205T134133Z
UID:10001004-1576947600-1576958400@newcumberlandpa.org
SUMMARY:Operation Santa Claus
DESCRIPTION:
URL:https://newcumberlandpa.org/event/operation-santa-claus/
LOCATION:New Cumberland\, New Cumberland\, PA\, 17070\, United States
END:VEVENT
BEGIN:VEVENT
DTSTART;TZID=America/New_York:20191123T090000
DTEND;TZID=America/New_York:20191123T160000
DTSTAMP:20260424T212408
CREATED:20191016T161337Z
LAST-MODIFIED:20191021T185514Z
UID:10000990-1574499600-1574524800@newcumberlandpa.org
SUMMARY:Holiday Open House
DESCRIPTION:Join us for a weekend full of festive fun and activities for all ages!\nSaturday\, November 23\, 9 a.m. – 4 p.m. \n\nPictures with Santa: 11 a.m. – 2 p.m. 3rd & Bridge Streets Naughty\, or nice? Santa will want to know!\nLetters to Santa: Drop your letter at the special North Pole mailbox in front of Oxford Hall Celtic Shop by Dec. 15 and get a response from Santa!\nColoring Contest: Download our coloring contest template on Facebook! Drop off your entry at American Anchor Tattoo and be entered to win a prize!\nCarriage Rides: 10 – 2 p.m. Delight in tradition and history with a ride in a 19th century horse-drawn carriage.\nSpecial Holiday Showing: West Shore Theatre\nFamily Friendly Entertainment: Guest carolers and musicians throughout town.\nHoliday Sales and Specials: Make memories at local shops and restaurants.\nCrafts and Doughnuts: 2 – 4 p.m. New Cumberland Public Library\, 1 Benjamin Plaza. All ages: Craft a Christmas card in the Meeting Room on the 2nd floor. Partake in Christmas puzzles throughout the Library and enjoy a doughnut in the magazine area! Ages 3+: Make an ornament in the Children’s Room.\nChristmas and Baked Goods Sale: West Shore Senior Center\, 122 Geary Avenue. Fill a basket with holiday goodies!\n\nSunday\, November 24\, 5:30 – 8 p.m. \n\nCommunity Tree Lighting Service: 5:30 p.m. Elkwood Park\, 6th and Bridge Streets Light up the night with cookies and cocoa.\nCommunity Thanksgiving Meal: 6 p.m. St. Paul’s Lutheran Church Enjoy turkey\, mashed potatoes and all the fixings.\nThanksgiving Service: 7 p.m. St. Paul’s Lutheran Church
URL:https://newcumberlandpa.org/event/holiday-open-house/
LOCATION:New Cumberland\, New Cumberland\, PA\, 17070\, United States
ATTACH;FMTTYPE=image/jpeg:https://newcumberlandpa.org/wp-content/uploads/2019/10/BPG-holiday-open-house-flyer.jpg
ORGANIZER;CN="":MAILTO:gen@odessadesign.com
END:VEVENT
END:VCALENDAR