BEGIN:VCALENDAR
VERSION:2.0
PRODID:-//New Cumberland B&amp;PG - ECPv6.15.17.1//NONSGML v1.0//EN
CALSCALE:GREGORIAN
METHOD:PUBLISH
X-WR-CALNAME:New Cumberland B&amp;PG
X-ORIGINAL-URL:https://newcumberlandpa.org
X-WR-CALDESC:Events for New Cumberland B&amp;PG
REFRESH-INTERVAL;VALUE=DURATION:PT1H
X-Robots-Tag:noindex
X-PUBLISHED-TTL:PT1H
BEGIN:VTIMEZONE
TZID:America/New_York
BEGIN:DAYLIGHT
TZOFFSETFROM:-0500
TZOFFSETTO:-0400
TZNAME:EDT
DTSTART:20230312T070000
END:DAYLIGHT
BEGIN:STANDARD
TZOFFSETFROM:-0400
TZOFFSETTO:-0500
TZNAME:EST
DTSTART:20231105T060000
END:STANDARD
BEGIN:DAYLIGHT
TZOFFSETFROM:-0500
TZOFFSETTO:-0400
TZNAME:EDT
DTSTART:20240310T070000
END:DAYLIGHT
BEGIN:STANDARD
TZOFFSETFROM:-0400
TZOFFSETTO:-0500
TZNAME:EST
DTSTART:20241103T060000
END:STANDARD
BEGIN:DAYLIGHT
TZOFFSETFROM:-0500
TZOFFSETTO:-0400
TZNAME:EDT
DTSTART:20250309T070000
END:DAYLIGHT
BEGIN:STANDARD
TZOFFSETFROM:-0400
TZOFFSETTO:-0500
TZNAME:EST
DTSTART:20251102T060000
END:STANDARD
BEGIN:DAYLIGHT
TZOFFSETFROM:-0500
TZOFFSETTO:-0400
TZNAME:EDT
DTSTART:20260308T070000
END:DAYLIGHT
BEGIN:STANDARD
TZOFFSETFROM:-0400
TZOFFSETTO:-0500
TZNAME:EST
DTSTART:20261101T060000
END:STANDARD
END:VTIMEZONE
BEGIN:VEVENT
DTSTART;TZID=America/New_York:20251211T170000
DTEND;TZID=America/New_York:20251211T200000
DTSTAMP:20260423T185802
CREATED:20250108T172412Z
LAST-MODIFIED:20250108T172412Z
UID:10003941-1765472400-1765483200@newcumberlandpa.org
SUMMARY:Holidays in New Cumberland
DESCRIPTION:Get ready to kick off the holiday season in style at Second Thursday on December 11 in New Cumberland! It’s the perfect trio of events: the Food Truck and Restaurant Rally\, horse-drawn wagon rides\, and pictures with Old Saint Nick. Join us from 5 p.m. to 8 p.m. in downtown New Cumberland for an unforgettable night filled with holiday cheer and mouthwatering feasts.\n\nBring your loved ones and get into the festive spirit on Second Thursday!
URL:https://newcumberlandpa.org/event/holidays-in-new-cumberland-2/
LOCATION:New Cumberland\, New Cumberland\, PA\, 17070\, United States
CATEGORIES:Community
ATTACH;FMTTYPE=image/jpeg:https://newcumberlandpa.org/wp-content/uploads/2024/01/holidays-NC-1.jpg
ORGANIZER;CN="New Cumberland Business & Profesional Group":MAILTO:communicationschairNC@gmail.com
END:VEVENT
BEGIN:VEVENT
DTSTART;TZID=America/New_York:20251030T180000
DTEND;TZID=America/New_York:20251030T200000
DTSTAMP:20260423T185802
CREATED:20251002T154415Z
LAST-MODIFIED:20251002T154448Z
UID:10004033-1761847200-1761854400@newcumberlandpa.org
SUMMARY:Trick-Or-Treat Night
DESCRIPTION:Trick-or-treating night will be held in New Cumberland Borough on October 30\, 2025 from 6 p.m. – 8 p.m.  There is no rain date.
URL:https://newcumberlandpa.org/event/trick-or-treat-night/
LOCATION:New Cumberland\, New Cumberland\, PA\, 17070\, United States
CATEGORIES:Community
END:VEVENT
BEGIN:VEVENT
DTSTART;TZID=America/New_York:20241212T170000
DTEND;TZID=America/New_York:20241212T200000
DTSTAMP:20260423T185802
CREATED:20240118T175047Z
LAST-MODIFIED:20241211T170243Z
UID:10003797-1734022800-1734033600@newcumberlandpa.org
SUMMARY:Holidays in New Cumberland
DESCRIPTION:Get ready to kick off the holiday season in style at Second Thursday on December 12 in New Cumberland! It’s the perfect trio of events: the Food Truck and Restaurant Rally\, horse-drawn wagon rides\, and pictures with Old Saint Nick. Join us from 5 p.m. to 8 p.m. in downtown New Cumberland for an unforgettable night filled with holiday cheer and mouthwatering feasts.\n\n\nIndulge in scrumptious food served up by a variety of food trucks. Participating food trucks this month include: BFD’s Snack Wagon\, Creekview Food Company\, Grappling Crab Shack\, Madeline’s Sweets & Savories\, Marsico’s A Taste of Italy\, Midnite Smokin’ BBQ\, Perry Pizza Co\, Potato Coop\, and Quinn’s Coffee Bar.\nTake a leisurely ride around downtown in our charming horse-drawn wagons\, sponsored by Kelly Financial Services. To ensure everyone gets to enjoy this unique journey\, we’re rolling out not just one\, but two wagons! Catch a wagon ride right in front of PNC Bank.\nBut that’s not all! Capture a jolly holiday memory with a picture with Santa at 300 Bridge Street\, inside West Shore Theatre’s Arts & Education Center.\n\n\nBring your loved ones and get into the festive spirit on Second Thursday!
URL:https://newcumberlandpa.org/event/holidays-in-new-cumberland/
LOCATION:New Cumberland\, New Cumberland\, PA\, 17070\, United States
CATEGORIES:Community
ATTACH;FMTTYPE=image/jpeg:https://newcumberlandpa.org/wp-content/uploads/2024/01/holidays-NC-1.jpg
ORGANIZER;CN="New Cumberland Business & Profesional Group":MAILTO:communicationschairNC@gmail.com
END:VEVENT
BEGIN:VEVENT
DTSTART;TZID=America/New_York:20241130T080000
DTEND;TZID=America/New_York:20241130T220000
DTSTAMP:20260423T185802
CREATED:20241029T194403Z
LAST-MODIFIED:20241029T194404Z
UID:10003917-1732953600-1733004000@newcumberlandpa.org
SUMMARY:Small Business Saturday
DESCRIPTION:Get ready to celebrate Small Business Saturday in New Cumberland on November 30! \nLet’s show some love to our local shops and restaurants as we kick off the holiday season. Every purchase supports our community and makes a big difference. Join us in keeping our town thriving by shopping small and sharing the New Cumberland spirit! \nKirk Wise will be performing a special set at the public space in 3rd Alley from 2 p.m. – 4 p.m. \nMake a BIG impact. Shop small in New Cumberland!
URL:https://newcumberlandpa.org/event/small-business-saturday-2/
LOCATION:New Cumberland\, New Cumberland\, PA\, 17070\, United States
ATTACH;FMTTYPE=image/jpeg:https://newcumberlandpa.org/wp-content/uploads/2024/10/bpg-small-biz-saturday-FB-event-24.jpg
END:VEVENT
BEGIN:VEVENT
DTSTART;TZID=America/New_York:20240810T070000
DTEND;TZID=America/New_York:20240810T210000
DTSTAMP:20260423T185802
CREATED:20240118T172125Z
LAST-MODIFIED:20240424T161645Z
UID:10003907-1723273200-1723323600@newcumberlandpa.org
SUMMARY:Fairy Door Trail
DESCRIPTION:The 7th Annual Fairy Door Trail is set to begin June 10th! \nFollow the path of New Cumberland businesses to find the magical fairy doors and fill in the names of each resident fairy in the passport.
URL:https://newcumberlandpa.org/event/fairy-door-trail-4/2024-08-10/
LOCATION:New Cumberland\, New Cumberland\, PA\, 17070\, United States
CATEGORIES:Community
ORGANIZER;CN="New Cumberland Business & Profesional Group":MAILTO:communicationschairNC@gmail.com
END:VEVENT
BEGIN:VEVENT
DTSTART;TZID=America/New_York:20240809T070000
DTEND;TZID=America/New_York:20240809T210000
DTSTAMP:20260423T185802
CREATED:20240118T172125Z
LAST-MODIFIED:20240424T161645Z
UID:10003906-1723186800-1723237200@newcumberlandpa.org
SUMMARY:Fairy Door Trail
DESCRIPTION:The 7th Annual Fairy Door Trail is set to begin June 10th! \nFollow the path of New Cumberland businesses to find the magical fairy doors and fill in the names of each resident fairy in the passport.
URL:https://newcumberlandpa.org/event/fairy-door-trail-4/2024-08-09/
LOCATION:New Cumberland\, New Cumberland\, PA\, 17070\, United States
CATEGORIES:Community
ORGANIZER;CN="New Cumberland Business & Profesional Group":MAILTO:communicationschairNC@gmail.com
END:VEVENT
BEGIN:VEVENT
DTSTART;TZID=America/New_York:20240808T070000
DTEND;TZID=America/New_York:20240808T210000
DTSTAMP:20260423T185802
CREATED:20240118T172125Z
LAST-MODIFIED:20240424T161645Z
UID:10003905-1723100400-1723150800@newcumberlandpa.org
SUMMARY:Fairy Door Trail
DESCRIPTION:The 7th Annual Fairy Door Trail is set to begin June 10th! \nFollow the path of New Cumberland businesses to find the magical fairy doors and fill in the names of each resident fairy in the passport.
URL:https://newcumberlandpa.org/event/fairy-door-trail-4/2024-08-08/
LOCATION:New Cumberland\, New Cumberland\, PA\, 17070\, United States
CATEGORIES:Community
ORGANIZER;CN="New Cumberland Business & Profesional Group":MAILTO:communicationschairNC@gmail.com
END:VEVENT
BEGIN:VEVENT
DTSTART;TZID=America/New_York:20240807T070000
DTEND;TZID=America/New_York:20240807T210000
DTSTAMP:20260423T185802
CREATED:20240118T172125Z
LAST-MODIFIED:20240424T161645Z
UID:10003904-1723014000-1723064400@newcumberlandpa.org
SUMMARY:Fairy Door Trail
DESCRIPTION:The 7th Annual Fairy Door Trail is set to begin June 10th! \nFollow the path of New Cumberland businesses to find the magical fairy doors and fill in the names of each resident fairy in the passport.
URL:https://newcumberlandpa.org/event/fairy-door-trail-4/2024-08-07/
LOCATION:New Cumberland\, New Cumberland\, PA\, 17070\, United States
CATEGORIES:Community
ORGANIZER;CN="New Cumberland Business & Profesional Group":MAILTO:communicationschairNC@gmail.com
END:VEVENT
BEGIN:VEVENT
DTSTART;TZID=America/New_York:20240806T070000
DTEND;TZID=America/New_York:20240806T210000
DTSTAMP:20260423T185802
CREATED:20240118T172125Z
LAST-MODIFIED:20240424T161645Z
UID:10003903-1722927600-1722978000@newcumberlandpa.org
SUMMARY:Fairy Door Trail
DESCRIPTION:The 7th Annual Fairy Door Trail is set to begin June 10th! \nFollow the path of New Cumberland businesses to find the magical fairy doors and fill in the names of each resident fairy in the passport.
URL:https://newcumberlandpa.org/event/fairy-door-trail-4/2024-08-06/
LOCATION:New Cumberland\, New Cumberland\, PA\, 17070\, United States
CATEGORIES:Community
ORGANIZER;CN="New Cumberland Business & Profesional Group":MAILTO:communicationschairNC@gmail.com
END:VEVENT
BEGIN:VEVENT
DTSTART;TZID=America/New_York:20240805T070000
DTEND;TZID=America/New_York:20240805T210000
DTSTAMP:20260423T185802
CREATED:20240118T172125Z
LAST-MODIFIED:20240424T161645Z
UID:10003902-1722841200-1722891600@newcumberlandpa.org
SUMMARY:Fairy Door Trail
DESCRIPTION:The 7th Annual Fairy Door Trail is set to begin June 10th! \nFollow the path of New Cumberland businesses to find the magical fairy doors and fill in the names of each resident fairy in the passport.
URL:https://newcumberlandpa.org/event/fairy-door-trail-4/2024-08-05/
LOCATION:New Cumberland\, New Cumberland\, PA\, 17070\, United States
CATEGORIES:Community
ORGANIZER;CN="New Cumberland Business & Profesional Group":MAILTO:communicationschairNC@gmail.com
END:VEVENT
BEGIN:VEVENT
DTSTART;TZID=America/New_York:20240804T070000
DTEND;TZID=America/New_York:20240804T210000
DTSTAMP:20260423T185802
CREATED:20240118T172125Z
LAST-MODIFIED:20240424T161645Z
UID:10003901-1722754800-1722805200@newcumberlandpa.org
SUMMARY:Fairy Door Trail
DESCRIPTION:The 7th Annual Fairy Door Trail is set to begin June 10th! \nFollow the path of New Cumberland businesses to find the magical fairy doors and fill in the names of each resident fairy in the passport.
URL:https://newcumberlandpa.org/event/fairy-door-trail-4/2024-08-04/
LOCATION:New Cumberland\, New Cumberland\, PA\, 17070\, United States
CATEGORIES:Community
ORGANIZER;CN="New Cumberland Business & Profesional Group":MAILTO:communicationschairNC@gmail.com
END:VEVENT
BEGIN:VEVENT
DTSTART;TZID=America/New_York:20240803T070000
DTEND;TZID=America/New_York:20240803T210000
DTSTAMP:20260423T185802
CREATED:20240118T172125Z
LAST-MODIFIED:20240424T161645Z
UID:10003720-1722668400-1722718800@newcumberlandpa.org
SUMMARY:Fairy Door Trail
DESCRIPTION:The 7th Annual Fairy Door Trail is set to begin June 10th! \nFollow the path of New Cumberland businesses to find the magical fairy doors and fill in the names of each resident fairy in the passport.
URL:https://newcumberlandpa.org/event/fairy-door-trail-4/2024-08-03/
LOCATION:New Cumberland\, New Cumberland\, PA\, 17070\, United States
CATEGORIES:Community
ORGANIZER;CN="New Cumberland Business & Profesional Group":MAILTO:communicationschairNC@gmail.com
END:VEVENT
BEGIN:VEVENT
DTSTART;TZID=America/New_York:20240802T070000
DTEND;TZID=America/New_York:20240802T210000
DTSTAMP:20260423T185802
CREATED:20240118T172125Z
LAST-MODIFIED:20240424T161645Z
UID:10003719-1722582000-1722632400@newcumberlandpa.org
SUMMARY:Fairy Door Trail
DESCRIPTION:The 7th Annual Fairy Door Trail is set to begin June 10th! \nFollow the path of New Cumberland businesses to find the magical fairy doors and fill in the names of each resident fairy in the passport.
URL:https://newcumberlandpa.org/event/fairy-door-trail-4/2024-08-02/
LOCATION:New Cumberland\, New Cumberland\, PA\, 17070\, United States
CATEGORIES:Community
ORGANIZER;CN="New Cumberland Business & Profesional Group":MAILTO:communicationschairNC@gmail.com
END:VEVENT
BEGIN:VEVENT
DTSTART;TZID=America/New_York:20240801T070000
DTEND;TZID=America/New_York:20240801T210000
DTSTAMP:20260423T185802
CREATED:20240118T172125Z
LAST-MODIFIED:20240424T161645Z
UID:10003718-1722495600-1722546000@newcumberlandpa.org
SUMMARY:Fairy Door Trail
DESCRIPTION:The 7th Annual Fairy Door Trail is set to begin June 10th! \nFollow the path of New Cumberland businesses to find the magical fairy doors and fill in the names of each resident fairy in the passport.
URL:https://newcumberlandpa.org/event/fairy-door-trail-4/2024-08-01/
LOCATION:New Cumberland\, New Cumberland\, PA\, 17070\, United States
CATEGORIES:Community
ORGANIZER;CN="New Cumberland Business & Profesional Group":MAILTO:communicationschairNC@gmail.com
END:VEVENT
BEGIN:VEVENT
DTSTART;TZID=America/New_York:20240731T070000
DTEND;TZID=America/New_York:20240731T210000
DTSTAMP:20260423T185802
CREATED:20240118T172125Z
LAST-MODIFIED:20240424T161645Z
UID:10003717-1722409200-1722459600@newcumberlandpa.org
SUMMARY:Fairy Door Trail
DESCRIPTION:The 7th Annual Fairy Door Trail is set to begin June 10th! \nFollow the path of New Cumberland businesses to find the magical fairy doors and fill in the names of each resident fairy in the passport.
URL:https://newcumberlandpa.org/event/fairy-door-trail-4/2024-07-31/
LOCATION:New Cumberland\, New Cumberland\, PA\, 17070\, United States
CATEGORIES:Community
ORGANIZER;CN="New Cumberland Business & Profesional Group":MAILTO:communicationschairNC@gmail.com
END:VEVENT
BEGIN:VEVENT
DTSTART;TZID=America/New_York:20240730T070000
DTEND;TZID=America/New_York:20240730T210000
DTSTAMP:20260423T185802
CREATED:20240118T172125Z
LAST-MODIFIED:20240424T161645Z
UID:10003716-1722322800-1722373200@newcumberlandpa.org
SUMMARY:Fairy Door Trail
DESCRIPTION:The 7th Annual Fairy Door Trail is set to begin June 10th! \nFollow the path of New Cumberland businesses to find the magical fairy doors and fill in the names of each resident fairy in the passport.
URL:https://newcumberlandpa.org/event/fairy-door-trail-4/2024-07-30/
LOCATION:New Cumberland\, New Cumberland\, PA\, 17070\, United States
CATEGORIES:Community
ORGANIZER;CN="New Cumberland Business & Profesional Group":MAILTO:communicationschairNC@gmail.com
END:VEVENT
BEGIN:VEVENT
DTSTART;TZID=America/New_York:20240729T070000
DTEND;TZID=America/New_York:20240729T210000
DTSTAMP:20260423T185802
CREATED:20240118T172125Z
LAST-MODIFIED:20240424T161645Z
UID:10003715-1722236400-1722286800@newcumberlandpa.org
SUMMARY:Fairy Door Trail
DESCRIPTION:The 7th Annual Fairy Door Trail is set to begin June 10th! \nFollow the path of New Cumberland businesses to find the magical fairy doors and fill in the names of each resident fairy in the passport.
URL:https://newcumberlandpa.org/event/fairy-door-trail-4/2024-07-29/
LOCATION:New Cumberland\, New Cumberland\, PA\, 17070\, United States
CATEGORIES:Community
ORGANIZER;CN="New Cumberland Business & Profesional Group":MAILTO:communicationschairNC@gmail.com
END:VEVENT
BEGIN:VEVENT
DTSTART;TZID=America/New_York:20240728T070000
DTEND;TZID=America/New_York:20240728T210000
DTSTAMP:20260423T185802
CREATED:20240118T172125Z
LAST-MODIFIED:20240424T161645Z
UID:10003714-1722150000-1722200400@newcumberlandpa.org
SUMMARY:Fairy Door Trail
DESCRIPTION:The 7th Annual Fairy Door Trail is set to begin June 10th! \nFollow the path of New Cumberland businesses to find the magical fairy doors and fill in the names of each resident fairy in the passport.
URL:https://newcumberlandpa.org/event/fairy-door-trail-4/2024-07-28/
LOCATION:New Cumberland\, New Cumberland\, PA\, 17070\, United States
CATEGORIES:Community
ORGANIZER;CN="New Cumberland Business & Profesional Group":MAILTO:communicationschairNC@gmail.com
END:VEVENT
BEGIN:VEVENT
DTSTART;TZID=America/New_York:20240727T070000
DTEND;TZID=America/New_York:20240727T210000
DTSTAMP:20260423T185802
CREATED:20240118T172125Z
LAST-MODIFIED:20240424T161645Z
UID:10003713-1722063600-1722114000@newcumberlandpa.org
SUMMARY:Fairy Door Trail
DESCRIPTION:The 7th Annual Fairy Door Trail is set to begin June 10th! \nFollow the path of New Cumberland businesses to find the magical fairy doors and fill in the names of each resident fairy in the passport.
URL:https://newcumberlandpa.org/event/fairy-door-trail-4/2024-07-27/
LOCATION:New Cumberland\, New Cumberland\, PA\, 17070\, United States
CATEGORIES:Community
ORGANIZER;CN="New Cumberland Business & Profesional Group":MAILTO:communicationschairNC@gmail.com
END:VEVENT
BEGIN:VEVENT
DTSTART;TZID=America/New_York:20240726T070000
DTEND;TZID=America/New_York:20240726T210000
DTSTAMP:20260423T185802
CREATED:20240118T172125Z
LAST-MODIFIED:20240424T161645Z
UID:10003712-1721977200-1722027600@newcumberlandpa.org
SUMMARY:Fairy Door Trail
DESCRIPTION:The 7th Annual Fairy Door Trail is set to begin June 10th! \nFollow the path of New Cumberland businesses to find the magical fairy doors and fill in the names of each resident fairy in the passport.
URL:https://newcumberlandpa.org/event/fairy-door-trail-4/2024-07-26/
LOCATION:New Cumberland\, New Cumberland\, PA\, 17070\, United States
CATEGORIES:Community
ORGANIZER;CN="New Cumberland Business & Profesional Group":MAILTO:communicationschairNC@gmail.com
END:VEVENT
BEGIN:VEVENT
DTSTART;TZID=America/New_York:20240725T070000
DTEND;TZID=America/New_York:20240725T210000
DTSTAMP:20260423T185802
CREATED:20240118T172125Z
LAST-MODIFIED:20240424T161645Z
UID:10003711-1721890800-1721941200@newcumberlandpa.org
SUMMARY:Fairy Door Trail
DESCRIPTION:The 7th Annual Fairy Door Trail is set to begin June 10th! \nFollow the path of New Cumberland businesses to find the magical fairy doors and fill in the names of each resident fairy in the passport.
URL:https://newcumberlandpa.org/event/fairy-door-trail-4/2024-07-25/
LOCATION:New Cumberland\, New Cumberland\, PA\, 17070\, United States
CATEGORIES:Community
ORGANIZER;CN="New Cumberland Business & Profesional Group":MAILTO:communicationschairNC@gmail.com
END:VEVENT
BEGIN:VEVENT
DTSTART;TZID=America/New_York:20240724T070000
DTEND;TZID=America/New_York:20240724T210000
DTSTAMP:20260423T185802
CREATED:20240118T172125Z
LAST-MODIFIED:20240424T161645Z
UID:10003710-1721804400-1721854800@newcumberlandpa.org
SUMMARY:Fairy Door Trail
DESCRIPTION:The 7th Annual Fairy Door Trail is set to begin June 10th! \nFollow the path of New Cumberland businesses to find the magical fairy doors and fill in the names of each resident fairy in the passport.
URL:https://newcumberlandpa.org/event/fairy-door-trail-4/2024-07-24/
LOCATION:New Cumberland\, New Cumberland\, PA\, 17070\, United States
CATEGORIES:Community
ORGANIZER;CN="New Cumberland Business & Profesional Group":MAILTO:communicationschairNC@gmail.com
END:VEVENT
BEGIN:VEVENT
DTSTART;TZID=America/New_York:20240723T070000
DTEND;TZID=America/New_York:20240723T210000
DTSTAMP:20260423T185802
CREATED:20240118T172125Z
LAST-MODIFIED:20240424T161645Z
UID:10003709-1721718000-1721768400@newcumberlandpa.org
SUMMARY:Fairy Door Trail
DESCRIPTION:The 7th Annual Fairy Door Trail is set to begin June 10th! \nFollow the path of New Cumberland businesses to find the magical fairy doors and fill in the names of each resident fairy in the passport.
URL:https://newcumberlandpa.org/event/fairy-door-trail-4/2024-07-23/
LOCATION:New Cumberland\, New Cumberland\, PA\, 17070\, United States
CATEGORIES:Community
ORGANIZER;CN="New Cumberland Business & Profesional Group":MAILTO:communicationschairNC@gmail.com
END:VEVENT
BEGIN:VEVENT
DTSTART;TZID=America/New_York:20240722T070000
DTEND;TZID=America/New_York:20240722T210000
DTSTAMP:20260423T185802
CREATED:20240118T172125Z
LAST-MODIFIED:20240424T161645Z
UID:10003708-1721631600-1721682000@newcumberlandpa.org
SUMMARY:Fairy Door Trail
DESCRIPTION:The 7th Annual Fairy Door Trail is set to begin June 10th! \nFollow the path of New Cumberland businesses to find the magical fairy doors and fill in the names of each resident fairy in the passport.
URL:https://newcumberlandpa.org/event/fairy-door-trail-4/2024-07-22/
LOCATION:New Cumberland\, New Cumberland\, PA\, 17070\, United States
CATEGORIES:Community
ORGANIZER;CN="New Cumberland Business & Profesional Group":MAILTO:communicationschairNC@gmail.com
END:VEVENT
BEGIN:VEVENT
DTSTART;TZID=America/New_York:20240721T070000
DTEND;TZID=America/New_York:20240721T210000
DTSTAMP:20260423T185802
CREATED:20240118T172125Z
LAST-MODIFIED:20240424T161645Z
UID:10003707-1721545200-1721595600@newcumberlandpa.org
SUMMARY:Fairy Door Trail
DESCRIPTION:The 7th Annual Fairy Door Trail is set to begin June 10th! \nFollow the path of New Cumberland businesses to find the magical fairy doors and fill in the names of each resident fairy in the passport.
URL:https://newcumberlandpa.org/event/fairy-door-trail-4/2024-07-21/
LOCATION:New Cumberland\, New Cumberland\, PA\, 17070\, United States
CATEGORIES:Community
ORGANIZER;CN="New Cumberland Business & Profesional Group":MAILTO:communicationschairNC@gmail.com
END:VEVENT
BEGIN:VEVENT
DTSTART;TZID=America/New_York:20240720T070000
DTEND;TZID=America/New_York:20240720T210000
DTSTAMP:20260423T185802
CREATED:20240118T172125Z
LAST-MODIFIED:20240424T161645Z
UID:10003706-1721458800-1721509200@newcumberlandpa.org
SUMMARY:Fairy Door Trail
DESCRIPTION:The 7th Annual Fairy Door Trail is set to begin June 10th! \nFollow the path of New Cumberland businesses to find the magical fairy doors and fill in the names of each resident fairy in the passport.
URL:https://newcumberlandpa.org/event/fairy-door-trail-4/2024-07-20/
LOCATION:New Cumberland\, New Cumberland\, PA\, 17070\, United States
CATEGORIES:Community
ORGANIZER;CN="New Cumberland Business & Profesional Group":MAILTO:communicationschairNC@gmail.com
END:VEVENT
BEGIN:VEVENT
DTSTART;TZID=America/New_York:20240719T070000
DTEND;TZID=America/New_York:20240719T210000
DTSTAMP:20260423T185802
CREATED:20240118T172125Z
LAST-MODIFIED:20240424T161645Z
UID:10003705-1721372400-1721422800@newcumberlandpa.org
SUMMARY:Fairy Door Trail
DESCRIPTION:The 7th Annual Fairy Door Trail is set to begin June 10th! \nFollow the path of New Cumberland businesses to find the magical fairy doors and fill in the names of each resident fairy in the passport.
URL:https://newcumberlandpa.org/event/fairy-door-trail-4/2024-07-19/
LOCATION:New Cumberland\, New Cumberland\, PA\, 17070\, United States
CATEGORIES:Community
ORGANIZER;CN="New Cumberland Business & Profesional Group":MAILTO:communicationschairNC@gmail.com
END:VEVENT
BEGIN:VEVENT
DTSTART;TZID=America/New_York:20240718T070000
DTEND;TZID=America/New_York:20240718T210000
DTSTAMP:20260423T185802
CREATED:20240118T172125Z
LAST-MODIFIED:20240424T161645Z
UID:10003704-1721286000-1721336400@newcumberlandpa.org
SUMMARY:Fairy Door Trail
DESCRIPTION:The 7th Annual Fairy Door Trail is set to begin June 10th! \nFollow the path of New Cumberland businesses to find the magical fairy doors and fill in the names of each resident fairy in the passport.
URL:https://newcumberlandpa.org/event/fairy-door-trail-4/2024-07-18/
LOCATION:New Cumberland\, New Cumberland\, PA\, 17070\, United States
CATEGORIES:Community
ORGANIZER;CN="New Cumberland Business & Profesional Group":MAILTO:communicationschairNC@gmail.com
END:VEVENT
BEGIN:VEVENT
DTSTART;TZID=America/New_York:20240717T070000
DTEND;TZID=America/New_York:20240717T210000
DTSTAMP:20260423T185802
CREATED:20240118T172125Z
LAST-MODIFIED:20240424T161645Z
UID:10003703-1721199600-1721250000@newcumberlandpa.org
SUMMARY:Fairy Door Trail
DESCRIPTION:The 7th Annual Fairy Door Trail is set to begin June 10th! \nFollow the path of New Cumberland businesses to find the magical fairy doors and fill in the names of each resident fairy in the passport.
URL:https://newcumberlandpa.org/event/fairy-door-trail-4/2024-07-17/
LOCATION:New Cumberland\, New Cumberland\, PA\, 17070\, United States
CATEGORIES:Community
ORGANIZER;CN="New Cumberland Business & Profesional Group":MAILTO:communicationschairNC@gmail.com
END:VEVENT
BEGIN:VEVENT
DTSTART;TZID=America/New_York:20240716T070000
DTEND;TZID=America/New_York:20240716T210000
DTSTAMP:20260423T185802
CREATED:20240118T172125Z
LAST-MODIFIED:20240424T161645Z
UID:10003702-1721113200-1721163600@newcumberlandpa.org
SUMMARY:Fairy Door Trail
DESCRIPTION:The 7th Annual Fairy Door Trail is set to begin June 10th! \nFollow the path of New Cumberland businesses to find the magical fairy doors and fill in the names of each resident fairy in the passport.
URL:https://newcumberlandpa.org/event/fairy-door-trail-4/2024-07-16/
LOCATION:New Cumberland\, New Cumberland\, PA\, 17070\, United States
CATEGORIES:Community
ORGANIZER;CN="New Cumberland Business & Profesional Group":MAILTO:communicationschairNC@gmail.com
END:VEVENT
END:VCALENDAR