BEGIN:VCALENDAR
VERSION:2.0
PRODID:-//New Cumberland B&amp;PG - ECPv6.15.17.1//NONSGML v1.0//EN
CALSCALE:GREGORIAN
METHOD:PUBLISH
X-ORIGINAL-URL:https://newcumberlandpa.org
X-WR-CALDESC:Events for New Cumberland B&amp;PG
REFRESH-INTERVAL;VALUE=DURATION:PT1H
X-Robots-Tag:noindex
X-PUBLISHED-TTL:PT1H
BEGIN:VTIMEZONE
TZID:America/New_York
BEGIN:DAYLIGHT
TZOFFSETFROM:-0500
TZOFFSETTO:-0400
TZNAME:EDT
DTSTART:20210314T070000
END:DAYLIGHT
BEGIN:STANDARD
TZOFFSETFROM:-0400
TZOFFSETTO:-0500
TZNAME:EST
DTSTART:20211107T060000
END:STANDARD
BEGIN:DAYLIGHT
TZOFFSETFROM:-0500
TZOFFSETTO:-0400
TZNAME:EDT
DTSTART:20220313T070000
END:DAYLIGHT
BEGIN:STANDARD
TZOFFSETFROM:-0400
TZOFFSETTO:-0500
TZNAME:EST
DTSTART:20221106T060000
END:STANDARD
BEGIN:DAYLIGHT
TZOFFSETFROM:-0500
TZOFFSETTO:-0400
TZNAME:EDT
DTSTART:20230312T070000
END:DAYLIGHT
BEGIN:STANDARD
TZOFFSETFROM:-0400
TZOFFSETTO:-0500
TZNAME:EST
DTSTART:20231105T060000
END:STANDARD
BEGIN:DAYLIGHT
TZOFFSETFROM:-0500
TZOFFSETTO:-0400
TZNAME:EDT
DTSTART:20240310T070000
END:DAYLIGHT
BEGIN:STANDARD
TZOFFSETFROM:-0400
TZOFFSETTO:-0500
TZNAME:EST
DTSTART:20241103T060000
END:STANDARD
END:VTIMEZONE
BEGIN:VEVENT
DTSTART;TZID=America/New_York:20231102T080000
DTEND;TZID=America/New_York:20231102T090000
DTSTAMP:20260424T014342
CREATED:20221026T154840Z
LAST-MODIFIED:20221026T154840Z
UID:10001987-1698912000-1698915600@newcumberlandpa.org
SUMMARY:B&PG Executive Team Meeting
DESCRIPTION:
URL:https://newcumberlandpa.org/event/bpg-executive-team-meeting/2023-11-02/
LOCATION:New Cumberland Fire Department\, 319 4th Street\, New Cumberland\, PA\, 17070\, United States
CATEGORIES:Meetings
ORGANIZER;CN="New Cumberland Business & Profesional Group":MAILTO:communicationschairNC@gmail.com
END:VEVENT
BEGIN:VEVENT
DTSTART;TZID=America/New_York:20231028T180000
DTEND;TZID=America/New_York:20231028T200000
DTSTAMP:20260424T014342
CREATED:20230920T145210Z
LAST-MODIFIED:20230920T145210Z
UID:10003569-1698516000-1698523200@newcumberlandpa.org
SUMMARY:NCFD Haunted House
DESCRIPTION:
URL:https://newcumberlandpa.org/event/ncfd-haunted-house/2023-10-28/
LOCATION:New Cumberland Fire Department\, 319 4th Street\, New Cumberland\, PA\, 17070\, United States
END:VEVENT
BEGIN:VEVENT
DTSTART;TZID=America/New_York:20231027T180000
DTEND;TZID=America/New_York:20231027T200000
DTSTAMP:20260424T014342
CREATED:20230920T145210Z
LAST-MODIFIED:20230920T145210Z
UID:10003568-1698429600-1698436800@newcumberlandpa.org
SUMMARY:NCFD Haunted House
DESCRIPTION:
URL:https://newcumberlandpa.org/event/ncfd-haunted-house/2023-10-27/
LOCATION:New Cumberland Fire Department\, 319 4th Street\, New Cumberland\, PA\, 17070\, United States
END:VEVENT
BEGIN:VEVENT
DTSTART;TZID=America/New_York:20231026T180000
DTEND;TZID=America/New_York:20231026T200000
DTSTAMP:20260424T014342
CREATED:20230920T145210Z
LAST-MODIFIED:20230920T145210Z
UID:10003567-1698343200-1698350400@newcumberlandpa.org
SUMMARY:NCFD Haunted House
DESCRIPTION:
URL:https://newcumberlandpa.org/event/ncfd-haunted-house/2023-10-26/
LOCATION:New Cumberland Fire Department\, 319 4th Street\, New Cumberland\, PA\, 17070\, United States
END:VEVENT
BEGIN:VEVENT
DTSTART;TZID=America/New_York:20231018T080000
DTEND;TZID=America/New_York:20231018T090000
DTSTAMP:20260424T014342
CREATED:20211213T210153Z
LAST-MODIFIED:20221026T153858Z
UID:10001322-1697616000-1697619600@newcumberlandpa.org
SUMMARY:B&PG Member Meeting
DESCRIPTION:
URL:https://newcumberlandpa.org/event/bpg-member-meeting-22/2023-10-18/
LOCATION:New Cumberland Fire Department\, 319 4th Street\, New Cumberland\, PA\, 17070\, United States
CATEGORIES:Meetings
ORGANIZER;CN="New Cumberland Business & Profesional Group":MAILTO:communicationschairNC@gmail.com
END:VEVENT
BEGIN:VEVENT
DTSTART;TZID=America/New_York:20231005T080000
DTEND;TZID=America/New_York:20231005T090000
DTSTAMP:20260424T014342
CREATED:20221026T154840Z
LAST-MODIFIED:20221026T154840Z
UID:10001986-1696492800-1696496400@newcumberlandpa.org
SUMMARY:B&PG Executive Team Meeting
DESCRIPTION:
URL:https://newcumberlandpa.org/event/bpg-executive-team-meeting/2023-10-05/
LOCATION:New Cumberland Fire Department\, 319 4th Street\, New Cumberland\, PA\, 17070\, United States
CATEGORIES:Meetings
ORGANIZER;CN="New Cumberland Business & Profesional Group":MAILTO:communicationschairNC@gmail.com
END:VEVENT
BEGIN:VEVENT
DTSTART;TZID=America/New_York:20230920T080000
DTEND;TZID=America/New_York:20230920T090000
DTSTAMP:20260424T014342
CREATED:20211213T210153Z
LAST-MODIFIED:20221026T153858Z
UID:10001321-1695196800-1695200400@newcumberlandpa.org
SUMMARY:B&PG Member Meeting
DESCRIPTION:
URL:https://newcumberlandpa.org/event/bpg-member-meeting-22/2023-09-20/
LOCATION:New Cumberland Fire Department\, 319 4th Street\, New Cumberland\, PA\, 17070\, United States
CATEGORIES:Meetings
ORGANIZER;CN="New Cumberland Business & Profesional Group":MAILTO:communicationschairNC@gmail.com
END:VEVENT
BEGIN:VEVENT
DTSTART;TZID=America/New_York:20230909T100000
DTEND;TZID=America/New_York:20230909T170000
DTSTAMP:20260424T014342
CREATED:20230616T152207Z
LAST-MODIFIED:20230616T152207Z
UID:10003546-1694253600-1694278800@newcumberlandpa.org
SUMMARY:Chicken BBQ
DESCRIPTION:Barbeque chicken\, baked potato\, apple sauce\, roll\, and butter. 10:00 a.m. until sell out. 
URL:https://newcumberlandpa.org/event/chicken-bbq-11/
LOCATION:New Cumberland Fire Department\, 319 4th Street\, New Cumberland\, PA\, 17070\, United States
END:VEVENT
BEGIN:VEVENT
DTSTART;TZID=America/New_York:20230907T080000
DTEND;TZID=America/New_York:20230907T090000
DTSTAMP:20260424T014342
CREATED:20221026T154840Z
LAST-MODIFIED:20221026T154840Z
UID:10001985-1694073600-1694077200@newcumberlandpa.org
SUMMARY:B&PG Executive Team Meeting
DESCRIPTION:
URL:https://newcumberlandpa.org/event/bpg-executive-team-meeting/2023-09-07/
LOCATION:New Cumberland Fire Department\, 319 4th Street\, New Cumberland\, PA\, 17070\, United States
CATEGORIES:Meetings
ORGANIZER;CN="New Cumberland Business & Profesional Group":MAILTO:communicationschairNC@gmail.com
END:VEVENT
BEGIN:VEVENT
DTSTART;TZID=America/New_York:20230816T080000
DTEND;TZID=America/New_York:20230816T090000
DTSTAMP:20260424T014342
CREATED:20211213T210153Z
LAST-MODIFIED:20221026T153858Z
UID:10001320-1692172800-1692176400@newcumberlandpa.org
SUMMARY:B&PG Member Meeting
DESCRIPTION:
URL:https://newcumberlandpa.org/event/bpg-member-meeting-22/2023-08-16/
LOCATION:New Cumberland Fire Department\, 319 4th Street\, New Cumberland\, PA\, 17070\, United States
CATEGORIES:Meetings
ORGANIZER;CN="New Cumberland Business & Profesional Group":MAILTO:communicationschairNC@gmail.com
END:VEVENT
BEGIN:VEVENT
DTSTART;TZID=America/New_York:20230803T080000
DTEND;TZID=America/New_York:20230803T090000
DTSTAMP:20260424T014342
CREATED:20221026T154840Z
LAST-MODIFIED:20221026T154840Z
UID:10001984-1691049600-1691053200@newcumberlandpa.org
SUMMARY:B&PG Executive Team Meeting
DESCRIPTION:
URL:https://newcumberlandpa.org/event/bpg-executive-team-meeting/2023-08-03/
LOCATION:New Cumberland Fire Department\, 319 4th Street\, New Cumberland\, PA\, 17070\, United States
CATEGORIES:Meetings
ORGANIZER;CN="New Cumberland Business & Profesional Group":MAILTO:communicationschairNC@gmail.com
END:VEVENT
BEGIN:VEVENT
DTSTART;TZID=America/New_York:20230719T080000
DTEND;TZID=America/New_York:20230719T090000
DTSTAMP:20260424T014342
CREATED:20211213T210153Z
LAST-MODIFIED:20221026T153858Z
UID:10001319-1689753600-1689757200@newcumberlandpa.org
SUMMARY:B&PG Member Meeting
DESCRIPTION:
URL:https://newcumberlandpa.org/event/bpg-member-meeting-22/2023-07-19/
LOCATION:New Cumberland Fire Department\, 319 4th Street\, New Cumberland\, PA\, 17070\, United States
CATEGORIES:Meetings
ORGANIZER;CN="New Cumberland Business & Profesional Group":MAILTO:communicationschairNC@gmail.com
END:VEVENT
BEGIN:VEVENT
DTSTART;TZID=America/New_York:20230706T080000
DTEND;TZID=America/New_York:20230706T090000
DTSTAMP:20260424T014342
CREATED:20221026T154840Z
LAST-MODIFIED:20221026T154840Z
UID:10001983-1688630400-1688634000@newcumberlandpa.org
SUMMARY:B&PG Executive Team Meeting
DESCRIPTION:
URL:https://newcumberlandpa.org/event/bpg-executive-team-meeting/2023-07-06/
LOCATION:New Cumberland Fire Department\, 319 4th Street\, New Cumberland\, PA\, 17070\, United States
CATEGORIES:Meetings
ORGANIZER;CN="New Cumberland Business & Profesional Group":MAILTO:communicationschairNC@gmail.com
END:VEVENT
BEGIN:VEVENT
DTSTART;TZID=America/New_York:20230701T100000
DTEND;TZID=America/New_York:20230701T170000
DTSTAMP:20260424T014342
CREATED:20230616T145821Z
LAST-MODIFIED:20230616T152223Z
UID:10003544-1688205600-1688230800@newcumberlandpa.org
SUMMARY:Chicken BBQ
DESCRIPTION:Barbeque chicken\, baked potato\, apple sauce\, roll\, and butter. 10:00 a.m. until sell out.
URL:https://newcumberlandpa.org/event/chicken-bbq-10/
LOCATION:New Cumberland Fire Department\, 319 4th Street\, New Cumberland\, PA\, 17070\, United States
END:VEVENT
BEGIN:VEVENT
DTSTART;TZID=America/New_York:20230621T080000
DTEND;TZID=America/New_York:20230621T090000
DTSTAMP:20260424T014342
CREATED:20211213T210153Z
LAST-MODIFIED:20221026T153858Z
UID:10001318-1687334400-1687338000@newcumberlandpa.org
SUMMARY:B&PG Member Meeting
DESCRIPTION:
URL:https://newcumberlandpa.org/event/bpg-member-meeting-22/2023-06-21/
LOCATION:New Cumberland Fire Department\, 319 4th Street\, New Cumberland\, PA\, 17070\, United States
CATEGORIES:Meetings
ORGANIZER;CN="New Cumberland Business & Profesional Group":MAILTO:communicationschairNC@gmail.com
END:VEVENT
BEGIN:VEVENT
DTSTART;TZID=America/New_York:20230601T080000
DTEND;TZID=America/New_York:20230601T090000
DTSTAMP:20260424T014342
CREATED:20221026T154840Z
LAST-MODIFIED:20221026T154840Z
UID:10001982-1685606400-1685610000@newcumberlandpa.org
SUMMARY:B&PG Executive Team Meeting
DESCRIPTION:
URL:https://newcumberlandpa.org/event/bpg-executive-team-meeting/2023-06-01/
LOCATION:New Cumberland Fire Department\, 319 4th Street\, New Cumberland\, PA\, 17070\, United States
CATEGORIES:Meetings
ORGANIZER;CN="New Cumberland Business & Profesional Group":MAILTO:communicationschairNC@gmail.com
END:VEVENT
BEGIN:VEVENT
DTSTART;TZID=America/New_York:20230517T080000
DTEND;TZID=America/New_York:20230517T090000
DTSTAMP:20260424T014342
CREATED:20211213T210153Z
LAST-MODIFIED:20221026T153858Z
UID:10001317-1684310400-1684314000@newcumberlandpa.org
SUMMARY:B&PG Member Meeting
DESCRIPTION:
URL:https://newcumberlandpa.org/event/bpg-member-meeting-22/2023-05-17/
LOCATION:New Cumberland Fire Department\, 319 4th Street\, New Cumberland\, PA\, 17070\, United States
CATEGORIES:Meetings
ORGANIZER;CN="New Cumberland Business & Profesional Group":MAILTO:communicationschairNC@gmail.com
END:VEVENT
BEGIN:VEVENT
DTSTART;TZID=America/New_York:20230504T080000
DTEND;TZID=America/New_York:20230504T090000
DTSTAMP:20260424T014342
CREATED:20221026T154840Z
LAST-MODIFIED:20221026T154840Z
UID:10001981-1683187200-1683190800@newcumberlandpa.org
SUMMARY:B&PG Executive Team Meeting
DESCRIPTION:
URL:https://newcumberlandpa.org/event/bpg-executive-team-meeting/2023-05-04/
LOCATION:New Cumberland Fire Department\, 319 4th Street\, New Cumberland\, PA\, 17070\, United States
CATEGORIES:Meetings
ORGANIZER;CN="New Cumberland Business & Profesional Group":MAILTO:communicationschairNC@gmail.com
END:VEVENT
BEGIN:VEVENT
DTSTART;TZID=America/New_York:20230419T080000
DTEND;TZID=America/New_York:20230419T090000
DTSTAMP:20260424T014342
CREATED:20211213T210153Z
LAST-MODIFIED:20221026T153858Z
UID:10001316-1681891200-1681894800@newcumberlandpa.org
SUMMARY:B&PG Member Meeting
DESCRIPTION:
URL:https://newcumberlandpa.org/event/bpg-member-meeting-22/2023-04-19/
LOCATION:New Cumberland Fire Department\, 319 4th Street\, New Cumberland\, PA\, 17070\, United States
CATEGORIES:Meetings
ORGANIZER;CN="New Cumberland Business & Profesional Group":MAILTO:communicationschairNC@gmail.com
END:VEVENT
BEGIN:VEVENT
DTSTART;TZID=America/New_York:20230406T080000
DTEND;TZID=America/New_York:20230406T090000
DTSTAMP:20260424T014342
CREATED:20221026T154840Z
LAST-MODIFIED:20221026T154840Z
UID:10001980-1680768000-1680771600@newcumberlandpa.org
SUMMARY:B&PG Executive Team Meeting
DESCRIPTION:
URL:https://newcumberlandpa.org/event/bpg-executive-team-meeting/2023-04-06/
LOCATION:New Cumberland Fire Department\, 319 4th Street\, New Cumberland\, PA\, 17070\, United States
CATEGORIES:Meetings
ORGANIZER;CN="New Cumberland Business & Profesional Group":MAILTO:communicationschairNC@gmail.com
END:VEVENT
BEGIN:VEVENT
DTSTART;TZID=America/New_York:20230315T080000
DTEND;TZID=America/New_York:20230315T090000
DTSTAMP:20260424T014342
CREATED:20211213T210153Z
LAST-MODIFIED:20221026T153858Z
UID:10001315-1678867200-1678870800@newcumberlandpa.org
SUMMARY:B&PG Member Meeting
DESCRIPTION:
URL:https://newcumberlandpa.org/event/bpg-member-meeting-22/2023-03-15/
LOCATION:New Cumberland Fire Department\, 319 4th Street\, New Cumberland\, PA\, 17070\, United States
CATEGORIES:Meetings
ORGANIZER;CN="New Cumberland Business & Profesional Group":MAILTO:communicationschairNC@gmail.com
END:VEVENT
BEGIN:VEVENT
DTSTART;TZID=America/New_York:20230302T080000
DTEND;TZID=America/New_York:20230302T090000
DTSTAMP:20260424T014342
CREATED:20221026T154840Z
LAST-MODIFIED:20221026T154840Z
UID:10001979-1677744000-1677747600@newcumberlandpa.org
SUMMARY:B&PG Executive Team Meeting
DESCRIPTION:
URL:https://newcumberlandpa.org/event/bpg-executive-team-meeting/2023-03-02/
LOCATION:New Cumberland Fire Department\, 319 4th Street\, New Cumberland\, PA\, 17070\, United States
CATEGORIES:Meetings
ORGANIZER;CN="New Cumberland Business & Profesional Group":MAILTO:communicationschairNC@gmail.com
END:VEVENT
BEGIN:VEVENT
DTSTART;TZID=America/New_York:20230215T080000
DTEND;TZID=America/New_York:20230215T090000
DTSTAMP:20260424T014342
CREATED:20211213T210153Z
LAST-MODIFIED:20221026T153858Z
UID:10001314-1676448000-1676451600@newcumberlandpa.org
SUMMARY:B&PG Member Meeting
DESCRIPTION:
URL:https://newcumberlandpa.org/event/bpg-member-meeting-22/2023-02-15/
LOCATION:New Cumberland Fire Department\, 319 4th Street\, New Cumberland\, PA\, 17070\, United States
CATEGORIES:Meetings
ORGANIZER;CN="New Cumberland Business & Profesional Group":MAILTO:communicationschairNC@gmail.com
END:VEVENT
BEGIN:VEVENT
DTSTART;TZID=America/New_York:20230202T080000
DTEND;TZID=America/New_York:20230202T090000
DTSTAMP:20260424T014342
CREATED:20221026T154840Z
LAST-MODIFIED:20221026T154840Z
UID:10001978-1675324800-1675328400@newcumberlandpa.org
SUMMARY:B&PG Executive Team Meeting
DESCRIPTION:
URL:https://newcumberlandpa.org/event/bpg-executive-team-meeting/2023-02-02/
LOCATION:New Cumberland Fire Department\, 319 4th Street\, New Cumberland\, PA\, 17070\, United States
CATEGORIES:Meetings
ORGANIZER;CN="New Cumberland Business & Profesional Group":MAILTO:communicationschairNC@gmail.com
END:VEVENT
BEGIN:VEVENT
DTSTART;TZID=America/New_York:20230118T080000
DTEND;TZID=America/New_York:20230118T090000
DTSTAMP:20260424T014342
CREATED:20211213T210153Z
LAST-MODIFIED:20221026T153858Z
UID:10001313-1674028800-1674032400@newcumberlandpa.org
SUMMARY:B&PG Member Meeting
DESCRIPTION:
URL:https://newcumberlandpa.org/event/bpg-member-meeting-22/2023-01-18/
LOCATION:New Cumberland Fire Department\, 319 4th Street\, New Cumberland\, PA\, 17070\, United States
CATEGORIES:Meetings
ORGANIZER;CN="New Cumberland Business & Profesional Group":MAILTO:communicationschairNC@gmail.com
END:VEVENT
BEGIN:VEVENT
DTSTART;TZID=America/New_York:20230105T080000
DTEND;TZID=America/New_York:20230105T090000
DTSTAMP:20260424T014342
CREATED:20221026T154840Z
LAST-MODIFIED:20221026T154840Z
UID:10001977-1672905600-1672909200@newcumberlandpa.org
SUMMARY:B&PG Executive Team Meeting
DESCRIPTION:
URL:https://newcumberlandpa.org/event/bpg-executive-team-meeting/2023-01-05/
LOCATION:New Cumberland Fire Department\, 319 4th Street\, New Cumberland\, PA\, 17070\, United States
CATEGORIES:Meetings
ORGANIZER;CN="New Cumberland Business & Profesional Group":MAILTO:communicationschairNC@gmail.com
END:VEVENT
BEGIN:VEVENT
DTSTART;TZID=America/New_York:20221221T080000
DTEND;TZID=America/New_York:20221221T090000
DTSTAMP:20260424T014342
CREATED:20211213T210153Z
LAST-MODIFIED:20221026T153858Z
UID:10001312-1671609600-1671613200@newcumberlandpa.org
SUMMARY:B&PG Member Meeting
DESCRIPTION:
URL:https://newcumberlandpa.org/event/bpg-member-meeting-22/2022-12-21/
LOCATION:New Cumberland Fire Department\, 319 4th Street\, New Cumberland\, PA\, 17070\, United States
CATEGORIES:Meetings
ORGANIZER;CN="New Cumberland Business & Profesional Group":MAILTO:communicationschairNC@gmail.com
END:VEVENT
BEGIN:VEVENT
DTSTART;TZID=America/New_York:20221201T080000
DTEND;TZID=America/New_York:20221201T090000
DTSTAMP:20260424T014342
CREATED:20221026T154840Z
LAST-MODIFIED:20221026T154840Z
UID:10001976-1669881600-1669885200@newcumberlandpa.org
SUMMARY:B&PG Executive Team Meeting
DESCRIPTION:
URL:https://newcumberlandpa.org/event/bpg-executive-team-meeting/2022-12-01/
LOCATION:New Cumberland Fire Department\, 319 4th Street\, New Cumberland\, PA\, 17070\, United States
CATEGORIES:Meetings
ORGANIZER;CN="New Cumberland Business & Profesional Group":MAILTO:communicationschairNC@gmail.com
END:VEVENT
BEGIN:VEVENT
DTSTART;TZID=America/New_York:20221116T080000
DTEND;TZID=America/New_York:20221116T090000
DTSTAMP:20260424T014342
CREATED:20211213T210153Z
LAST-MODIFIED:20221026T153858Z
UID:10001311-1668585600-1668589200@newcumberlandpa.org
SUMMARY:B&PG Member Meeting
DESCRIPTION:
URL:https://newcumberlandpa.org/event/bpg-member-meeting-22/2022-11-16/
LOCATION:New Cumberland Fire Department\, 319 4th Street\, New Cumberland\, PA\, 17070\, United States
CATEGORIES:Meetings
ORGANIZER;CN="New Cumberland Business & Profesional Group":MAILTO:communicationschairNC@gmail.com
END:VEVENT
BEGIN:VEVENT
DTSTART;TZID=America/New_York:20221103T080000
DTEND;TZID=America/New_York:20221103T090000
DTSTAMP:20260424T014342
CREATED:20221026T154840Z
LAST-MODIFIED:20221026T154840Z
UID:10001975-1667462400-1667466000@newcumberlandpa.org
SUMMARY:B&PG Executive Team Meeting
DESCRIPTION:
URL:https://newcumberlandpa.org/event/bpg-executive-team-meeting/2022-11-03/
LOCATION:New Cumberland Fire Department\, 319 4th Street\, New Cumberland\, PA\, 17070\, United States
CATEGORIES:Meetings
ORGANIZER;CN="New Cumberland Business & Profesional Group":MAILTO:communicationschairNC@gmail.com
END:VEVENT
END:VCALENDAR