BEGIN:VCALENDAR
VERSION:2.0
PRODID:-//New Cumberland B&amp;PG - ECPv6.15.17.1//NONSGML v1.0//EN
CALSCALE:GREGORIAN
METHOD:PUBLISH
X-WR-CALNAME:New Cumberland B&amp;PG
X-ORIGINAL-URL:https://newcumberlandpa.org
X-WR-CALDESC:Events for New Cumberland B&amp;PG
REFRESH-INTERVAL;VALUE=DURATION:PT1H
X-Robots-Tag:noindex
X-PUBLISHED-TTL:PT1H
BEGIN:VTIMEZONE
TZID:America/New_York
BEGIN:DAYLIGHT
TZOFFSETFROM:-0500
TZOFFSETTO:-0400
TZNAME:EDT
DTSTART:20180311T070000
END:DAYLIGHT
BEGIN:STANDARD
TZOFFSETFROM:-0400
TZOFFSETTO:-0500
TZNAME:EST
DTSTART:20181104T060000
END:STANDARD
BEGIN:DAYLIGHT
TZOFFSETFROM:-0500
TZOFFSETTO:-0400
TZNAME:EDT
DTSTART:20190310T070000
END:DAYLIGHT
BEGIN:STANDARD
TZOFFSETFROM:-0400
TZOFFSETTO:-0500
TZNAME:EST
DTSTART:20191103T060000
END:STANDARD
BEGIN:DAYLIGHT
TZOFFSETFROM:-0500
TZOFFSETTO:-0400
TZNAME:EDT
DTSTART:20200308T070000
END:DAYLIGHT
BEGIN:STANDARD
TZOFFSETFROM:-0400
TZOFFSETTO:-0500
TZNAME:EST
DTSTART:20201101T060000
END:STANDARD
BEGIN:DAYLIGHT
TZOFFSETFROM:-0500
TZOFFSETTO:-0400
TZNAME:EDT
DTSTART:20210314T070000
END:DAYLIGHT
BEGIN:STANDARD
TZOFFSETFROM:-0400
TZOFFSETTO:-0500
TZNAME:EST
DTSTART:20211107T060000
END:STANDARD
BEGIN:DAYLIGHT
TZOFFSETFROM:-0500
TZOFFSETTO:-0400
TZNAME:EDT
DTSTART:20220313T070000
END:DAYLIGHT
BEGIN:STANDARD
TZOFFSETFROM:-0400
TZOFFSETTO:-0500
TZNAME:EST
DTSTART:20221106T060000
END:STANDARD
END:VTIMEZONE
BEGIN:VEVENT
DTSTART;TZID=America/New_York:20210508T110000
DTEND;TZID=America/New_York:20210508T170000
DTSTAMP:20260424T115544
CREATED:20210402T212922Z
LAST-MODIFIED:20210402T212922Z
UID:10001163-1620471600-1620493200@newcumberlandpa.org
SUMMARY:Chicken BBQ
DESCRIPTION:Barbeque chicken\, baked potato\, apple sauce\, roll\, and butter. This will be a drive-by or walk thru fundraising event. There will be no onsite dining allowed. 11:00 a.m. until sell out. $10.00
URL:https://newcumberlandpa.org/event/chicken-bbq-6/
LOCATION:New Cumberland Fire Department\, 319 4th Street\, New Cumberland\, PA\, 17070\, United States
CATEGORIES:Community,Fundraiser
ATTACH;FMTTYPE=image/jpeg:https://newcumberlandpa.org/wp-content/uploads/2020/03/NCFD10-Web-Banner.jpg
END:VEVENT
BEGIN:VEVENT
DTSTART;TZID=America/New_York:20210506T080000
DTEND;TZID=America/New_York:20210506T090000
DTSTAMP:20260424T115544
CREATED:20210419T143502Z
LAST-MODIFIED:20210419T143502Z
UID:10001170-1620288000-1620291600@newcumberlandpa.org
SUMMARY:B&PG Board Meeting
DESCRIPTION:
URL:https://newcumberlandpa.org/event/bpg-board-meeting-8/
LOCATION:New Cumberland Fire Department\, 319 4th Street\, New Cumberland\, PA\, 17070\, United States
CATEGORIES:Meetings
ORGANIZER;CN="New Cumberland Business & Profesional Group":MAILTO:communicationschairNC@gmail.com
END:VEVENT
BEGIN:VEVENT
DTSTART;TZID=America/New_York:20210421T080000
DTEND;TZID=America/New_York:20210421T090000
DTSTAMP:20260424T115544
CREATED:20210315T160647Z
LAST-MODIFIED:20210315T160647Z
UID:10001162-1618992000-1618995600@newcumberlandpa.org
SUMMARY:B&PG Member Meeting
DESCRIPTION:
URL:https://newcumberlandpa.org/event/bpg-member-meeting-13/
LOCATION:New Cumberland Fire Department\, 319 4th Street\, New Cumberland\, PA\, 17070\, United States
CATEGORIES:Meetings
ORGANIZER;CN="New Cumberland Business & Profesional Group":MAILTO:communicationschairNC@gmail.com
END:VEVENT
BEGIN:VEVENT
DTSTART;TZID=America/New_York:20210401T080000
DTEND;TZID=America/New_York:20210401T090000
DTSTAMP:20260424T115544
CREATED:20210315T160520Z
LAST-MODIFIED:20210315T160520Z
UID:10001160-1617264000-1617267600@newcumberlandpa.org
SUMMARY:B&PG Board Meeting
DESCRIPTION:
URL:https://newcumberlandpa.org/event/bpg-board-meeting-7/
LOCATION:New Cumberland Fire Department\, 319 4th Street\, New Cumberland\, PA\, 17070\, United States
CATEGORIES:Meetings
ORGANIZER;CN="New Cumberland Business & Profesional Group":MAILTO:communicationschairNC@gmail.com
END:VEVENT
BEGIN:VEVENT
DTSTART;TZID=America/New_York:20210317T080000
DTEND;TZID=America/New_York:20210317T090000
DTSTAMP:20260424T115544
CREATED:20210217T211013Z
LAST-MODIFIED:20210315T160144Z
UID:10001151-1615968000-1615971600@newcumberlandpa.org
SUMMARY:B&PG Member Meeting
DESCRIPTION:Our special guest speaker will be Colonel Trent Conner (Base Commander of DLA Distribution East; https://www.dla.mil/Distribution/Locations/Susquehanna.aspx). The subject of Col Conner’s presentation will be: “What Happens Behind the Gate”. We all wonder what they actually do there at the base\, and Col. Conner will aim to shed some light on this. There will be time for Q&A at the end of Col. Conner’s presentation.\n \nWe highly encourage you to attend this session. In the interest of enhancing our commercial and civic community\, the B&PG looks to foster solid relationships with our neighbors\, and clearly “the Base” is one of our neighbors\, and for that reason we hope you can attend.
URL:https://newcumberlandpa.org/event/bpg-member-meeting-12/
LOCATION:New Cumberland Fire Department\, 319 4th Street\, New Cumberland\, PA\, 17070\, United States
CATEGORIES:Meetings
ORGANIZER;CN="New Cumberland Business & Profesional Group":MAILTO:communicationschairNC@gmail.com
END:VEVENT
BEGIN:VEVENT
DTSTART;TZID=America/New_York:20210304T080000
DTEND;TZID=America/New_York:20210304T090000
DTSTAMP:20260424T115544
CREATED:20210217T210942Z
LAST-MODIFIED:20210217T210942Z
UID:10001150-1614844800-1614848400@newcumberlandpa.org
SUMMARY:B&PG Board Meeting
DESCRIPTION:
URL:https://newcumberlandpa.org/event/bpg-board-meeting-6/
LOCATION:New Cumberland Fire Department\, 319 4th Street\, New Cumberland\, PA\, 17070\, United States
CATEGORIES:Meetings
ORGANIZER;CN="New Cumberland Business & Profesional Group":MAILTO:communicationschairNC@gmail.com
END:VEVENT
BEGIN:VEVENT
DTSTART;TZID=America/New_York:20210217T080000
DTEND;TZID=America/New_York:20210217T090000
DTSTAMP:20260424T115544
CREATED:20210115T154741Z
LAST-MODIFIED:20210115T154741Z
UID:10001128-1613548800-1613552400@newcumberlandpa.org
SUMMARY:B&PG Member Meeting
DESCRIPTION:
URL:https://newcumberlandpa.org/event/bpg-member-meeting-11/
LOCATION:New Cumberland Fire Department\, 319 4th Street\, New Cumberland\, PA\, 17070\, United States
CATEGORIES:Meetings
ORGANIZER;CN="New Cumberland Business & Profesional Group":MAILTO:communicationschairNC@gmail.com
END:VEVENT
BEGIN:VEVENT
DTSTART;TZID=America/New_York:20210204T080000
DTEND;TZID=America/New_York:20210204T090000
DTSTAMP:20260424T115544
CREATED:20210115T154717Z
LAST-MODIFIED:20210115T154717Z
UID:10001127-1612425600-1612429200@newcumberlandpa.org
SUMMARY:B&PG Board Meeting
DESCRIPTION:
URL:https://newcumberlandpa.org/event/bpg-board-meeting-5/
LOCATION:New Cumberland Fire Department\, 319 4th Street\, New Cumberland\, PA\, 17070\, United States
CATEGORIES:Meetings
ORGANIZER;CN="New Cumberland Business & Profesional Group":MAILTO:communicationschairNC@gmail.com
END:VEVENT
BEGIN:VEVENT
DTSTART;TZID=America/New_York:20210120T080000
DTEND;TZID=America/New_York:20210120T090000
DTSTAMP:20260424T115544
CREATED:20201201T221452Z
LAST-MODIFIED:20201201T221452Z
UID:10001119-1611129600-1611133200@newcumberlandpa.org
SUMMARY:B&PG Member Meeting
DESCRIPTION:
URL:https://newcumberlandpa.org/event/bpg-member-meeting-10/
LOCATION:New Cumberland Fire Department\, 319 4th Street\, New Cumberland\, PA\, 17070\, United States
CATEGORIES:Meetings
ORGANIZER;CN="New Cumberland Business & Profesional Group":MAILTO:communicationschairNC@gmail.com
END:VEVENT
BEGIN:VEVENT
DTSTART;TZID=America/New_York:20210107T080000
DTEND;TZID=America/New_York:20210107T090000
DTSTAMP:20260424T115544
CREATED:20201201T221421Z
LAST-MODIFIED:20201201T221421Z
UID:10001118-1610006400-1610010000@newcumberlandpa.org
SUMMARY:B&PG Board Meeting
DESCRIPTION:
URL:https://newcumberlandpa.org/event/bpg-board-meeting-4/
LOCATION:New Cumberland Fire Department\, 319 4th Street\, New Cumberland\, PA\, 17070\, United States
CATEGORIES:Meetings
ORGANIZER;CN="New Cumberland Business & Profesional Group":MAILTO:communicationschairNC@gmail.com
END:VEVENT
BEGIN:VEVENT
DTSTART;TZID=America/New_York:20201220T130000
DTEND;TZID=America/New_York:20201220T160000
DTSTAMP:20260424T115544
CREATED:20201201T215601Z
LAST-MODIFIED:20201201T215601Z
UID:10001109-1608469200-1608480000@newcumberlandpa.org
SUMMARY:Drive-Thru Santa Visits
DESCRIPTION:Santa will be visiting the New Cumberland Fire Department on Sunday\, December 6\, 13\, and 20 from 1–4 p.m. Treats provided!
URL:https://newcumberlandpa.org/event/drive-thru-santa-visits-3/
LOCATION:New Cumberland Fire Department\, 319 4th Street\, New Cumberland\, PA\, 17070\, United States
CATEGORIES:Community
END:VEVENT
BEGIN:VEVENT
DTSTART;TZID=America/New_York:20201213T130000
DTEND;TZID=America/New_York:20201213T160000
DTSTAMP:20260424T115544
CREATED:20201201T215541Z
LAST-MODIFIED:20201201T215541Z
UID:10001108-1607864400-1607875200@newcumberlandpa.org
SUMMARY:Drive-Thru Santa Visits
DESCRIPTION:Santa will be visiting the New Cumberland Fire Department on Sunday\, December 6\, 13\, and 20 from 1–4 p.m. Treats provided!
URL:https://newcumberlandpa.org/event/drive-thru-santa-visits-2/
LOCATION:New Cumberland Fire Department\, 319 4th Street\, New Cumberland\, PA\, 17070\, United States
CATEGORIES:Community
END:VEVENT
BEGIN:VEVENT
DTSTART;TZID=America/New_York:20201206T130000
DTEND;TZID=America/New_York:20201206T160000
DTSTAMP:20260424T115544
CREATED:20201201T215511Z
LAST-MODIFIED:20201201T215520Z
UID:10001107-1607259600-1607270400@newcumberlandpa.org
SUMMARY:Drive-Thru Santa Visits
DESCRIPTION:Santa will be visiting the New Cumberland Fire Department on Sunday\, December 6\, 13\, and 20 from 1–4 p.m. Treats provided!
URL:https://newcumberlandpa.org/event/drive-thru-santa-visits/
LOCATION:New Cumberland Fire Department\, 319 4th Street\, New Cumberland\, PA\, 17070\, United States
CATEGORIES:Community
END:VEVENT
BEGIN:VEVENT
DTSTART;TZID=America/New_York:20201203T080000
DTEND;TZID=America/New_York:20201203T090000
DTSTAMP:20260424T115544
CREATED:20201201T220040Z
LAST-MODIFIED:20201201T220040Z
UID:10001111-1606982400-1606986000@newcumberlandpa.org
SUMMARY:B&PG Board Meeting
DESCRIPTION:
URL:https://newcumberlandpa.org/event/bpg-board-meeting-3/
LOCATION:New Cumberland Fire Department\, 319 4th Street\, New Cumberland\, PA\, 17070\, United States
CATEGORIES:Meetings
ORGANIZER;CN="New Cumberland Business & Profesional Group":MAILTO:communicationschairNC@gmail.com
END:VEVENT
BEGIN:VEVENT
DTSTART;TZID=America/New_York:20201118T080000
DTEND;TZID=America/New_York:20201118T090000
DTSTAMP:20260424T115544
CREATED:20201027T131358Z
LAST-MODIFIED:20201027T131358Z
UID:10001104-1605686400-1605690000@newcumberlandpa.org
SUMMARY:B&PG Member Meeting
DESCRIPTION:
URL:https://newcumberlandpa.org/event/bpg-member-meeting-9/
LOCATION:New Cumberland Fire Department\, 319 4th Street\, New Cumberland\, PA\, 17070\, United States
CATEGORIES:Meetings
ORGANIZER;CN="New Cumberland Business & Profesional Group":MAILTO:communicationschairNC@gmail.com
END:VEVENT
BEGIN:VEVENT
DTSTART;TZID=America/New_York:20201105T080000
DTEND;TZID=America/New_York:20201105T090000
DTSTAMP:20260424T115544
CREATED:20201027T131513Z
LAST-MODIFIED:20201027T131513Z
UID:10001105-1604563200-1604566800@newcumberlandpa.org
SUMMARY:B&PG Board Meeting
DESCRIPTION:
URL:https://newcumberlandpa.org/event/bpg-board-meeting-2/
LOCATION:New Cumberland Fire Department\, 319 4th Street\, New Cumberland\, PA\, 17070\, United States
CATEGORIES:Meetings
ORGANIZER;CN="New Cumberland Business & Profesional Group":MAILTO:communicationschairNC@gmail.com
END:VEVENT
BEGIN:VEVENT
DTSTART;TZID=America/New_York:20201017T110000
DTEND;TZID=America/New_York:20201017T170000
DTSTAMP:20260424T115544
CREATED:20201008T212548Z
LAST-MODIFIED:20201008T212548Z
UID:10001101-1602932400-1602954000@newcumberlandpa.org
SUMMARY:Chicken BBQ
DESCRIPTION:Barbeque chicken\, baked potato\, apple sauce\, roll\, and butter. This will be a drive-by or walk thru fundraising event. There will be no onsite dining allowed. 11:00 a.m. until sell out. $10.00
URL:https://newcumberlandpa.org/event/chicken-bbq-5/
LOCATION:New Cumberland Fire Department\, 319 4th Street\, New Cumberland\, PA\, 17070\, United States
CATEGORIES:Community,Fundraiser
ATTACH;FMTTYPE=image/jpeg:https://newcumberlandpa.org/wp-content/uploads/2020/03/NCFD10-Web-Banner.jpg
END:VEVENT
BEGIN:VEVENT
DTSTART;TZID=America/New_York:20200920T110000
DTEND;TZID=America/New_York:20200920T140000
DTSTAMP:20260424T115544
CREATED:20200308T180833Z
LAST-MODIFIED:20200308T180833Z
UID:10001064-1600599600-1600610400@newcumberlandpa.org
SUMMARY:Roast Beef Dinner
DESCRIPTION:
URL:https://newcumberlandpa.org/event/roast-beef-dinner/
LOCATION:New Cumberland Fire Department\, 319 4th Street\, New Cumberland\, PA\, 17070\, United States
ATTACH;FMTTYPE=image/jpeg:https://newcumberlandpa.org/wp-content/uploads/2020/03/NCFD10-Web-Banner.jpg
END:VEVENT
BEGIN:VEVENT
DTSTART;TZID=America/New_York:20200822T110000
DTEND;TZID=America/New_York:20200822T170000
DTSTAMP:20260424T115544
CREATED:20200729T125310Z
LAST-MODIFIED:20200729T125310Z
UID:10001081-1598094000-1598115600@newcumberlandpa.org
SUMMARY:Chicken BBQ
DESCRIPTION:Barbeque chicken\, baked potato\, and apple sauce. This will be a drive-by or walk thru fundraising event. There will be no onsite dining allowed. 11:00 a.m. until sell out.
URL:https://newcumberlandpa.org/event/chicken-bbq-4/
LOCATION:New Cumberland Fire Department\, 319 4th Street\, New Cumberland\, PA\, 17070\, United States
CATEGORIES:Community,Fundraiser
ATTACH;FMTTYPE=image/jpeg:https://newcumberlandpa.org/wp-content/uploads/2020/03/NCFD10-Web-Banner.jpg
END:VEVENT
BEGIN:VEVENT
DTSTART;TZID=America/New_York:20200718T110000
DTEND;TZID=America/New_York:20200718T170000
DTSTAMP:20260424T115544
CREATED:20200702T150941Z
LAST-MODIFIED:20200702T150942Z
UID:10001077-1595070000-1595091600@newcumberlandpa.org
SUMMARY:Chicken BBQ
DESCRIPTION:Barbeque chicken\, baked potato\, and apple sauce. This will be a drive-by or walk thru fundraising event. There will be no onsite dining allowed. 11:00 a.m. until sell out.
URL:https://newcumberlandpa.org/event/chicken-bbq-3/
LOCATION:New Cumberland Fire Department\, 319 4th Street\, New Cumberland\, PA\, 17070\, United States
CATEGORIES:Community,Fundraiser
ATTACH;FMTTYPE=image/jpeg:https://newcumberlandpa.org/wp-content/uploads/2020/03/NCFD10-Web-Banner.jpg
END:VEVENT
BEGIN:VEVENT
DTSTART;TZID=America/New_York:20200219T080000
DTEND;TZID=America/New_York:20200219T090000
DTSTAMP:20260424T115544
CREATED:20191219T220807Z
LAST-MODIFIED:20191219T220807Z
UID:10001008-1582099200-1582102800@newcumberlandpa.org
SUMMARY:B&PG Member Meeting
DESCRIPTION:
URL:https://newcumberlandpa.org/event/bpg-member-meeting-3/
LOCATION:New Cumberland Fire Department\, 319 4th Street\, New Cumberland\, PA\, 17070\, United States
ORGANIZER;CN="New Cumberland Business & Profesional Group":MAILTO:communicationschairNC@gmail.com
END:VEVENT
BEGIN:VEVENT
DTSTART;TZID=America/New_York:20200204T183000
DTEND;TZID=America/New_York:20200204T200000
DTSTAMP:20260424T115544
CREATED:20200113T160246Z
LAST-MODIFIED:20200113T161001Z
UID:10001022-1580841000-1580846400@newcumberlandpa.org
SUMMARY:New Cumberland Revitalization Meeting
DESCRIPTION:We will cover the following subjects: \n• Review of revitalization program goals and objectives \n• Review of strategic plan \n• Summary report from each of the (5) revitalization committees \n• Updates on the following projects:\n– West Shore Theater\n– Hillside Park Project\n– Community Garden \n• Special guest speakers\n– Holly Dekarskie\, Executive Director\, Venture Lititz\n– Honorable Rick Vilello\, Deputy Secretary for Community Affairs & Development\, PA DCED \nPlease regard this meeting as an opportunity for you to become both informed about all the good things taking place in New Cumberland\, and to get involved. Questions will be welcomed.
URL:https://newcumberlandpa.org/event/new-cumberland-revitalization-meeting/
LOCATION:New Cumberland Fire Department\, 319 4th Street\, New Cumberland\, PA\, 17070\, United States
ORGANIZER;CN="New Cumberland Revitalization Team":MAILTO:dkibler4newcumb@gmail.com
END:VEVENT
BEGIN:VEVENT
DTSTART;TZID=America/New_York:20200115T080000
DTEND;TZID=America/New_York:20200115T090000
DTSTAMP:20260424T115544
CREATED:20191219T220333Z
LAST-MODIFIED:20191219T220333Z
UID:10001005-1579075200-1579078800@newcumberlandpa.org
SUMMARY:B&PG Member Meeting
DESCRIPTION:
URL:https://newcumberlandpa.org/event/bpg-member-meeting-2/
LOCATION:New Cumberland Fire Department\, 319 4th Street\, New Cumberland\, PA\, 17070\, United States
ORGANIZER;CN="New Cumberland Business & Profesional Group":MAILTO:communicationschairNC@gmail.com
END:VEVENT
BEGIN:VEVENT
DTSTART;TZID=America/New_York:20200102T080000
DTEND;TZID=America/New_York:20200102T090000
DTSTAMP:20260424T115544
CREATED:20191219T220915Z
LAST-MODIFIED:20191219T220915Z
UID:10001009-1577952000-1577955600@newcumberlandpa.org
SUMMARY:B&PG Executive Meeting
DESCRIPTION:
URL:https://newcumberlandpa.org/event/bpg-executive-meeting-2/
LOCATION:New Cumberland Fire Department\, 319 4th Street\, New Cumberland\, PA\, 17070\, United States
ORGANIZER;CN="New Cumberland Business & Profesional Group":MAILTO:communicationschairNC@gmail.com
END:VEVENT
BEGIN:VEVENT
DTSTART;TZID=America/New_York:20191218T080000
DTEND;TZID=America/New_York:20191218T090000
DTSTAMP:20260424T115544
CREATED:20191203T161318Z
LAST-MODIFIED:20191203T162109Z
UID:10001001-1576656000-1576659600@newcumberlandpa.org
SUMMARY:B&PG Member Meeting
DESCRIPTION:
URL:https://newcumberlandpa.org/event/bpg-monthly-meeting/
LOCATION:New Cumberland Fire Department\, 319 4th Street\, New Cumberland\, PA\, 17070\, United States
ORGANIZER;CN="New Cumberland Business & Profesional Group":MAILTO:communicationschairNC@gmail.com
END:VEVENT
BEGIN:VEVENT
DTSTART;TZID=America/New_York:20191214T080000
DTEND;TZID=America/New_York:20191214T110000
DTSTAMP:20260424T115544
CREATED:20191203T163217Z
LAST-MODIFIED:20191203T163217Z
UID:10001003-1576310400-1576321200@newcumberlandpa.org
SUMMARY:Breakfast with Santa
DESCRIPTION:
URL:https://newcumberlandpa.org/event/breakfast-with-santa/
LOCATION:New Cumberland Fire Department\, 319 4th Street\, New Cumberland\, PA\, 17070\, United States
END:VEVENT
BEGIN:VEVENT
DTSTART;TZID=America/New_York:20191205T080000
DTEND;TZID=America/New_York:20191205T090000
DTSTAMP:20260424T115544
CREATED:20191203T154404Z
LAST-MODIFIED:20191203T154404Z
UID:10000995-1575532800-1575536400@newcumberlandpa.org
SUMMARY:B&PG Executive Meeting
DESCRIPTION:
URL:https://newcumberlandpa.org/event/bpg-executive-meeting/
LOCATION:New Cumberland Fire Department\, 319 4th Street\, New Cumberland\, PA\, 17070\, United States
ORGANIZER;CN="New Cumberland Business & Profesional Group":MAILTO:communicationschairNC@gmail.com
END:VEVENT
BEGIN:VEVENT
DTSTART;TZID=America/New_York:20191016T080000
DTEND;TZID=America/New_York:20191016T090000
DTSTAMP:20260424T115544
CREATED:20191016T161133Z
LAST-MODIFIED:20191018T142946Z
UID:10000989-1571212800-1571216400@newcumberlandpa.org
SUMMARY:B&PG Member Meeting
DESCRIPTION:
URL:https://newcumberlandpa.org/event/bpg-member-meeting/
LOCATION:New Cumberland Fire Department\, 319 4th Street\, New Cumberland\, PA\, 17070\, United States
ORGANIZER;CN="New Cumberland Business & Profesional Group":MAILTO:communicationschairNC@gmail.com
END:VEVENT
END:VCALENDAR