BEGIN:VCALENDAR
VERSION:2.0
PRODID:-//New Cumberland B&amp;PG - ECPv6.15.17.1//NONSGML v1.0//EN
CALSCALE:GREGORIAN
METHOD:PUBLISH
X-WR-CALNAME:New Cumberland B&amp;PG
X-ORIGINAL-URL:https://newcumberlandpa.org
X-WR-CALDESC:Events for New Cumberland B&amp;PG
REFRESH-INTERVAL;VALUE=DURATION:PT1H
X-Robots-Tag:noindex
X-PUBLISHED-TTL:PT1H
BEGIN:VTIMEZONE
TZID:America/New_York
BEGIN:DAYLIGHT
TZOFFSETFROM:-0500
TZOFFSETTO:-0400
TZNAME:EDT
DTSTART:20190310T070000
END:DAYLIGHT
BEGIN:STANDARD
TZOFFSETFROM:-0400
TZOFFSETTO:-0500
TZNAME:EST
DTSTART:20191103T060000
END:STANDARD
BEGIN:DAYLIGHT
TZOFFSETFROM:-0500
TZOFFSETTO:-0400
TZNAME:EDT
DTSTART:20200308T070000
END:DAYLIGHT
BEGIN:STANDARD
TZOFFSETFROM:-0400
TZOFFSETTO:-0500
TZNAME:EST
DTSTART:20201101T060000
END:STANDARD
BEGIN:DAYLIGHT
TZOFFSETFROM:-0500
TZOFFSETTO:-0400
TZNAME:EDT
DTSTART:20210314T070000
END:DAYLIGHT
BEGIN:STANDARD
TZOFFSETFROM:-0400
TZOFFSETTO:-0500
TZNAME:EST
DTSTART:20211107T060000
END:STANDARD
END:VTIMEZONE
BEGIN:VEVENT
DTSTART;TZID=America/New_York:20200729T180000
DTEND;TZID=America/New_York:20200729T200000
DTSTAMP:20260424T025508
CREATED:20200716T190144Z
LAST-MODIFIED:20200716T190225Z
UID:10001080-1596045600-1596052800@newcumberlandpa.org
SUMMARY:B&PG Member Mixer
DESCRIPTION:Good vibes. Good eats.\nJoin us at Good Vibes Deli for an evening of networking and community spirit. Enjoy good vibes\, good food\, and good conversation. D’Angelo Realty Group will graciously underwrite $7 for each B&PG member in attendance who purchases a meal. We hope to see you there! Special thanks to D’Angelo Realty Group for sponsoring and Good Vibes Deli for hosting July’s Member Mixer! \nRSVP by July 24 to Stephanie Franklin via email at CommunicationsChairNC@gmail.com or by calling 717-421-6173.
URL:https://newcumberlandpa.org/event/bpg-member-mixer-4/
LOCATION:Good Vibes Deli\, 701 Bridge Street\, New Cumberland\, PA\, 17070\, United States
CATEGORIES:Member Mixer
ATTACH;FMTTYPE=image/jpeg:https://newcumberlandpa.org/wp-content/uploads/2020/07/member-mixer-flyer_july-20_final.jpg
ORGANIZER;CN="New Cumberland Business & Profesional Group":MAILTO:communicationschairNC@gmail.com
END:VEVENT
END:VCALENDAR