BEGIN:VCALENDAR
VERSION:2.0
PRODID:-//New Cumberland B&amp;PG - ECPv6.15.17.1//NONSGML v1.0//EN
CALSCALE:GREGORIAN
METHOD:PUBLISH
X-WR-CALNAME:New Cumberland B&amp;PG
X-ORIGINAL-URL:https://newcumberlandpa.org
X-WR-CALDESC:Events for New Cumberland B&amp;PG
REFRESH-INTERVAL;VALUE=DURATION:PT1H
X-Robots-Tag:noindex
X-PUBLISHED-TTL:PT1H
BEGIN:VTIMEZONE
TZID:America/New_York
BEGIN:DAYLIGHT
TZOFFSETFROM:-0500
TZOFFSETTO:-0400
TZNAME:EDT
DTSTART:20240310T070000
END:DAYLIGHT
BEGIN:STANDARD
TZOFFSETFROM:-0400
TZOFFSETTO:-0500
TZNAME:EST
DTSTART:20241103T060000
END:STANDARD
BEGIN:DAYLIGHT
TZOFFSETFROM:-0500
TZOFFSETTO:-0400
TZNAME:EDT
DTSTART:20250309T070000
END:DAYLIGHT
BEGIN:STANDARD
TZOFFSETFROM:-0400
TZOFFSETTO:-0500
TZNAME:EST
DTSTART:20251102T060000
END:STANDARD
BEGIN:DAYLIGHT
TZOFFSETFROM:-0500
TZOFFSETTO:-0400
TZNAME:EDT
DTSTART:20260308T070000
END:DAYLIGHT
BEGIN:STANDARD
TZOFFSETFROM:-0400
TZOFFSETTO:-0500
TZNAME:EST
DTSTART:20261101T060000
END:STANDARD
BEGIN:DAYLIGHT
TZOFFSETFROM:-0500
TZOFFSETTO:-0400
TZNAME:EDT
DTSTART:20270314T070000
END:DAYLIGHT
BEGIN:STANDARD
TZOFFSETFROM:-0400
TZOFFSETTO:-0500
TZNAME:EST
DTSTART:20271107T060000
END:STANDARD
END:VTIMEZONE
BEGIN:VEVENT
DTSTART;TZID=America/New_York:20251231T210000
DTEND;TZID=America/New_York:20260101T000000
DTSTAMP:20260423T202335
CREATED:20251107T201240Z
LAST-MODIFIED:20251107T201334Z
UID:10004035-1767214800-1767225600@newcumberlandpa.org
SUMMARY:Accents On Bridge – New Cumberland’s New Year’s Eve Fundraising Celebration
DESCRIPTION:Accents On Bridge 2025: New Cumberland’s New Year’s Eve Fundraising Celebration \nRing in 2026 with sparkle and heart! By popular demand\, Accents On Bridge returns to New Cumberland on Wednesday\, December 31\, hosted at the VFW at 109 Third Street. \nIn 2024\, together we transformed our town’s public spaces—adding planters\, benches\, and trash cans that beautify our downtown streets. Your generosity also helped support the New Cumberland Comprehensive Recreation\, Park and Trail Network Plan. Over 100 individuals joined forces to contribute to the growing momentum in New Cumberland—and this year\, we’re poised to make even greater strides! \nCelebrate the magic of New Year’s Eve with an evening full of delight: dance to a live band\, savor delicious bites from a variety of food stations\, and bid on silent auction treasures—all while surrounded by friends\, old and new. From 9:00 p.m. to midnight\, come enjoy the warm camaraderie of the New Cumberland community as we embrace fresh beginnings and continued growth. \nTickets are available for $50 per person\, or join the fun later from 10:30 p.m. to midnight with a $25 cover charge. A cash bar will be open to toast the night away. Purchase your tickets online at newcumberlandpa.org/accents or contact cvleukus@aol.com for more information. \nClick Here for Tickets
URL:https://newcumberlandpa.org/event/accents-on-bridge-new-cumberlands-new-years-eve-fundraising-celebration/
LOCATION:Fox-Eichelberger VFW\, 109 3rd Street\, New Cumberland\, PA\, 17070\, United States
CATEGORIES:Community,Fundraiser
ATTACH;FMTTYPE=image/jpeg:https://newcumberlandpa.org/wp-content/uploads/2025/11/Accents-Art_homepage.jpg
ORGANIZER;CN="New Cumberland Business & Profesional Group":MAILTO:communicationschairNC@gmail.com
END:VEVENT
END:VCALENDAR