BEGIN:VCALENDAR
VERSION:2.0
PRODID:-//New Cumberland B&amp;PG - ECPv6.15.17.1//NONSGML v1.0//EN
CALSCALE:GREGORIAN
METHOD:PUBLISH
X-WR-CALNAME:New Cumberland B&amp;PG
X-ORIGINAL-URL:https://newcumberlandpa.org
X-WR-CALDESC:Events for New Cumberland B&amp;PG
REFRESH-INTERVAL;VALUE=DURATION:PT1H
X-Robots-Tag:noindex
X-PUBLISHED-TTL:PT1H
BEGIN:VTIMEZONE
TZID:America/New_York
BEGIN:DAYLIGHT
TZOFFSETFROM:-0500
TZOFFSETTO:-0400
TZNAME:EDT
DTSTART:20200308T070000
END:DAYLIGHT
BEGIN:STANDARD
TZOFFSETFROM:-0400
TZOFFSETTO:-0500
TZNAME:EST
DTSTART:20201101T060000
END:STANDARD
BEGIN:DAYLIGHT
TZOFFSETFROM:-0500
TZOFFSETTO:-0400
TZNAME:EDT
DTSTART:20210314T070000
END:DAYLIGHT
BEGIN:STANDARD
TZOFFSETFROM:-0400
TZOFFSETTO:-0500
TZNAME:EST
DTSTART:20211107T060000
END:STANDARD
BEGIN:DAYLIGHT
TZOFFSETFROM:-0500
TZOFFSETTO:-0400
TZNAME:EDT
DTSTART:20220313T070000
END:DAYLIGHT
BEGIN:STANDARD
TZOFFSETFROM:-0400
TZOFFSETTO:-0500
TZNAME:EST
DTSTART:20221106T060000
END:STANDARD
BEGIN:DAYLIGHT
TZOFFSETFROM:-0500
TZOFFSETTO:-0400
TZNAME:EDT
DTSTART:20230312T070000
END:DAYLIGHT
BEGIN:STANDARD
TZOFFSETFROM:-0400
TZOFFSETTO:-0500
TZNAME:EST
DTSTART:20231105T060000
END:STANDARD
END:VTIMEZONE
BEGIN:VEVENT
DTSTART;TZID=America/New_York:20220518T190000
DTEND;TZID=America/New_York:20220518T200000
DTSTAMP:20260424T044106
CREATED:20211213T211909Z
LAST-MODIFIED:20211213T211909Z
UID:10001647-1652900400-1652904000@newcumberlandpa.org
SUMMARY:Planning Commission Meeting
DESCRIPTION:
URL:https://newcumberlandpa.org/event/planning-commission-meeting-14/2022-05-18/
LOCATION:Borough Council Chambers\, 1120 Market Street\, New Cumberland\, PA\, 17070\, United States
CATEGORIES:Meetings
END:VEVENT
BEGIN:VEVENT
DTSTART;TZID=America/New_York:20220511T190000
DTEND;TZID=America/New_York:20220511T210000
DTSTAMP:20260424T044106
CREATED:20211213T211039Z
LAST-MODIFIED:20211213T211039Z
UID:10001442-1652295600-1652302800@newcumberlandpa.org
SUMMARY:Borough Council Meeting
DESCRIPTION:
URL:https://newcumberlandpa.org/event/borough-council-meeting-15/2022-05-11/
LOCATION:Borough Council Chambers\, 1120 Market Street\, New Cumberland\, PA\, 17070\, United States
CATEGORIES:Meetings
END:VEVENT
BEGIN:VEVENT
DTSTART;TZID=America/New_York:20220420T190000
DTEND;TZID=America/New_York:20220420T200000
DTSTAMP:20260424T044106
CREATED:20211213T211909Z
LAST-MODIFIED:20211213T211909Z
UID:10001646-1650481200-1650484800@newcumberlandpa.org
SUMMARY:Planning Commission Meeting
DESCRIPTION:
URL:https://newcumberlandpa.org/event/planning-commission-meeting-14/2022-04-20/
LOCATION:Borough Council Chambers\, 1120 Market Street\, New Cumberland\, PA\, 17070\, United States
CATEGORIES:Meetings
END:VEVENT
BEGIN:VEVENT
DTSTART;TZID=America/New_York:20220413T190000
DTEND;TZID=America/New_York:20220413T210000
DTSTAMP:20260424T044106
CREATED:20211213T211039Z
LAST-MODIFIED:20211213T211039Z
UID:10001441-1649876400-1649883600@newcumberlandpa.org
SUMMARY:Borough Council Meeting
DESCRIPTION:
URL:https://newcumberlandpa.org/event/borough-council-meeting-15/2022-04-13/
LOCATION:Borough Council Chambers\, 1120 Market Street\, New Cumberland\, PA\, 17070\, United States
CATEGORIES:Meetings
END:VEVENT
BEGIN:VEVENT
DTSTART;TZID=America/New_York:20220316T190000
DTEND;TZID=America/New_York:20220316T200000
DTSTAMP:20260424T044106
CREATED:20211213T211909Z
LAST-MODIFIED:20211213T211909Z
UID:10001645-1647457200-1647460800@newcumberlandpa.org
SUMMARY:Planning Commission Meeting
DESCRIPTION:
URL:https://newcumberlandpa.org/event/planning-commission-meeting-14/2022-03-16/
LOCATION:Borough Council Chambers\, 1120 Market Street\, New Cumberland\, PA\, 17070\, United States
CATEGORIES:Meetings
END:VEVENT
BEGIN:VEVENT
DTSTART;TZID=America/New_York:20220309T190000
DTEND;TZID=America/New_York:20220309T210000
DTSTAMP:20260424T044106
CREATED:20211213T211039Z
LAST-MODIFIED:20211213T211039Z
UID:10001440-1646852400-1646859600@newcumberlandpa.org
SUMMARY:Borough Council Meeting
DESCRIPTION:
URL:https://newcumberlandpa.org/event/borough-council-meeting-15/2022-03-09/
LOCATION:Borough Council Chambers\, 1120 Market Street\, New Cumberland\, PA\, 17070\, United States
CATEGORIES:Meetings
END:VEVENT
BEGIN:VEVENT
DTSTART;TZID=America/New_York:20220216T190000
DTEND;TZID=America/New_York:20220216T200000
DTSTAMP:20260424T044106
CREATED:20211213T211909Z
LAST-MODIFIED:20211213T211909Z
UID:10001644-1645038000-1645041600@newcumberlandpa.org
SUMMARY:Planning Commission Meeting
DESCRIPTION:
URL:https://newcumberlandpa.org/event/planning-commission-meeting-14/2022-02-16/
LOCATION:Borough Council Chambers\, 1120 Market Street\, New Cumberland\, PA\, 17070\, United States
CATEGORIES:Meetings
END:VEVENT
BEGIN:VEVENT
DTSTART;TZID=America/New_York:20220209T190000
DTEND;TZID=America/New_York:20220209T210000
DTSTAMP:20260424T044106
CREATED:20211213T211039Z
LAST-MODIFIED:20211213T211039Z
UID:10001439-1644433200-1644440400@newcumberlandpa.org
SUMMARY:Borough Council Meeting
DESCRIPTION:
URL:https://newcumberlandpa.org/event/borough-council-meeting-15/2022-02-09/
LOCATION:Borough Council Chambers\, 1120 Market Street\, New Cumberland\, PA\, 17070\, United States
CATEGORIES:Meetings
END:VEVENT
BEGIN:VEVENT
DTSTART;TZID=America/New_York:20220119T190000
DTEND;TZID=America/New_York:20220119T200000
DTSTAMP:20260424T044106
CREATED:20211213T211909Z
LAST-MODIFIED:20211213T211909Z
UID:10001643-1642618800-1642622400@newcumberlandpa.org
SUMMARY:Planning Commission Meeting
DESCRIPTION:
URL:https://newcumberlandpa.org/event/planning-commission-meeting-14/2022-01-19/
LOCATION:Borough Council Chambers\, 1120 Market Street\, New Cumberland\, PA\, 17070\, United States
CATEGORIES:Meetings
END:VEVENT
BEGIN:VEVENT
DTSTART;TZID=America/New_York:20220112T190000
DTEND;TZID=America/New_York:20220112T210000
DTSTAMP:20260424T044106
CREATED:20211213T211039Z
LAST-MODIFIED:20211213T211039Z
UID:10001438-1642014000-1642021200@newcumberlandpa.org
SUMMARY:Borough Council Meeting
DESCRIPTION:
URL:https://newcumberlandpa.org/event/borough-council-meeting-15/2022-01-12/
LOCATION:Borough Council Chambers\, 1120 Market Street\, New Cumberland\, PA\, 17070\, United States
CATEGORIES:Meetings
END:VEVENT
BEGIN:VEVENT
DTSTART;TZID=America/New_York:20220103T190000
DTEND;TZID=America/New_York:20220103T210000
DTSTAMP:20260424T044106
CREATED:20211213T211132Z
LAST-MODIFIED:20211213T211132Z
UID:10001507-1641236400-1641243600@newcumberlandpa.org
SUMMARY:Borough Council Meeting–Reorganization Meeting
DESCRIPTION:
URL:https://newcumberlandpa.org/event/borough-council-meeting-reorganization-meeting/
LOCATION:Borough Council Chambers\, 1120 Market Street\, New Cumberland\, PA\, 17070\, United States
CATEGORIES:Meetings
END:VEVENT
BEGIN:VEVENT
DTSTART;TZID=America/New_York:20211215T190000
DTEND;TZID=America/New_York:20211215T200000
DTSTAMP:20260424T044106
CREATED:20210901T155732Z
LAST-MODIFIED:20210901T155732Z
UID:10001277-1639594800-1639598400@newcumberlandpa.org
SUMMARY:Planning Commission Meeting
DESCRIPTION:
URL:https://newcumberlandpa.org/event/planning-commission-meeting-13/
LOCATION:Borough Council Chambers\, 1120 Market Street\, New Cumberland\, PA\, 17070\, United States
CATEGORIES:Meetings
END:VEVENT
BEGIN:VEVENT
DTSTART;TZID=America/New_York:20211208T190000
DTEND;TZID=America/New_York:20211208T210000
DTSTAMP:20260424T044106
CREATED:20210701T151221Z
LAST-MODIFIED:20210701T151221Z
UID:10001251-1638990000-1638997200@newcumberlandpa.org
SUMMARY:Borough Council Meeting
DESCRIPTION:
URL:https://newcumberlandpa.org/event/borough-council-meeting-14/
LOCATION:Borough Council Chambers\, 1120 Market Street\, New Cumberland\, PA\, 17070\, United States
CATEGORIES:Meetings
END:VEVENT
BEGIN:VEVENT
DTSTART;TZID=America/New_York:20211117T190000
DTEND;TZID=America/New_York:20211117T200000
DTSTAMP:20260424T044106
CREATED:20210901T155717Z
LAST-MODIFIED:20210901T155717Z
UID:10001276-1637175600-1637179200@newcumberlandpa.org
SUMMARY:Planning Commission Meeting
DESCRIPTION:
URL:https://newcumberlandpa.org/event/planning-commission-meeting-12/
LOCATION:Borough Council Chambers\, 1120 Market Street\, New Cumberland\, PA\, 17070\, United States
CATEGORIES:Meetings
END:VEVENT
BEGIN:VEVENT
DTSTART;TZID=America/New_York:20211110T190000
DTEND;TZID=America/New_York:20211110T210000
DTSTAMP:20260424T044106
CREATED:20210701T151209Z
LAST-MODIFIED:20210701T151209Z
UID:10001250-1636570800-1636578000@newcumberlandpa.org
SUMMARY:Borough Council Meeting
DESCRIPTION:
URL:https://newcumberlandpa.org/event/borough-council-meeting-13/
LOCATION:Borough Council Chambers\, 1120 Market Street\, New Cumberland\, PA\, 17070\, United States
CATEGORIES:Meetings
END:VEVENT
BEGIN:VEVENT
DTSTART;TZID=America/New_York:20211025T130000
DTEND;TZID=America/New_York:20211025T140000
DTSTAMP:20260424T044106
CREATED:20211019T124021Z
LAST-MODIFIED:20211019T124021Z
UID:10001284-1635166800-1635170400@newcumberlandpa.org
SUMMARY:Codes Enforcement Committee Meeting
DESCRIPTION:
URL:https://newcumberlandpa.org/event/codes-enforcement-committee-meeting-5/
LOCATION:Borough Council Chambers\, 1120 Market Street\, New Cumberland\, PA\, 17070\, United States
CATEGORIES:Meetings
END:VEVENT
BEGIN:VEVENT
DTSTART;TZID=America/New_York:20211020T190000
DTEND;TZID=America/New_York:20211020T200000
DTSTAMP:20260424T044106
CREATED:20210901T155644Z
LAST-MODIFIED:20210901T155644Z
UID:10001275-1634756400-1634760000@newcumberlandpa.org
SUMMARY:Planning Commission Meeting
DESCRIPTION:
URL:https://newcumberlandpa.org/event/planning-commission-meeting-11/
LOCATION:Borough Council Chambers\, 1120 Market Street\, New Cumberland\, PA\, 17070\, United States
CATEGORIES:Meetings
END:VEVENT
BEGIN:VEVENT
DTSTART;TZID=America/New_York:20211013T190000
DTEND;TZID=America/New_York:20211013T210000
DTSTAMP:20260424T044106
CREATED:20210701T151150Z
LAST-MODIFIED:20210701T151150Z
UID:10001249-1634151600-1634158800@newcumberlandpa.org
SUMMARY:Borough Council Meeting
DESCRIPTION:
URL:https://newcumberlandpa.org/event/borough-council-meeting-12/
LOCATION:Borough Council Chambers\, 1120 Market Street\, New Cumberland\, PA\, 17070\, United States
CATEGORIES:Meetings
END:VEVENT
BEGIN:VEVENT
DTSTART;TZID=America/New_York:20210915T190000
DTEND;TZID=America/New_York:20210915T200000
DTSTAMP:20260424T044106
CREATED:20210610T162027Z
LAST-MODIFIED:20210610T162027Z
UID:10001235-1631732400-1631736000@newcumberlandpa.org
SUMMARY:Planning Commission Meeting
DESCRIPTION:
URL:https://newcumberlandpa.org/event/planning-commission-meeting-10/
LOCATION:Borough Council Chambers\, 1120 Market Street\, New Cumberland\, PA\, 17070\, United States
CATEGORIES:Meetings
END:VEVENT
BEGIN:VEVENT
DTSTART;TZID=America/New_York:20210908T190000
DTEND;TZID=America/New_York:20210908T210000
DTSTAMP:20260424T044106
CREATED:20210701T151135Z
LAST-MODIFIED:20210701T151135Z
UID:10001248-1631127600-1631134800@newcumberlandpa.org
SUMMARY:Borough Council Meeting
DESCRIPTION:
URL:https://newcumberlandpa.org/event/borough-council-meeting-11/
LOCATION:Borough Council Chambers\, 1120 Market Street\, New Cumberland\, PA\, 17070\, United States
CATEGORIES:Meetings
END:VEVENT
BEGIN:VEVENT
DTSTART;TZID=America/New_York:20210823T130000
DTEND;TZID=America/New_York:20210823T140000
DTSTAMP:20260424T044106
CREATED:20210812T155410Z
LAST-MODIFIED:20210812T155410Z
UID:10001258-1629723600-1629727200@newcumberlandpa.org
SUMMARY:Codes Enforcement Committee Meeting
DESCRIPTION:
URL:https://newcumberlandpa.org/event/codes-enforcement-committee-meeting-4/
LOCATION:Borough Council Chambers\, 1120 Market Street\, New Cumberland\, PA\, 17070\, United States
CATEGORIES:Meetings
END:VEVENT
BEGIN:VEVENT
DTSTART;TZID=America/New_York:20210818T190000
DTEND;TZID=America/New_York:20210818T200000
DTSTAMP:20260424T044106
CREATED:20210610T161926Z
LAST-MODIFIED:20210610T161926Z
UID:10001234-1629313200-1629316800@newcumberlandpa.org
SUMMARY:Planning Commission Meeting
DESCRIPTION:
URL:https://newcumberlandpa.org/event/planning-commission-meeting-9/
LOCATION:Borough Council Chambers\, 1120 Market Street\, New Cumberland\, PA\, 17070\, United States
CATEGORIES:Meetings
END:VEVENT
BEGIN:VEVENT
DTSTART;TZID=America/New_York:20210811T190000
DTEND;TZID=America/New_York:20210811T210000
DTSTAMP:20260424T044106
CREATED:20210701T151119Z
LAST-MODIFIED:20210701T151119Z
UID:10001247-1628708400-1628715600@newcumberlandpa.org
SUMMARY:Borough Council Meeting
DESCRIPTION:
URL:https://newcumberlandpa.org/event/borough-council-meeting-10/
LOCATION:Borough Council Chambers\, 1120 Market Street\, New Cumberland\, PA\, 17070\, United States
CATEGORIES:Meetings
END:VEVENT
BEGIN:VEVENT
DTSTART;TZID=America/New_York:20210721T190000
DTEND;TZID=America/New_York:20210721T200000
DTSTAMP:20260424T044106
CREATED:20210610T161910Z
LAST-MODIFIED:20210610T161910Z
UID:10001233-1626894000-1626897600@newcumberlandpa.org
SUMMARY:Planning Commission Meeting
DESCRIPTION:
URL:https://newcumberlandpa.org/event/planning-commission-meeting-8/
LOCATION:Borough Council Chambers\, 1120 Market Street\, New Cumberland\, PA\, 17070\, United States
CATEGORIES:Meetings
END:VEVENT
BEGIN:VEVENT
DTSTART;TZID=America/New_York:20210714T190000
DTEND;TZID=America/New_York:20210714T210000
DTSTAMP:20260424T044106
CREATED:20210701T151059Z
LAST-MODIFIED:20210701T151059Z
UID:10001246-1626289200-1626296400@newcumberlandpa.org
SUMMARY:Borough Council Meeting
DESCRIPTION:
URL:https://newcumberlandpa.org/event/borough-council-meeting-9/
LOCATION:Borough Council Chambers\, 1120 Market Street\, New Cumberland\, PA\, 17070\, United States
CATEGORIES:Meetings
END:VEVENT
BEGIN:VEVENT
DTSTART;TZID=America/New_York:20210706T183000
DTEND;TZID=America/New_York:20210706T193000
DTSTAMP:20260424T044106
CREATED:20210607T205809Z
LAST-MODIFIED:20210607T205935Z
UID:10001198-1625596200-1625599800@newcumberlandpa.org
SUMMARY:Zoning Hearing Board Meeting
DESCRIPTION:The following request for zoning relief will be heard: \n\nApplicant: St. Theresa School\nProperty: 1200 Bridge Street\, New Cumberland\, PA 17070\n\nApplicant is requesting a variance relief to erect an eight-foot high safety fence within the front yard at the above-referenced property. \nThe property is located in the C2 Zone. \nAll interested parties are urged to attend. The aforementioned application and plans are available upon request by contacting the New Cumberland Borough Office at 717-774-0404.
URL:https://newcumberlandpa.org/event/zoning-hearing-board-meeting/
LOCATION:Borough Council Chambers\, 1120 Market Street\, New Cumberland\, PA\, 17070\, United States
CATEGORIES:Meetings
END:VEVENT
BEGIN:VEVENT
DTSTART;TZID=America/New_York:20210628T130000
DTEND;TZID=America/New_York:20210628T140000
DTSTAMP:20260424T044106
CREATED:20210610T162113Z
LAST-MODIFIED:20210610T162113Z
UID:10001236-1624885200-1624888800@newcumberlandpa.org
SUMMARY:Codes Enforcement Committee Meeting
DESCRIPTION:
URL:https://newcumberlandpa.org/event/codes-enforcement-committee-meeting-3/
LOCATION:Borough Council Chambers\, 1120 Market Street\, New Cumberland\, PA\, 17070\, United States
CATEGORIES:Meetings
END:VEVENT
BEGIN:VEVENT
DTSTART;TZID=America/New_York:20210624T120000
DTEND;TZID=America/New_York:20210624T130000
DTSTAMP:20260424T044106
CREATED:20210610T161753Z
LAST-MODIFIED:20210610T161753Z
UID:10001231-1624536000-1624539600@newcumberlandpa.org
SUMMARY:Zoning Update Meeting
DESCRIPTION:
URL:https://newcumberlandpa.org/event/zoning-update-meeting-4/
LOCATION:Borough Council Chambers\, 1120 Market Street\, New Cumberland\, PA\, 17070\, United States
CATEGORIES:Meetings
END:VEVENT
BEGIN:VEVENT
DTSTART;TZID=America/New_York:20210616T190000
DTEND;TZID=America/New_York:20210616T200000
DTSTAMP:20260424T044106
CREATED:20210610T161836Z
LAST-MODIFIED:20210610T161836Z
UID:10001232-1623870000-1623873600@newcumberlandpa.org
SUMMARY:Planning Commission Meeting
DESCRIPTION:
URL:https://newcumberlandpa.org/event/planning-commission-meeting-7/
LOCATION:Borough Council Chambers\, 1120 Market Street\, New Cumberland\, PA\, 17070\, United States
CATEGORIES:Meetings
END:VEVENT
BEGIN:VEVENT
DTSTART;TZID=America/New_York:20210610T120000
DTEND;TZID=America/New_York:20210610T130000
DTSTAMP:20260424T044106
CREATED:20210610T161728Z
LAST-MODIFIED:20210610T161728Z
UID:10001230-1623326400-1623330000@newcumberlandpa.org
SUMMARY:Zoning Update Meeting
DESCRIPTION:
URL:https://newcumberlandpa.org/event/zoning-update-meeting-3/
LOCATION:Borough Council Chambers\, 1120 Market Street\, New Cumberland\, PA\, 17070\, United States
CATEGORIES:Meetings
END:VEVENT
END:VCALENDAR