BEGIN:VCALENDAR
VERSION:2.0
PRODID:-//New Cumberland B&amp;PG - ECPv6.15.17.1//NONSGML v1.0//EN
CALSCALE:GREGORIAN
METHOD:PUBLISH
X-WR-CALNAME:New Cumberland B&amp;PG
X-ORIGINAL-URL:https://newcumberlandpa.org
X-WR-CALDESC:Events for New Cumberland B&amp;PG
REFRESH-INTERVAL;VALUE=DURATION:PT1H
X-Robots-Tag:noindex
X-PUBLISHED-TTL:PT1H
BEGIN:VTIMEZONE
TZID:America/New_York
BEGIN:DAYLIGHT
TZOFFSETFROM:-0500
TZOFFSETTO:-0400
TZNAME:EDT
DTSTART:20190310T070000
END:DAYLIGHT
BEGIN:STANDARD
TZOFFSETFROM:-0400
TZOFFSETTO:-0500
TZNAME:EST
DTSTART:20191103T060000
END:STANDARD
BEGIN:DAYLIGHT
TZOFFSETFROM:-0500
TZOFFSETTO:-0400
TZNAME:EDT
DTSTART:20200308T070000
END:DAYLIGHT
BEGIN:STANDARD
TZOFFSETFROM:-0400
TZOFFSETTO:-0500
TZNAME:EST
DTSTART:20201101T060000
END:STANDARD
BEGIN:DAYLIGHT
TZOFFSETFROM:-0500
TZOFFSETTO:-0400
TZNAME:EDT
DTSTART:20210314T070000
END:DAYLIGHT
BEGIN:STANDARD
TZOFFSETFROM:-0400
TZOFFSETTO:-0500
TZNAME:EST
DTSTART:20211107T060000
END:STANDARD
END:VTIMEZONE
BEGIN:VEVENT
DTSTART;TZID=America/New_York:20200514T170000
DTEND;TZID=America/New_York:20200514T200000
DTSTAMP:20260424T022708
CREATED:20200306T003125Z
LAST-MODIFIED:20200306T003215Z
UID:10001030-1589475600-1589486400@newcumberlandpa.org
SUMMARY:Food Truck and Restaurant Rally
DESCRIPTION:
URL:https://newcumberlandpa.org/event/food-truck-and-restaurant-rally/
LOCATION:Baughman United Methodist Church\, 228 Bridge Street\, New Cumberland\, PA\, 17070\, United States
ATTACH;FMTTYPE=image/jpeg:https://newcumberlandpa.org/wp-content/uploads/2020/03/BPG-food-truck-rally-flyer-20.jpg
ORGANIZER;CN="New Cumberland Business & Profesional Group":MAILTO:communicationschairNC@gmail.com
END:VEVENT
BEGIN:VEVENT
DTSTART;TZID=America/New_York:20200208T090000
DTEND;TZID=America/New_York:20200208T120000
DTSTAMP:20260424T022708
CREATED:20191223T141713Z
LAST-MODIFIED:20191223T141729Z
UID:10001020-1581152400-1581163200@newcumberlandpa.org
SUMMARY:New Cumberland Youth Baseball Association Signups
DESCRIPTION:Or you can register online at www.NCYBA.net from December 1\, 2019 to February 17\, 2020.  Where:  Baughman United Methodist Church 228 Bridge Street\, New Cumberland for T-Ball\, Minors\, Majors and Teeners ages 5-17 by April 30\, 2020 who reside in the West Shore School District or who attend school in New Cumberland.  Fees are $50 for T-Ball\, $60 for Pony\, $75 for Minors and Majors and $90 for Teeners\, or $140 maximum per family.  In addition to these fees there will be a mandatory fundraiser.  Also\, looking for teen umpires for pony games; must be at least age 13.  Now affiliated with Cal Ripken Baseball!!  Visit WWW.NCYBA.NET for details on each. \nNew Players – bring a copy of your birth certificate.
URL:https://newcumberlandpa.org/event/new-cumberlnad-youth-baseball-assoc-signups/
LOCATION:Baughman United Methodist Church\, 228 Bridge Street\, New Cumberland\, PA\, 17070\, United States
END:VEVENT
END:VCALENDAR