BEGIN:VCALENDAR
VERSION:2.0
PRODID:-//New Cumberland B&amp;PG - ECPv6.15.17.1//NONSGML v1.0//EN
CALSCALE:GREGORIAN
METHOD:PUBLISH
X-WR-CALNAME:New Cumberland B&amp;PG
X-ORIGINAL-URL:https://newcumberlandpa.org
X-WR-CALDESC:Events for New Cumberland B&amp;PG
REFRESH-INTERVAL;VALUE=DURATION:PT1H
X-Robots-Tag:noindex
X-PUBLISHED-TTL:PT1H
BEGIN:VTIMEZONE
TZID:America/New_York
BEGIN:DAYLIGHT
TZOFFSETFROM:-0500
TZOFFSETTO:-0400
TZNAME:EDT
DTSTART:20240310T070000
END:DAYLIGHT
BEGIN:STANDARD
TZOFFSETFROM:-0400
TZOFFSETTO:-0500
TZNAME:EST
DTSTART:20241103T060000
END:STANDARD
BEGIN:DAYLIGHT
TZOFFSETFROM:-0500
TZOFFSETTO:-0400
TZNAME:EDT
DTSTART:20250309T070000
END:DAYLIGHT
BEGIN:STANDARD
TZOFFSETFROM:-0400
TZOFFSETTO:-0500
TZNAME:EST
DTSTART:20251102T060000
END:STANDARD
BEGIN:DAYLIGHT
TZOFFSETFROM:-0500
TZOFFSETTO:-0400
TZNAME:EDT
DTSTART:20260308T070000
END:DAYLIGHT
BEGIN:STANDARD
TZOFFSETFROM:-0400
TZOFFSETTO:-0500
TZNAME:EST
DTSTART:20261101T060000
END:STANDARD
BEGIN:DAYLIGHT
TZOFFSETFROM:-0500
TZOFFSETTO:-0400
TZNAME:EDT
DTSTART:20270314T070000
END:DAYLIGHT
BEGIN:STANDARD
TZOFFSETFROM:-0400
TZOFFSETTO:-0500
TZNAME:EST
DTSTART:20271107T060000
END:STANDARD
END:VTIMEZONE
BEGIN:VEVENT
DTSTART;TZID=America/New_York:20260422T183000
DTEND;TZID=America/New_York:20260422T193000
DTSTAMP:20260425T100022
CREATED:20240403T161432Z
LAST-MODIFIED:20240403T161525Z
UID:10003864-1776882600-1776886200@newcumberlandpa.org
SUMMARY:Lions Club Meeting
DESCRIPTION:
URL:https://newcumberlandpa.org/event/lions-club-meeting-2/2026-04-22/
LOCATION:American Legion Post 143\, 214 Market Street\, New Cumberland\, PA\, 17070\, United States
ORGANIZER;CN="Lion Club":MAILTO:hopplea@members1st.org
END:VEVENT
BEGIN:VEVENT
DTSTART;TZID=America/New_York:20260408T113000
DTEND;TZID=America/New_York:20260408T130000
DTSTAMP:20260425T100022
CREATED:20221026T154232Z
LAST-MODIFIED:20221026T154232Z
UID:10001559-1775647800-1775653200@newcumberlandpa.org
SUMMARY:New Cumberland Olde Towne Association Monthly Meeting
DESCRIPTION:The organization is always looking for new members and the public is invited to attend. Lunch is $10.00 for guests and $8.50 for members. Membership is $5.00 a year.  For more information contact Christine Leukus at 717-319-4421 or email her at cvleukus@aol.com.
URL:https://newcumberlandpa.org/event/new-cumberland-olde-towne-association-monthly-meeting-8-2/2026-04-08/
LOCATION:American Legion Post 143\, 214 Market Street\, New Cumberland\, PA\, 17070\, United States
CATEGORIES:Community,Meetings
ORGANIZER;CN="New Cumberland Olde Towne Association":MAILTO:cvleukus@aol.com
END:VEVENT
BEGIN:VEVENT
DTSTART;TZID=America/New_York:20260325T183000
DTEND;TZID=America/New_York:20260325T193000
DTSTAMP:20260425T100022
CREATED:20240403T161432Z
LAST-MODIFIED:20240403T161525Z
UID:10003863-1774463400-1774467000@newcumberlandpa.org
SUMMARY:Lions Club Meeting
DESCRIPTION:
URL:https://newcumberlandpa.org/event/lions-club-meeting-2/2026-03-25/
LOCATION:American Legion Post 143\, 214 Market Street\, New Cumberland\, PA\, 17070\, United States
ORGANIZER;CN="Lion Club":MAILTO:hopplea@members1st.org
END:VEVENT
BEGIN:VEVENT
DTSTART;TZID=America/New_York:20260311T113000
DTEND;TZID=America/New_York:20260311T130000
DTSTAMP:20260425T100022
CREATED:20221026T154232Z
LAST-MODIFIED:20221026T154232Z
UID:10001558-1773228600-1773234000@newcumberlandpa.org
SUMMARY:New Cumberland Olde Towne Association Monthly Meeting
DESCRIPTION:The organization is always looking for new members and the public is invited to attend. Lunch is $10.00 for guests and $8.50 for members. Membership is $5.00 a year.  For more information contact Christine Leukus at 717-319-4421 or email her at cvleukus@aol.com.
URL:https://newcumberlandpa.org/event/new-cumberland-olde-towne-association-monthly-meeting-8-2/2026-03-11/
LOCATION:American Legion Post 143\, 214 Market Street\, New Cumberland\, PA\, 17070\, United States
CATEGORIES:Community,Meetings
ORGANIZER;CN="New Cumberland Olde Towne Association":MAILTO:cvleukus@aol.com
END:VEVENT
BEGIN:VEVENT
DTSTART;TZID=America/New_York:20260225T183000
DTEND;TZID=America/New_York:20260225T193000
DTSTAMP:20260425T100022
CREATED:20240403T161432Z
LAST-MODIFIED:20240403T161525Z
UID:10003862-1772044200-1772047800@newcumberlandpa.org
SUMMARY:Lions Club Meeting
DESCRIPTION:
URL:https://newcumberlandpa.org/event/lions-club-meeting-2/2026-02-25/
LOCATION:American Legion Post 143\, 214 Market Street\, New Cumberland\, PA\, 17070\, United States
ORGANIZER;CN="Lion Club":MAILTO:hopplea@members1st.org
END:VEVENT
BEGIN:VEVENT
DTSTART;TZID=America/New_York:20260211T113000
DTEND;TZID=America/New_York:20260211T130000
DTSTAMP:20260425T100022
CREATED:20221026T154232Z
LAST-MODIFIED:20221026T154232Z
UID:10001557-1770809400-1770814800@newcumberlandpa.org
SUMMARY:New Cumberland Olde Towne Association Monthly Meeting
DESCRIPTION:The organization is always looking for new members and the public is invited to attend. Lunch is $10.00 for guests and $8.50 for members. Membership is $5.00 a year.  For more information contact Christine Leukus at 717-319-4421 or email her at cvleukus@aol.com.
URL:https://newcumberlandpa.org/event/new-cumberland-olde-towne-association-monthly-meeting-8-2/2026-02-11/
LOCATION:American Legion Post 143\, 214 Market Street\, New Cumberland\, PA\, 17070\, United States
CATEGORIES:Community,Meetings
ORGANIZER;CN="New Cumberland Olde Towne Association":MAILTO:cvleukus@aol.com
END:VEVENT
BEGIN:VEVENT
DTSTART;TZID=America/New_York:20260128T183000
DTEND;TZID=America/New_York:20260128T193000
DTSTAMP:20260425T100022
CREATED:20240403T161432Z
LAST-MODIFIED:20240403T161525Z
UID:10003861-1769625000-1769628600@newcumberlandpa.org
SUMMARY:Lions Club Meeting
DESCRIPTION:
URL:https://newcumberlandpa.org/event/lions-club-meeting-2/2026-01-28/
LOCATION:American Legion Post 143\, 214 Market Street\, New Cumberland\, PA\, 17070\, United States
ORGANIZER;CN="Lion Club":MAILTO:hopplea@members1st.org
END:VEVENT
BEGIN:VEVENT
DTSTART;TZID=America/New_York:20260114T113000
DTEND;TZID=America/New_York:20260114T130000
DTSTAMP:20260425T100022
CREATED:20221026T154232Z
LAST-MODIFIED:20221026T154232Z
UID:10001556-1768390200-1768395600@newcumberlandpa.org
SUMMARY:New Cumberland Olde Towne Association Monthly Meeting
DESCRIPTION:The organization is always looking for new members and the public is invited to attend. Lunch is $10.00 for guests and $8.50 for members. Membership is $5.00 a year.  For more information contact Christine Leukus at 717-319-4421 or email her at cvleukus@aol.com.
URL:https://newcumberlandpa.org/event/new-cumberland-olde-towne-association-monthly-meeting-8-2/2026-01-14/
LOCATION:American Legion Post 143\, 214 Market Street\, New Cumberland\, PA\, 17070\, United States
CATEGORIES:Community,Meetings
ORGANIZER;CN="New Cumberland Olde Towne Association":MAILTO:cvleukus@aol.com
END:VEVENT
BEGIN:VEVENT
DTSTART;TZID=America/New_York:20251224T183000
DTEND;TZID=America/New_York:20251224T193000
DTSTAMP:20260425T100022
CREATED:20240403T161432Z
LAST-MODIFIED:20240403T161525Z
UID:10003860-1766601000-1766604600@newcumberlandpa.org
SUMMARY:Lions Club Meeting
DESCRIPTION:
URL:https://newcumberlandpa.org/event/lions-club-meeting-2/2025-12-24/
LOCATION:American Legion Post 143\, 214 Market Street\, New Cumberland\, PA\, 17070\, United States
ORGANIZER;CN="Lion Club":MAILTO:hopplea@members1st.org
END:VEVENT
BEGIN:VEVENT
DTSTART;TZID=America/New_York:20251210T113000
DTEND;TZID=America/New_York:20251210T130000
DTSTAMP:20260425T100022
CREATED:20221026T154232Z
LAST-MODIFIED:20221026T154232Z
UID:10001555-1765366200-1765371600@newcumberlandpa.org
SUMMARY:New Cumberland Olde Towne Association Monthly Meeting
DESCRIPTION:The organization is always looking for new members and the public is invited to attend. Lunch is $10.00 for guests and $8.50 for members. Membership is $5.00 a year.  For more information contact Christine Leukus at 717-319-4421 or email her at cvleukus@aol.com.
URL:https://newcumberlandpa.org/event/new-cumberland-olde-towne-association-monthly-meeting-8-2/2025-12-10/
LOCATION:American Legion Post 143\, 214 Market Street\, New Cumberland\, PA\, 17070\, United States
CATEGORIES:Community,Meetings
ORGANIZER;CN="New Cumberland Olde Towne Association":MAILTO:cvleukus@aol.com
END:VEVENT
BEGIN:VEVENT
DTSTART;TZID=America/New_York:20251126T183000
DTEND;TZID=America/New_York:20251126T193000
DTSTAMP:20260425T100022
CREATED:20240403T161432Z
LAST-MODIFIED:20240403T161525Z
UID:10003859-1764181800-1764185400@newcumberlandpa.org
SUMMARY:Lions Club Meeting
DESCRIPTION:
URL:https://newcumberlandpa.org/event/lions-club-meeting-2/2025-11-26/
LOCATION:American Legion Post 143\, 214 Market Street\, New Cumberland\, PA\, 17070\, United States
ORGANIZER;CN="Lion Club":MAILTO:hopplea@members1st.org
END:VEVENT
BEGIN:VEVENT
DTSTART;TZID=America/New_York:20251112T113000
DTEND;TZID=America/New_York:20251112T130000
DTSTAMP:20260425T100022
CREATED:20221026T154232Z
LAST-MODIFIED:20221026T154232Z
UID:10001554-1762947000-1762952400@newcumberlandpa.org
SUMMARY:New Cumberland Olde Towne Association Monthly Meeting
DESCRIPTION:The organization is always looking for new members and the public is invited to attend. Lunch is $10.00 for guests and $8.50 for members. Membership is $5.00 a year.  For more information contact Christine Leukus at 717-319-4421 or email her at cvleukus@aol.com.
URL:https://newcumberlandpa.org/event/new-cumberland-olde-towne-association-monthly-meeting-8-2/2025-11-12/
LOCATION:American Legion Post 143\, 214 Market Street\, New Cumberland\, PA\, 17070\, United States
CATEGORIES:Community,Meetings
ORGANIZER;CN="New Cumberland Olde Towne Association":MAILTO:cvleukus@aol.com
END:VEVENT
BEGIN:VEVENT
DTSTART;TZID=America/New_York:20251022T183000
DTEND;TZID=America/New_York:20251022T193000
DTSTAMP:20260425T100022
CREATED:20240403T161432Z
LAST-MODIFIED:20240403T161525Z
UID:10003858-1761157800-1761161400@newcumberlandpa.org
SUMMARY:Lions Club Meeting
DESCRIPTION:
URL:https://newcumberlandpa.org/event/lions-club-meeting-2/2025-10-22/
LOCATION:American Legion Post 143\, 214 Market Street\, New Cumberland\, PA\, 17070\, United States
ORGANIZER;CN="Lion Club":MAILTO:hopplea@members1st.org
END:VEVENT
BEGIN:VEVENT
DTSTART;TZID=America/New_York:20251008T113000
DTEND;TZID=America/New_York:20251008T130000
DTSTAMP:20260425T100022
CREATED:20221026T154232Z
LAST-MODIFIED:20221026T154232Z
UID:10001553-1759923000-1759928400@newcumberlandpa.org
SUMMARY:New Cumberland Olde Towne Association Monthly Meeting
DESCRIPTION:The organization is always looking for new members and the public is invited to attend. Lunch is $10.00 for guests and $8.50 for members. Membership is $5.00 a year.  For more information contact Christine Leukus at 717-319-4421 or email her at cvleukus@aol.com.
URL:https://newcumberlandpa.org/event/new-cumberland-olde-towne-association-monthly-meeting-8-2/2025-10-08/
LOCATION:American Legion Post 143\, 214 Market Street\, New Cumberland\, PA\, 17070\, United States
CATEGORIES:Community,Meetings
ORGANIZER;CN="New Cumberland Olde Towne Association":MAILTO:cvleukus@aol.com
END:VEVENT
BEGIN:VEVENT
DTSTART;TZID=America/New_York:20250924T183000
DTEND;TZID=America/New_York:20250924T193000
DTSTAMP:20260425T100022
CREATED:20240403T161432Z
LAST-MODIFIED:20240403T161525Z
UID:10003857-1758738600-1758742200@newcumberlandpa.org
SUMMARY:Lions Club Meeting
DESCRIPTION:
URL:https://newcumberlandpa.org/event/lions-club-meeting-2/2025-09-24/
LOCATION:American Legion Post 143\, 214 Market Street\, New Cumberland\, PA\, 17070\, United States
ORGANIZER;CN="Lion Club":MAILTO:hopplea@members1st.org
END:VEVENT
BEGIN:VEVENT
DTSTART;TZID=America/New_York:20250910T113000
DTEND;TZID=America/New_York:20250910T130000
DTSTAMP:20260425T100022
CREATED:20221026T154232Z
LAST-MODIFIED:20221026T154232Z
UID:10001552-1757503800-1757509200@newcumberlandpa.org
SUMMARY:New Cumberland Olde Towne Association Monthly Meeting
DESCRIPTION:The organization is always looking for new members and the public is invited to attend. Lunch is $10.00 for guests and $8.50 for members. Membership is $5.00 a year.  For more information contact Christine Leukus at 717-319-4421 or email her at cvleukus@aol.com.
URL:https://newcumberlandpa.org/event/new-cumberland-olde-towne-association-monthly-meeting-8-2/2025-09-10/
LOCATION:American Legion Post 143\, 214 Market Street\, New Cumberland\, PA\, 17070\, United States
CATEGORIES:Community,Meetings
ORGANIZER;CN="New Cumberland Olde Towne Association":MAILTO:cvleukus@aol.com
END:VEVENT
BEGIN:VEVENT
DTSTART;TZID=America/New_York:20250827T183000
DTEND;TZID=America/New_York:20250827T193000
DTSTAMP:20260425T100022
CREATED:20240403T161432Z
LAST-MODIFIED:20240403T161525Z
UID:10003856-1756319400-1756323000@newcumberlandpa.org
SUMMARY:Lions Club Meeting
DESCRIPTION:
URL:https://newcumberlandpa.org/event/lions-club-meeting-2/2025-08-27/
LOCATION:American Legion Post 143\, 214 Market Street\, New Cumberland\, PA\, 17070\, United States
ORGANIZER;CN="Lion Club":MAILTO:hopplea@members1st.org
END:VEVENT
BEGIN:VEVENT
DTSTART;TZID=America/New_York:20250813T113000
DTEND;TZID=America/New_York:20250813T130000
DTSTAMP:20260425T100022
CREATED:20221026T154232Z
LAST-MODIFIED:20221026T154232Z
UID:10001551-1755084600-1755090000@newcumberlandpa.org
SUMMARY:New Cumberland Olde Towne Association Monthly Meeting
DESCRIPTION:The organization is always looking for new members and the public is invited to attend. Lunch is $10.00 for guests and $8.50 for members. Membership is $5.00 a year.  For more information contact Christine Leukus at 717-319-4421 or email her at cvleukus@aol.com.
URL:https://newcumberlandpa.org/event/new-cumberland-olde-towne-association-monthly-meeting-8-2/2025-08-13/
LOCATION:American Legion Post 143\, 214 Market Street\, New Cumberland\, PA\, 17070\, United States
CATEGORIES:Community,Meetings
ORGANIZER;CN="New Cumberland Olde Towne Association":MAILTO:cvleukus@aol.com
END:VEVENT
BEGIN:VEVENT
DTSTART;TZID=America/New_York:20250723T183000
DTEND;TZID=America/New_York:20250723T193000
DTSTAMP:20260425T100022
CREATED:20240403T161432Z
LAST-MODIFIED:20240403T161525Z
UID:10003855-1753295400-1753299000@newcumberlandpa.org
SUMMARY:Lions Club Meeting
DESCRIPTION:
URL:https://newcumberlandpa.org/event/lions-club-meeting-2/2025-07-23/
LOCATION:American Legion Post 143\, 214 Market Street\, New Cumberland\, PA\, 17070\, United States
ORGANIZER;CN="Lion Club":MAILTO:hopplea@members1st.org
END:VEVENT
BEGIN:VEVENT
DTSTART;TZID=America/New_York:20250709T113000
DTEND;TZID=America/New_York:20250709T130000
DTSTAMP:20260425T100022
CREATED:20221026T154232Z
LAST-MODIFIED:20221026T154232Z
UID:10001550-1752060600-1752066000@newcumberlandpa.org
SUMMARY:New Cumberland Olde Towne Association Monthly Meeting
DESCRIPTION:The organization is always looking for new members and the public is invited to attend. Lunch is $10.00 for guests and $8.50 for members. Membership is $5.00 a year.  For more information contact Christine Leukus at 717-319-4421 or email her at cvleukus@aol.com.
URL:https://newcumberlandpa.org/event/new-cumberland-olde-towne-association-monthly-meeting-8-2/2025-07-09/
LOCATION:American Legion Post 143\, 214 Market Street\, New Cumberland\, PA\, 17070\, United States
CATEGORIES:Community,Meetings
ORGANIZER;CN="New Cumberland Olde Towne Association":MAILTO:cvleukus@aol.com
END:VEVENT
BEGIN:VEVENT
DTSTART;TZID=America/New_York:20250625T183000
DTEND;TZID=America/New_York:20250625T193000
DTSTAMP:20260425T100022
CREATED:20240403T161432Z
LAST-MODIFIED:20240403T161525Z
UID:10003854-1750876200-1750879800@newcumberlandpa.org
SUMMARY:Lions Club Meeting
DESCRIPTION:
URL:https://newcumberlandpa.org/event/lions-club-meeting-2/2025-06-25/
LOCATION:American Legion Post 143\, 214 Market Street\, New Cumberland\, PA\, 17070\, United States
ORGANIZER;CN="Lion Club":MAILTO:hopplea@members1st.org
END:VEVENT
BEGIN:VEVENT
DTSTART;TZID=America/New_York:20250611T113000
DTEND;TZID=America/New_York:20250611T130000
DTSTAMP:20260425T100022
CREATED:20221026T154232Z
LAST-MODIFIED:20221026T154232Z
UID:10001549-1749641400-1749646800@newcumberlandpa.org
SUMMARY:New Cumberland Olde Towne Association Monthly Meeting
DESCRIPTION:The organization is always looking for new members and the public is invited to attend. Lunch is $10.00 for guests and $8.50 for members. Membership is $5.00 a year.  For more information contact Christine Leukus at 717-319-4421 or email her at cvleukus@aol.com.
URL:https://newcumberlandpa.org/event/new-cumberland-olde-towne-association-monthly-meeting-8-2/2025-06-11/
LOCATION:American Legion Post 143\, 214 Market Street\, New Cumberland\, PA\, 17070\, United States
CATEGORIES:Community,Meetings
ORGANIZER;CN="New Cumberland Olde Towne Association":MAILTO:cvleukus@aol.com
END:VEVENT
BEGIN:VEVENT
DTSTART;TZID=America/New_York:20250528T183000
DTEND;TZID=America/New_York:20250528T193000
DTSTAMP:20260425T100022
CREATED:20240403T161432Z
LAST-MODIFIED:20240403T161525Z
UID:10003853-1748457000-1748460600@newcumberlandpa.org
SUMMARY:Lions Club Meeting
DESCRIPTION:
URL:https://newcumberlandpa.org/event/lions-club-meeting-2/2025-05-28/
LOCATION:American Legion Post 143\, 214 Market Street\, New Cumberland\, PA\, 17070\, United States
ORGANIZER;CN="Lion Club":MAILTO:hopplea@members1st.org
END:VEVENT
BEGIN:VEVENT
DTSTART;TZID=America/New_York:20250514T113000
DTEND;TZID=America/New_York:20250514T130000
DTSTAMP:20260425T100022
CREATED:20221026T154232Z
LAST-MODIFIED:20221026T154232Z
UID:10001548-1747222200-1747227600@newcumberlandpa.org
SUMMARY:New Cumberland Olde Towne Association Monthly Meeting
DESCRIPTION:The organization is always looking for new members and the public is invited to attend. Lunch is $10.00 for guests and $8.50 for members. Membership is $5.00 a year.  For more information contact Christine Leukus at 717-319-4421 or email her at cvleukus@aol.com.
URL:https://newcumberlandpa.org/event/new-cumberland-olde-towne-association-monthly-meeting-8-2/2025-05-14/
LOCATION:American Legion Post 143\, 214 Market Street\, New Cumberland\, PA\, 17070\, United States
CATEGORIES:Community,Meetings
ORGANIZER;CN="New Cumberland Olde Towne Association":MAILTO:cvleukus@aol.com
END:VEVENT
BEGIN:VEVENT
DTSTART;TZID=America/New_York:20250423T183000
DTEND;TZID=America/New_York:20250423T193000
DTSTAMP:20260425T100022
CREATED:20240403T161432Z
LAST-MODIFIED:20240403T161525Z
UID:10003852-1745433000-1745436600@newcumberlandpa.org
SUMMARY:Lions Club Meeting
DESCRIPTION:
URL:https://newcumberlandpa.org/event/lions-club-meeting-2/2025-04-23/
LOCATION:American Legion Post 143\, 214 Market Street\, New Cumberland\, PA\, 17070\, United States
ORGANIZER;CN="Lion Club":MAILTO:hopplea@members1st.org
END:VEVENT
BEGIN:VEVENT
DTSTART;TZID=America/New_York:20250409T113000
DTEND;TZID=America/New_York:20250409T130000
DTSTAMP:20260425T100022
CREATED:20221026T154232Z
LAST-MODIFIED:20221026T154232Z
UID:10001547-1744198200-1744203600@newcumberlandpa.org
SUMMARY:New Cumberland Olde Towne Association Monthly Meeting
DESCRIPTION:The organization is always looking for new members and the public is invited to attend. Lunch is $10.00 for guests and $8.50 for members. Membership is $5.00 a year.  For more information contact Christine Leukus at 717-319-4421 or email her at cvleukus@aol.com.
URL:https://newcumberlandpa.org/event/new-cumberland-olde-towne-association-monthly-meeting-8-2/2025-04-09/
LOCATION:American Legion Post 143\, 214 Market Street\, New Cumberland\, PA\, 17070\, United States
CATEGORIES:Community,Meetings
ORGANIZER;CN="New Cumberland Olde Towne Association":MAILTO:cvleukus@aol.com
END:VEVENT
BEGIN:VEVENT
DTSTART;TZID=America/New_York:20250326T183000
DTEND;TZID=America/New_York:20250326T193000
DTSTAMP:20260425T100022
CREATED:20240403T161432Z
LAST-MODIFIED:20240403T161525Z
UID:10003851-1743013800-1743017400@newcumberlandpa.org
SUMMARY:Lions Club Meeting
DESCRIPTION:
URL:https://newcumberlandpa.org/event/lions-club-meeting-2/2025-03-26/
LOCATION:American Legion Post 143\, 214 Market Street\, New Cumberland\, PA\, 17070\, United States
ORGANIZER;CN="Lion Club":MAILTO:hopplea@members1st.org
END:VEVENT
BEGIN:VEVENT
DTSTART;TZID=America/New_York:20250312T113000
DTEND;TZID=America/New_York:20250312T130000
DTSTAMP:20260425T100022
CREATED:20221026T154232Z
LAST-MODIFIED:20221026T154232Z
UID:10001546-1741779000-1741784400@newcumberlandpa.org
SUMMARY:New Cumberland Olde Towne Association Monthly Meeting
DESCRIPTION:The organization is always looking for new members and the public is invited to attend. Lunch is $10.00 for guests and $8.50 for members. Membership is $5.00 a year.  For more information contact Christine Leukus at 717-319-4421 or email her at cvleukus@aol.com.
URL:https://newcumberlandpa.org/event/new-cumberland-olde-towne-association-monthly-meeting-8-2/2025-03-12/
LOCATION:American Legion Post 143\, 214 Market Street\, New Cumberland\, PA\, 17070\, United States
CATEGORIES:Community,Meetings
ORGANIZER;CN="New Cumberland Olde Towne Association":MAILTO:cvleukus@aol.com
END:VEVENT
BEGIN:VEVENT
DTSTART;TZID=America/New_York:20250226T183000
DTEND;TZID=America/New_York:20250226T193000
DTSTAMP:20260425T100022
CREATED:20240403T161432Z
LAST-MODIFIED:20240403T161525Z
UID:10003850-1740594600-1740598200@newcumberlandpa.org
SUMMARY:Lions Club Meeting
DESCRIPTION:
URL:https://newcumberlandpa.org/event/lions-club-meeting-2/2025-02-26/
LOCATION:American Legion Post 143\, 214 Market Street\, New Cumberland\, PA\, 17070\, United States
ORGANIZER;CN="Lion Club":MAILTO:hopplea@members1st.org
END:VEVENT
BEGIN:VEVENT
DTSTART;TZID=America/New_York:20250212T113000
DTEND;TZID=America/New_York:20250212T130000
DTSTAMP:20260425T100022
CREATED:20221026T154232Z
LAST-MODIFIED:20221026T154232Z
UID:10001545-1739359800-1739365200@newcumberlandpa.org
SUMMARY:New Cumberland Olde Towne Association Monthly Meeting
DESCRIPTION:The organization is always looking for new members and the public is invited to attend. Lunch is $10.00 for guests and $8.50 for members. Membership is $5.00 a year.  For more information contact Christine Leukus at 717-319-4421 or email her at cvleukus@aol.com.
URL:https://newcumberlandpa.org/event/new-cumberland-olde-towne-association-monthly-meeting-8-2/2025-02-12/
LOCATION:American Legion Post 143\, 214 Market Street\, New Cumberland\, PA\, 17070\, United States
CATEGORIES:Community,Meetings
ORGANIZER;CN="New Cumberland Olde Towne Association":MAILTO:cvleukus@aol.com
END:VEVENT
END:VCALENDAR