BEGIN:VCALENDAR
VERSION:2.0
PRODID:-//New Cumberland B&amp;PG - ECPv6.15.17.1//NONSGML v1.0//EN
CALSCALE:GREGORIAN
METHOD:PUBLISH
X-WR-CALNAME:New Cumberland B&amp;PG
X-ORIGINAL-URL:https://newcumberlandpa.org
X-WR-CALDESC:Events for New Cumberland B&amp;PG
REFRESH-INTERVAL;VALUE=DURATION:PT1H
X-Robots-Tag:noindex
X-PUBLISHED-TTL:PT1H
BEGIN:VTIMEZONE
TZID:America/New_York
BEGIN:DAYLIGHT
TZOFFSETFROM:-0500
TZOFFSETTO:-0400
TZNAME:EDT
DTSTART:20200308T070000
END:DAYLIGHT
BEGIN:STANDARD
TZOFFSETFROM:-0400
TZOFFSETTO:-0500
TZNAME:EST
DTSTART:20201101T060000
END:STANDARD
BEGIN:DAYLIGHT
TZOFFSETFROM:-0500
TZOFFSETTO:-0400
TZNAME:EDT
DTSTART:20210314T070000
END:DAYLIGHT
BEGIN:STANDARD
TZOFFSETFROM:-0400
TZOFFSETTO:-0500
TZNAME:EST
DTSTART:20211107T060000
END:STANDARD
BEGIN:DAYLIGHT
TZOFFSETFROM:-0500
TZOFFSETTO:-0400
TZNAME:EDT
DTSTART:20220313T070000
END:DAYLIGHT
BEGIN:STANDARD
TZOFFSETFROM:-0400
TZOFFSETTO:-0500
TZNAME:EST
DTSTART:20221106T060000
END:STANDARD
BEGIN:DAYLIGHT
TZOFFSETFROM:-0500
TZOFFSETTO:-0400
TZNAME:EDT
DTSTART:20230312T070000
END:DAYLIGHT
BEGIN:STANDARD
TZOFFSETFROM:-0400
TZOFFSETTO:-0500
TZNAME:EST
DTSTART:20231105T060000
END:STANDARD
BEGIN:DAYLIGHT
TZOFFSETFROM:-0500
TZOFFSETTO:-0400
TZNAME:EDT
DTSTART:20240310T070000
END:DAYLIGHT
BEGIN:STANDARD
TZOFFSETFROM:-0400
TZOFFSETTO:-0500
TZNAME:EST
DTSTART:20241103T060000
END:STANDARD
BEGIN:DAYLIGHT
TZOFFSETFROM:-0500
TZOFFSETTO:-0400
TZNAME:EDT
DTSTART:20250309T070000
END:DAYLIGHT
BEGIN:STANDARD
TZOFFSETFROM:-0400
TZOFFSETTO:-0500
TZNAME:EST
DTSTART:20251102T060000
END:STANDARD
BEGIN:DAYLIGHT
TZOFFSETFROM:-0500
TZOFFSETTO:-0400
TZNAME:EDT
DTSTART:20260308T070000
END:DAYLIGHT
BEGIN:STANDARD
TZOFFSETFROM:-0400
TZOFFSETTO:-0500
TZNAME:EST
DTSTART:20261101T060000
END:STANDARD
END:VTIMEZONE
BEGIN:VEVENT
DTSTART;TZID=America/New_York:20251127T080000
DTEND;TZID=America/New_York:20251127T120000
DTSTAMP:20260423T183339
CREATED:20251112T153211Z
LAST-MODIFIED:20251112T153227Z
UID:10004037-1764230400-1764244800@newcumberlandpa.org
SUMMARY:SMT Turkey Trot
DESCRIPTION:5k Run/Walk with proceeds benefitting Vickie’s Angel Foundation
URL:https://newcumberlandpa.org/event/smt-turkey-trot-2/
LOCATION:New Cumberland Borough Park\, Front Street & Geary Avenue\, New Cumberland\, Pennsylvania\, 17070\, United States
CATEGORIES:Community,Fundraiser
END:VEVENT
BEGIN:VEVENT
DTSTART;TZID=America/New_York:20251011T080000
DTEND;TZID=America/New_York:20251011T120000
DTSTAMP:20260423T183339
CREATED:20251002T154009Z
LAST-MODIFIED:20251002T154009Z
UID:10003976-1760169600-1760184000@newcumberlandpa.org
SUMMARY:23rd Annual Vickie's Angel Walk
DESCRIPTION:23rd Annual Vickie’s Angel Walk in Borough Park \n100% of funds raised help to support local families in active cancer treatment. \nDonate to an Angel Walk Team today!
URL:https://newcumberlandpa.org/event/23rd-annual-vickies-angel-walk/
LOCATION:New Cumberland Borough Park\, Front Street & Geary Avenue\, New Cumberland\, Pennsylvania\, 17070\, United States
CATEGORIES:Community,Fundraiser
ATTACH;FMTTYPE=image/jpeg:https://newcumberlandpa.org/wp-content/uploads/2024/01/VAF-walk.jpg
END:VEVENT
BEGIN:VEVENT
DTSTART;TZID=America/New_York:20241012T080000
DTEND;TZID=America/New_York:20241012T120000
DTSTAMP:20260423T183339
CREATED:20240123T212645Z
LAST-MODIFIED:20240123T212645Z
UID:10003805-1728720000-1728734400@newcumberlandpa.org
SUMMARY:22nd Annual Vickie's Angel Walk
DESCRIPTION:22nd Annual Vickie’s Angel Walk in Borough Park \n100% of funds raised help to support local families in active cancer treatment. \nRegistration opens in early 2024!
URL:https://newcumberlandpa.org/event/22nd-annual-vickies-angel-walk/
LOCATION:New Cumberland Borough Park\, Front Street & Geary Avenue\, New Cumberland\, Pennsylvania\, 17070\, United States
CATEGORIES:Community,Fundraiser
ATTACH;FMTTYPE=image/jpeg:https://newcumberlandpa.org/wp-content/uploads/2024/01/VAF-walk.jpg
END:VEVENT
BEGIN:VEVENT
DTSTART;TZID=America/New_York:20240627T083000
DTEND;TZID=America/New_York:20240627T143000
DTSTAMP:20260423T183339
CREATED:20240123T212001Z
LAST-MODIFIED:20240123T212001Z
UID:10003804-1719477000-1719498600@newcumberlandpa.org
SUMMARY:4th Annual Vickie's Angel Foundation Family Love Golf Tournament
DESCRIPTION:
URL:https://newcumberlandpa.org/event/4th-annual-vickies-angel-foundation-family-love-golf-tournament/
LOCATION:Iron Valley Golf Course\, 201 Iron Valley Drive\, Lebanon\, PA\, 17042\, United States
END:VEVENT
BEGIN:VEVENT
DTSTART;TZID=America/New_York:20240504T100000
DTEND;TZID=America/New_York:20240504T160000
DTSTAMP:20260423T183339
CREATED:20240122T175826Z
LAST-MODIFIED:20240122T190042Z
UID:10003802-1714816800-1714838400@newcumberlandpa.org
SUMMARY:Vickie’s Angel Motorcycle Ride
DESCRIPTION:Vickie’s Angel Motorcycle Ride is a community event that is designed to benefit Vickie’s Angel Foundation and the many active cancer treatment patients is serves across 9 counties in Pennsylvania and New Cumberland Borough. It is a family-friendly event that will benefit all with fun and awareness. \nSCHEDULE \n10 a.m. – Registration\, donuts\, and coffee\n11:30 a.m. – Opening Ceremony\n12 p.m. – KSU\n1 p.m. – 4 p.m. – Food\, music\, vendors\, raffles\, and fun \nFor more information contact Doc at (717) 802-0669 or brad@bowerins.com\, brad@bowerins.com or Stephanie at stephanieh@vawalk.org. \nRAIN DATE: May 5\, 2024
URL:https://newcumberlandpa.org/event/vickies-angel-motorcycle-ride-2/
LOCATION:New Cumberland Borough Park\, Front Street & Geary Avenue\, New Cumberland\, Pennsylvania\, 17070\, United States
ATTACH;FMTTYPE=image/png:https://newcumberlandpa.org/wp-content/uploads/2023/03/VAF-Ride-T-shirt-2023-v8.png
END:VEVENT
BEGIN:VEVENT
DTSTART;TZID=America/New_York:20231123T080000
DTEND;TZID=America/New_York:20231123T120000
DTSTAMP:20260423T183339
CREATED:20230428T162248Z
LAST-MODIFIED:20230428T162248Z
UID:10002312-1700726400-1700740800@newcumberlandpa.org
SUMMARY:SMT Turkey Trot
DESCRIPTION:5k Run/Walk with proceeds benefitting Vickie’s Angel Foundation
URL:https://newcumberlandpa.org/event/smt-turkey-trot/
LOCATION:New Cumberland Borough Park\, Front Street & Geary Avenue\, New Cumberland\, Pennsylvania\, 17070\, United States
CATEGORIES:Community,Fundraiser
END:VEVENT
BEGIN:VEVENT
DTSTART;TZID=America/New_York:20231014T080000
DTEND;TZID=America/New_York:20231014T120000
DTSTAMP:20260423T183339
CREATED:20230428T162109Z
LAST-MODIFIED:20230428T162109Z
UID:10002311-1697270400-1697284800@newcumberlandpa.org
SUMMARY:21st Annual Vickie's Angel Walk
DESCRIPTION:21st Annual Vickie’s Angel Walk in Borough Park \n100% of funds raised help to support local families in active cancer treatment.
URL:https://newcumberlandpa.org/event/21st-annual-vickies-angel-walk/
LOCATION:New Cumberland Borough Park\, Front Street & Geary Avenue\, New Cumberland\, Pennsylvania\, 17070\, United States
CATEGORIES:Community,Fundraiser
END:VEVENT
BEGIN:VEVENT
DTSTART;TZID=America/New_York:20230506T100000
DTEND;TZID=America/New_York:20230506T160000
DTSTAMP:20260423T183339
CREATED:20230331T194600Z
LAST-MODIFIED:20230331T194600Z
UID:10002263-1683367200-1683388800@newcumberlandpa.org
SUMMARY:Vickie’s Angel Motorcycle Ride
DESCRIPTION:Vickie’s Angel Motorcycle Ride is a community event that is designed to benefit Vickie’s Angel Foundation and the many active cancer treatment patients is serves across 9 counties in Pennsylvania and New Cumberland Borough. It is a family-friendly event that will benefit all with fun and awareness. \nCost: $20/rider – $5/passenger \nFor more information contact Doc at (717) 802-0669 or brad@bowerins.com or Stephanie at stephanieh@vawalk.org.
URL:https://newcumberlandpa.org/event/vickies-angel-motorcycle-ride/
LOCATION:New Cumberland Borough Park\, Front Street & Geary Avenue\, New Cumberland\, Pennsylvania\, 17070\, United States
ATTACH;FMTTYPE=image/png:https://newcumberlandpa.org/wp-content/uploads/2023/03/VAF-Ride-T-shirt-2023-v8.png
END:VEVENT
BEGIN:VEVENT
DTSTART;TZID=America/New_York:20221124T080000
DTEND;TZID=America/New_York:20221124T120000
DTSTAMP:20260423T183339
CREATED:20220117T155908Z
LAST-MODIFIED:20220117T155908Z
UID:10001952-1669276800-1669291200@newcumberlandpa.org
SUMMARY:Turkey Trot
DESCRIPTION:
URL:https://newcumberlandpa.org/event/turkey-trot-2/
LOCATION:New Cumberland Borough Park\, Front Street & Geary Avenue\, New Cumberland\, Pennsylvania\, 17070\, United States
CATEGORIES:Community,Fundraiser
END:VEVENT
BEGIN:VEVENT
DTSTART;TZID=America/New_York:20221008T080000
DTEND;TZID=America/New_York:20221008T120000
DTSTAMP:20260423T183339
CREATED:20220117T160116Z
LAST-MODIFIED:20220117T160116Z
UID:10001953-1665216000-1665230400@newcumberlandpa.org
SUMMARY:Vickie's Angel Walk
DESCRIPTION:20https://give.vickiesangelwalk.org/campaign/2022-vickies-angel-walk/c372136th Annual Vickie’s Angel Walk \n\n\nOctober 8th\, 2022 \n\n\nNew Cumberland Borough Park \n\n\n  \n\n\nSchedule:  8:00 a.m. Registration\,  8:45 a.m. Program\,  9:30 a.m. Walk \n\n\n  \n\nWe are a temporary financial bridge benefitting local families fighting cancer.
URL:https://newcumberlandpa.org/event/vickies-angel-walk-2/
LOCATION:New Cumberland Borough Park\, Front Street & Geary Avenue\, New Cumberland\, Pennsylvania\, 17070\, United States
CATEGORIES:Community,Fundraiser
END:VEVENT
BEGIN:VEVENT
DTSTART;TZID=America/New_York:20211125T080000
DTEND;TZID=America/New_York:20211125T120000
DTSTAMP:20260423T183339
CREATED:20210217T210136Z
LAST-MODIFIED:20210217T210137Z
UID:10001139-1637827200-1637841600@newcumberlandpa.org
SUMMARY:Turkey Trot
DESCRIPTION:
URL:https://newcumberlandpa.org/event/turkey-trot/
LOCATION:New Cumberland Borough Park\, Front Street & Geary Avenue\, New Cumberland\, Pennsylvania\, 17070\, United States
CATEGORIES:Community,Fundraiser
END:VEVENT
BEGIN:VEVENT
DTSTART;TZID=America/New_York:20211009T080000
DTEND;TZID=America/New_York:20211009T120000
DTSTAMP:20260423T183339
CREATED:20210217T205530Z
LAST-MODIFIED:20210920T122112Z
UID:10001138-1633766400-1633780800@newcumberlandpa.org
SUMMARY:Vickie's Angel Walk
DESCRIPTION:19th Annual Vickie’s Angel Walk \n\n\nOctober 9th\, 2021 \n\n\nNew Cumberland Borough Park \n\n\n  \n\n\nSchedule:  8:00 a.m. Registration\,  8:45 a.m. Program\,  9:30 a.m. Walk \n\n\n  \n\nWe are a temporary financial bridge benefitting local families fighting cancer.
URL:https://newcumberlandpa.org/event/vickies-angel-walk/
LOCATION:New Cumberland Borough Park\, Front Street & Geary Avenue\, New Cumberland\, Pennsylvania\, 17070\, United States
CATEGORIES:Community,Fundraiser
END:VEVENT
END:VCALENDAR