BEGIN:VCALENDAR
VERSION:2.0
PRODID:-//New Cumberland B&amp;PG - ECPv6.15.17.1//NONSGML v1.0//EN
CALSCALE:GREGORIAN
METHOD:PUBLISH
X-ORIGINAL-URL:https://newcumberlandpa.org
X-WR-CALDESC:Events for New Cumberland B&amp;PG
REFRESH-INTERVAL;VALUE=DURATION:PT1H
X-Robots-Tag:noindex
X-PUBLISHED-TTL:PT1H
BEGIN:VTIMEZONE
TZID:America/New_York
BEGIN:DAYLIGHT
TZOFFSETFROM:-0500
TZOFFSETTO:-0400
TZNAME:EDT
DTSTART:20190310T070000
END:DAYLIGHT
BEGIN:STANDARD
TZOFFSETFROM:-0400
TZOFFSETTO:-0500
TZNAME:EST
DTSTART:20191103T060000
END:STANDARD
BEGIN:DAYLIGHT
TZOFFSETFROM:-0500
TZOFFSETTO:-0400
TZNAME:EDT
DTSTART:20200308T070000
END:DAYLIGHT
BEGIN:STANDARD
TZOFFSETFROM:-0400
TZOFFSETTO:-0500
TZNAME:EST
DTSTART:20201101T060000
END:STANDARD
BEGIN:DAYLIGHT
TZOFFSETFROM:-0500
TZOFFSETTO:-0400
TZNAME:EDT
DTSTART:20210314T070000
END:DAYLIGHT
BEGIN:STANDARD
TZOFFSETFROM:-0400
TZOFFSETTO:-0500
TZNAME:EST
DTSTART:20211107T060000
END:STANDARD
BEGIN:DAYLIGHT
TZOFFSETFROM:-0500
TZOFFSETTO:-0400
TZNAME:EDT
DTSTART:20220313T070000
END:DAYLIGHT
BEGIN:STANDARD
TZOFFSETFROM:-0400
TZOFFSETTO:-0500
TZNAME:EST
DTSTART:20221106T060000
END:STANDARD
BEGIN:DAYLIGHT
TZOFFSETFROM:-0500
TZOFFSETTO:-0400
TZNAME:EDT
DTSTART:20230312T070000
END:DAYLIGHT
BEGIN:STANDARD
TZOFFSETFROM:-0400
TZOFFSETTO:-0500
TZNAME:EST
DTSTART:20231105T060000
END:STANDARD
BEGIN:DAYLIGHT
TZOFFSETFROM:-0500
TZOFFSETTO:-0400
TZNAME:EDT
DTSTART:20240310T070000
END:DAYLIGHT
BEGIN:STANDARD
TZOFFSETFROM:-0400
TZOFFSETTO:-0500
TZNAME:EST
DTSTART:20241103T060000
END:STANDARD
END:VTIMEZONE
BEGIN:VEVENT
DTSTART;TZID=America/New_York:20230527T160000
DTEND;TZID=America/New_York:20230527T180000
DTSTAMP:20260424T005456
CREATED:20230428T162413Z
LAST-MODIFIED:20230428T162413Z
UID:10002313-1685203200-1685210400@newcumberlandpa.org
SUMMARY:Trinity UMC 150th Anniversary Street Party
DESCRIPTION:Join Trinity in celebrating their 150th anniversary! Enjoy free food\, face-painting\, games for all ages\, and prizes galore!
URL:https://newcumberlandpa.org/event/trinity-umc-150th-anniversary-street-party/
LOCATION:Trinity United Methodist Church\, 415 Bridge Street\, New Cumberland\, PA\, 17070\, United States
CATEGORIES:Community
ORGANIZER;CN="Trinity United Methodist Church":MAILTO:office@trinityumnc.com
END:VEVENT
BEGIN:VEVENT
DTSTART;TZID=America/New_York:20230504T180000
DTEND;TZID=America/New_York:20230504T210000
DTSTAMP:20260424T005456
CREATED:20230428T162944Z
LAST-MODIFIED:20230428T162944Z
UID:10002315-1683223200-1683234000@newcumberlandpa.org
SUMMARY:National Day of Prayer
DESCRIPTION:The community is welcome to gather at the stairs of Trinity Church in New Cumberland and enjoy live music from the town band and corporate prayer as we lift up the needs of our town\, our nation\, the world\, and God’s kingdom.
URL:https://newcumberlandpa.org/event/national-day-of-prayer-2/
LOCATION:Trinity United Methodist Church\, 415 Bridge Street\, New Cumberland\, PA\, 17070\, United States
CATEGORIES:Community
ORGANIZER;CN="Trinity United Methodist Church":MAILTO:office@trinityumnc.com
END:VEVENT
BEGIN:VEVENT
DTSTART;TZID=America/New_York:20210712T170000
DTEND;TZID=America/New_York:20210716T203000
DTSTAMP:20260424T005456
CREATED:20210701T150931Z
LAST-MODIFIED:20210701T150931Z
UID:10001245-1626109200-1626467400@newcumberlandpa.org
SUMMARY:Treasured – Vacation Bible School
DESCRIPTION:FREE DINNER and a fun time of praise and worship\, drama\, craft\, games\, and learning to love Jesus. \nClick here for more information and to register. \n 
URL:https://newcumberlandpa.org/event/treasured-vacation-bible-school/
LOCATION:Trinity United Methodist Church\, 415 Bridge Street\, New Cumberland\, PA\, 17070\, United States
CATEGORIES:Community
ORGANIZER;CN="Trinity United Methodist Church":MAILTO:office@trinityumnc.com
END:VEVENT
BEGIN:VEVENT
DTSTART;TZID=America/New_York:20201006T180000
DTEND;TZID=America/New_York:20201006T200000
DTSTAMP:20260424T005456
CREATED:20200903T213046Z
LAST-MODIFIED:20200903T213245Z
UID:10001091-1602007200-1602014400@newcumberlandpa.org
SUMMARY:National Night Out
DESCRIPTION:
URL:https://newcumberlandpa.org/event/national-night-out/
LOCATION:New Cumberland Borough Park\, Front Street & Geary Avenue\, New Cumberland\, Pennsylvania\, 17070\, United States
CATEGORIES:Community
ORGANIZER;CN="Trinity United Methodist Church":MAILTO:office@trinityumnc.com
END:VEVENT
BEGIN:VEVENT
DTSTART;TZID=America/New_York:20200918T193000
DTEND;TZID=America/New_York:20200918T233000
DTSTAMP:20260424T005456
CREATED:20200812T151756Z
LAST-MODIFIED:20200915T132810Z
UID:10001083-1600457400-1600471800@newcumberlandpa.org
SUMMARY:Outdoor Movie in the Park – Woodlawn
DESCRIPTION:Free to the public! Join us between the large pavilion and the concession stand for a family-friendly evening! Expected time of movie start is 8:30 p.m. \nWoodlawn: One Hope. One Truth. One Way. \nFollowing government-mandated desegregation in 1973\, Tony Nathan (Caleb Castille) joins fellow African-American students at Woodlawn High School in Birmingham\, Ala. As violence and anger erupt in the city\, Woodlawn football coach Tandy Gerelds (Nic Bishop) allows an outsider (Sean Astin) to speak to his players. His message of hope and love leads to a spiritual awakening that inspires star athlete Nathan\, his teammates and other members of the community to overcome the hate that surrounds them.
URL:https://newcumberlandpa.org/event/outdoor-movie-in-the-park-2/
LOCATION:New Cumberland Borough Park\, Front Street & Geary Avenue\, New Cumberland\, Pennsylvania\, 17070\, United States
CATEGORIES:Community
ATTACH;FMTTYPE=image/jpeg:https://newcumberlandpa.org/wp-content/uploads/2020/08/woodlawn2.jpg
ORGANIZER;CN="Trinity United Methodist Church":MAILTO:office@trinityumnc.com
END:VEVENT
END:VCALENDAR