BEGIN:VCALENDAR
VERSION:2.0
PRODID:-//New Cumberland B&amp;PG - ECPv6.15.17.1//NONSGML v1.0//EN
CALSCALE:GREGORIAN
METHOD:PUBLISH
X-WR-CALNAME:New Cumberland B&amp;PG
X-ORIGINAL-URL:https://newcumberlandpa.org
X-WR-CALDESC:Events for New Cumberland B&amp;PG
REFRESH-INTERVAL;VALUE=DURATION:PT1H
X-Robots-Tag:noindex
X-PUBLISHED-TTL:PT1H
BEGIN:VTIMEZONE
TZID:America/New_York
BEGIN:DAYLIGHT
TZOFFSETFROM:-0500
TZOFFSETTO:-0400
TZNAME:EDT
DTSTART:20190310T070000
END:DAYLIGHT
BEGIN:STANDARD
TZOFFSETFROM:-0400
TZOFFSETTO:-0500
TZNAME:EST
DTSTART:20191103T060000
END:STANDARD
BEGIN:DAYLIGHT
TZOFFSETFROM:-0500
TZOFFSETTO:-0400
TZNAME:EDT
DTSTART:20200308T070000
END:DAYLIGHT
BEGIN:STANDARD
TZOFFSETFROM:-0400
TZOFFSETTO:-0500
TZNAME:EST
DTSTART:20201101T060000
END:STANDARD
BEGIN:DAYLIGHT
TZOFFSETFROM:-0500
TZOFFSETTO:-0400
TZNAME:EDT
DTSTART:20210314T070000
END:DAYLIGHT
BEGIN:STANDARD
TZOFFSETFROM:-0400
TZOFFSETTO:-0500
TZNAME:EST
DTSTART:20211107T060000
END:STANDARD
BEGIN:DAYLIGHT
TZOFFSETFROM:-0500
TZOFFSETTO:-0400
TZNAME:EDT
DTSTART:20220313T070000
END:DAYLIGHT
BEGIN:STANDARD
TZOFFSETFROM:-0400
TZOFFSETTO:-0500
TZNAME:EST
DTSTART:20221106T060000
END:STANDARD
END:VTIMEZONE
BEGIN:VEVENT
DTSTART;TZID=America/New_York:20210114T170000
DTEND;TZID=America/New_York:20210114T190000
DTSTAMP:20260424T022652
CREATED:20201223T160919Z
LAST-MODIFIED:20201223T160919Z
UID:10001122-1610643600-1610650800@newcumberlandpa.org
SUMMARY:2nd Thursday
DESCRIPTION:
URL:https://newcumberlandpa.org/event/2nd-thursday-4/
LOCATION:Downtown New Cumberland\, Bridge Street\, New Cumberland\, PA\, 17070\, United States
CATEGORIES:Community
END:VEVENT
BEGIN:VEVENT
DTSTART;TZID=America/New_York:20201210T170000
DTEND;TZID=America/New_York:20201210T190000
DTSTAMP:20260424T022652
CREATED:20201201T220937Z
LAST-MODIFIED:20201201T221129Z
UID:10001117-1607619600-1607626800@newcumberlandpa.org
SUMMARY:2nd Thursday
DESCRIPTION:
URL:https://newcumberlandpa.org/event/2nd-thursday-3/
LOCATION:Downtown New Cumberland\, Bridge Street\, New Cumberland\, PA\, 17070\, United States
CATEGORIES:Community
END:VEVENT
BEGIN:VEVENT
DTSTART;TZID=America/New_York:20201112T170000
DTEND;TZID=America/New_York:20201112T190000
DTSTAMP:20260424T022652
CREATED:20201027T131600Z
LAST-MODIFIED:20201027T131600Z
UID:10001106-1605200400-1605207600@newcumberlandpa.org
SUMMARY:2nd Thursday
DESCRIPTION:
URL:https://newcumberlandpa.org/event/2nd-thursday-2/
LOCATION:Downtown New Cumberland\, Bridge Street\, New Cumberland\, PA\, 17070\, United States
CATEGORIES:Community
END:VEVENT
BEGIN:VEVENT
DTSTART;TZID=America/New_York:20201008T170000
DTEND;TZID=America/New_York:20201008T190000
DTSTAMP:20260424T022652
CREATED:20200917T205943Z
LAST-MODIFIED:20200917T210042Z
UID:10001095-1602176400-1602183600@newcumberlandpa.org
SUMMARY:2nd Thursday
DESCRIPTION:
URL:https://newcumberlandpa.org/event/2nd-thursday/
LOCATION:Downtown New Cumberland\, Bridge Street\, New Cumberland\, PA\, 17070\, United States
CATEGORIES:Community
END:VEVENT
END:VCALENDAR