BEGIN:VCALENDAR
VERSION:2.0
PRODID:-//New Cumberland B&amp;PG - ECPv6.15.17.1//NONSGML v1.0//EN
CALSCALE:GREGORIAN
METHOD:PUBLISH
X-WR-CALNAME:New Cumberland B&amp;PG
X-ORIGINAL-URL:https://newcumberlandpa.org
X-WR-CALDESC:Events for New Cumberland B&amp;PG
REFRESH-INTERVAL;VALUE=DURATION:PT1H
X-Robots-Tag:noindex
X-PUBLISHED-TTL:PT1H
BEGIN:VTIMEZONE
TZID:America/New_York
BEGIN:DAYLIGHT
TZOFFSETFROM:-0500
TZOFFSETTO:-0400
TZNAME:EDT
DTSTART:20200308T070000
END:DAYLIGHT
BEGIN:STANDARD
TZOFFSETFROM:-0400
TZOFFSETTO:-0500
TZNAME:EST
DTSTART:20201101T060000
END:STANDARD
BEGIN:DAYLIGHT
TZOFFSETFROM:-0500
TZOFFSETTO:-0400
TZNAME:EDT
DTSTART:20210314T070000
END:DAYLIGHT
BEGIN:STANDARD
TZOFFSETFROM:-0400
TZOFFSETTO:-0500
TZNAME:EST
DTSTART:20211107T060000
END:STANDARD
BEGIN:DAYLIGHT
TZOFFSETFROM:-0500
TZOFFSETTO:-0400
TZNAME:EDT
DTSTART:20220313T070000
END:DAYLIGHT
BEGIN:STANDARD
TZOFFSETFROM:-0400
TZOFFSETTO:-0500
TZNAME:EST
DTSTART:20221106T060000
END:STANDARD
END:VTIMEZONE
BEGIN:VEVENT
DTSTART;TZID=America/New_York:20210518T193000
DTEND;TZID=America/New_York:20210518T203000
DTSTAMP:20260423T235248
CREATED:20210513T195301Z
LAST-MODIFIED:20210513T195301Z
UID:10001195-1621366200-1621369800@newcumberlandpa.org
SUMMARY:Library Board Meeting
DESCRIPTION:This meeting will be held via Zoom.
URL:https://newcumberlandpa.org/event/library-board-meeting-5/
LOCATION:New Cumberland Public Library
CATEGORIES:Meetings
END:VEVENT
BEGIN:VEVENT
DTSTART;TZID=America/New_York:20210420T193000
DTEND;TZID=America/New_York:20210420T210000
DTSTAMP:20260423T235248
CREATED:20210419T142259Z
LAST-MODIFIED:20210419T142259Z
UID:10001166-1618947000-1618952400@newcumberlandpa.org
SUMMARY:Library Board Meeting
DESCRIPTION:
URL:https://newcumberlandpa.org/event/library-board-meeting-4/
LOCATION:New Cumberland Public Library
CATEGORIES:Meetings
END:VEVENT
BEGIN:VEVENT
DTSTART;TZID=America/New_York:20210316T193000
DTEND;TZID=America/New_York:20210316T210000
DTSTAMP:20260423T235248
CREATED:20210217T211100Z
LAST-MODIFIED:20210217T211113Z
UID:10001152-1615923000-1615928400@newcumberlandpa.org
SUMMARY:Library Board Meeting
DESCRIPTION:
URL:https://newcumberlandpa.org/event/library-board-meeting-3/
LOCATION:New Cumberland Public Library
END:VEVENT
BEGIN:VEVENT
DTSTART;TZID=America/New_York:20210216T193000
DTEND;TZID=America/New_York:20210216T210000
DTSTAMP:20260423T235248
CREATED:20210115T154834Z
LAST-MODIFIED:20210115T154834Z
UID:10001130-1613503800-1613509200@newcumberlandpa.org
SUMMARY:Library Board Meeting
DESCRIPTION:
URL:https://newcumberlandpa.org/event/library-board-meeting-2/
LOCATION:New Cumberland Public Library
END:VEVENT
BEGIN:VEVENT
DTSTART;TZID=America/New_York:20210119T193000
DTEND;TZID=America/New_York:20210119T210000
DTSTAMP:20260423T235248
CREATED:20201223T160756Z
LAST-MODIFIED:20201223T160756Z
UID:10001121-1611084600-1611090000@newcumberlandpa.org
SUMMARY:Library Board Meeting
DESCRIPTION:
URL:https://newcumberlandpa.org/event/library-board-meeting/
LOCATION:New Cumberland Public Library
END:VEVENT
END:VCALENDAR