BEGIN:VCALENDAR
VERSION:2.0
PRODID:-//New Cumberland B&amp;PG - ECPv6.15.17.1//NONSGML v1.0//EN
CALSCALE:GREGORIAN
METHOD:PUBLISH
X-WR-CALNAME:New Cumberland B&amp;PG
X-ORIGINAL-URL:https://newcumberlandpa.org
X-WR-CALDESC:Events for New Cumberland B&amp;PG
REFRESH-INTERVAL;VALUE=DURATION:PT1H
X-Robots-Tag:noindex
X-PUBLISHED-TTL:PT1H
BEGIN:VTIMEZONE
TZID:America/New_York
BEGIN:DAYLIGHT
TZOFFSETFROM:-0500
TZOFFSETTO:-0400
TZNAME:EDT
DTSTART:20180311T070000
END:DAYLIGHT
BEGIN:STANDARD
TZOFFSETFROM:-0400
TZOFFSETTO:-0500
TZNAME:EST
DTSTART:20181104T060000
END:STANDARD
BEGIN:DAYLIGHT
TZOFFSETFROM:-0500
TZOFFSETTO:-0400
TZNAME:EDT
DTSTART:20190310T070000
END:DAYLIGHT
BEGIN:STANDARD
TZOFFSETFROM:-0400
TZOFFSETTO:-0500
TZNAME:EST
DTSTART:20191103T060000
END:STANDARD
BEGIN:DAYLIGHT
TZOFFSETFROM:-0500
TZOFFSETTO:-0400
TZNAME:EDT
DTSTART:20200308T070000
END:DAYLIGHT
BEGIN:STANDARD
TZOFFSETFROM:-0400
TZOFFSETTO:-0500
TZNAME:EST
DTSTART:20201101T060000
END:STANDARD
BEGIN:DAYLIGHT
TZOFFSETFROM:-0500
TZOFFSETTO:-0400
TZNAME:EDT
DTSTART:20210314T070000
END:DAYLIGHT
BEGIN:STANDARD
TZOFFSETFROM:-0400
TZOFFSETTO:-0500
TZNAME:EST
DTSTART:20211107T060000
END:STANDARD
BEGIN:DAYLIGHT
TZOFFSETFROM:-0500
TZOFFSETTO:-0400
TZNAME:EDT
DTSTART:20220313T070000
END:DAYLIGHT
BEGIN:STANDARD
TZOFFSETFROM:-0400
TZOFFSETTO:-0500
TZNAME:EST
DTSTART:20221106T060000
END:STANDARD
BEGIN:DAYLIGHT
TZOFFSETFROM:-0500
TZOFFSETTO:-0400
TZNAME:EDT
DTSTART:20230312T070000
END:DAYLIGHT
BEGIN:STANDARD
TZOFFSETFROM:-0400
TZOFFSETTO:-0500
TZNAME:EST
DTSTART:20231105T060000
END:STANDARD
BEGIN:DAYLIGHT
TZOFFSETFROM:-0500
TZOFFSETTO:-0400
TZNAME:EDT
DTSTART:20240310T070000
END:DAYLIGHT
BEGIN:STANDARD
TZOFFSETFROM:-0400
TZOFFSETTO:-0500
TZNAME:EST
DTSTART:20241103T060000
END:STANDARD
BEGIN:DAYLIGHT
TZOFFSETFROM:-0500
TZOFFSETTO:-0400
TZNAME:EDT
DTSTART:20250309T070000
END:DAYLIGHT
BEGIN:STANDARD
TZOFFSETFROM:-0400
TZOFFSETTO:-0500
TZNAME:EST
DTSTART:20251102T060000
END:STANDARD
END:VTIMEZONE
BEGIN:VEVENT
DTSTART;TZID=America/New_York:20240914T080000
DTEND;TZID=America/New_York:20240914T140000
DTSTAMP:20260423T235113
CREATED:20240911T142944Z
LAST-MODIFIED:20240911T142944Z
UID:10003915-1726300800-1726322400@newcumberlandpa.org
SUMMARY:Community Blood Drive
DESCRIPTION:The New Cumberland First Church of God\, 323 Reno Avenue\, New Cumberland\, will hold a community blood drive for the Central PA Blood Bank on Saturday\, September 14\, 2024\, from 8:00 AM to 2:00 PM at the church. \nEveryone will receive:\n• 2 FREE admission vouchers to a Harrisburg Comedy Zone Show\n• Certificate for a FREE Large Blizzard from Dairy Queen\n• $5 Giant gift card\n• Blood Donor T-Shirt \nA FORM OF ID REQUIRED TO DONATE \nSafety protocols are in place to provide you with a safe and comfortable donation experience:\nIt is strongly encouraged that:\n• You schedule an appointment to donate blood. Appointments help us improve your donation experience.\n• Walk-ins are welcome; however\, donors with appointments will be taken first and this may result in a significant waiting time. \nTo schedule an appointment at this blood drive please click on the link below.\nClick here to schedule an appointment at the New Cumberland First Church of God Community Blood Drive or call us at:  1-800-771-0059 \nThank you for supporting our blood drive. We look forward to seeing you there! \nTo contact us with questions\, click on this email CentralPennBloodBank@cpbb.org or call 1-800-771-0059
URL:https://newcumberlandpa.org/event/community-blood-drive-2/
LOCATION:New Cumberland First Church of God\, 323 Reno Street\, New Cumberland\, Pennsylvania\, 17070\, United States
ORGANIZER;CN="New Cumberland First Church of God":MAILTO:gen@odessadesign.com
END:VEVENT
BEGIN:VEVENT
DTSTART;TZID=America/New_York:20240309T080000
DTEND;TZID=America/New_York:20240309T140000
DTSTAMP:20260423T235113
CREATED:20240201T162937Z
LAST-MODIFIED:20240201T162937Z
UID:10003806-1709971200-1709992800@newcumberlandpa.org
SUMMARY:Community Blood Drive
DESCRIPTION:The New Cumberland First Church of God\, 323 Reno Avenue\, New Cumberland\, will hold a community blood drive for the Central PA Blood Bank on Saturday\, March 9\, 2024\, from 8:00 AM to 2:00 PM at the church. \nIt is strongly encouraged that: \n\nfiAll donors make a donation appointment through the Central Pennsylvania Blood Bank by calling 1-800-771-0059 OR by going to the website at https://donate.717giveblood.org/donor/schedules/zip.\nAll donors decide for themselves whether or not they feel more comfortable wearing a mask.  Masks are optional; therefore\, it is an individual choice.\n\nFor more information\, please call Rose Bruce at 717-215-0328 or contact the CPBB directly at 1-800-771-0059.
URL:https://newcumberlandpa.org/event/community-blood-drive/
LOCATION:New Cumberland First Church of God\, 323 Reno Street\, New Cumberland\, Pennsylvania\, 17070\, United States
ORGANIZER;CN="New Cumberland First Church of God":MAILTO:gen@odessadesign.com
END:VEVENT
BEGIN:VEVENT
DTSTART;TZID=America/New_York:20231202T150000
DTEND;TZID=America/New_York:20231202T180000
DTSTAMP:20260423T235113
CREATED:20231114T193535Z
LAST-MODIFIED:20231114T193535Z
UID:10003584-1701529200-1701540000@newcumberlandpa.org
SUMMARY:Christmas Open House
DESCRIPTION:The New Cumberland First Church of God\, 323 Reno Avenue\, New Cumberland\, PA will be hosting on Saturday\, December 2\, 2023\, from 3-6 pm an open house for our community.  Neighbors are invited to come to the church for drinks\, snacks\, enjoy some Christmas music and see the lovely decorations and different areas of the building.  If the weather permits\, we will also be offering s’mores in the parking lot.  For more information call the church office at 717-774-2112.
URL:https://newcumberlandpa.org/event/christmas-open-house/
LOCATION:New Cumberland First Church of God\, 323 Reno Street\, New Cumberland\, Pennsylvania\, 17070\, United States
ORGANIZER;CN="New Cumberland First Church of God":MAILTO:gen@odessadesign.com
END:VEVENT
BEGIN:VEVENT
DTSTART;TZID=America/New_York:20230823T130000
DTEND;TZID=America/New_York:20230823T190000
DTSTAMP:20260423T235113
CREATED:20230731T150806Z
LAST-MODIFIED:20230731T150806Z
UID:10003550-1692795600-1692817200@newcumberlandpa.org
SUMMARY:Blood Drive
DESCRIPTION:The New Cumberland First Church of God\, 323 Reno Avenue\, New Cumberland\, will hold a community blood drive for the Central PA Blood Bank on Wednesday\, August 23\, 2023\, from 1:00 PM to 7:00 PM at the church. \nIt is strongly encouraged that: \n\nAll donors make a donation appointment through the Central Pennsylvania Blood Bank by calling 1-800-771-0059 OR by going to the website at https://donate.717giveblood.org/donor/schedules/zip.\nAll donors decide for themselves whether or not they feel more comfortable wearing a mask.  Masks are optional; therefore\, it is an individual choice.\n\nFor more information\, please call Rose Bruce at 717-215-0328 or contact the CPBB directly at 1-800-771-0059.
URL:https://newcumberlandpa.org/event/blood-drive-14/
LOCATION:New Cumberland First Church of God\, 323 Reno Street\, New Cumberland\, Pennsylvania\, 17070\, United States
CATEGORIES:Community,Fundraiser
ORGANIZER;CN="New Cumberland First Church of God":MAILTO:gen@odessadesign.com
END:VEVENT
BEGIN:VEVENT
DTSTART;TZID=America/New_York:20230311T080000
DTEND;TZID=America/New_York:20230311T140000
DTSTAMP:20260423T235113
CREATED:20230216T133017Z
LAST-MODIFIED:20230216T133017Z
UID:10002058-1678521600-1678543200@newcumberlandpa.org
SUMMARY:Blood Drive
DESCRIPTION:The New Cumberland First Church of God\, 323 Reno Avenue\, New Cumberland\, will hold a community blood drive for the Central PA Blood Bank on Saturday\, March 11\, 2023\, from 8:00 AM to 2:00 PM at the church. \nDue to the current Covid-19 situation\, there will be appropriate social distancing and sanitation protocols in place.  In addition\, it is strongly encouraged that: \n\nAll donors make a donation appointment through the Central Pennsylvania Blood Bank by calling 1-800-771-0059 OR by going to the website at https://donate.717giveblood.org/donor/schedules/zip.\nAll donors decide for themselves whether or not they feel more comfortable wearing a mask.  Masks are optional; therefore\, it is an individual choice.\n\nFor more information\, please call Rose Bruce at 717-215-0328 or contact the CPBB directly at 1-800-771-0059.
URL:https://newcumberlandpa.org/event/blood-drive-13/
LOCATION:New Cumberland First Church of God\, 323 Reno Street\, New Cumberland\, Pennsylvania\, 17070\, United States
CATEGORIES:Community,Fundraiser
ORGANIZER;CN="New Cumberland First Church of God":MAILTO:gen@odessadesign.com
END:VEVENT
BEGIN:VEVENT
DTSTART;TZID=America/New_York:20221203T080000
DTEND;TZID=America/New_York:20221203T140000
DTSTAMP:20260423T235113
CREATED:20221103T161235Z
LAST-MODIFIED:20221103T161235Z
UID:10002038-1670054400-1670076000@newcumberlandpa.org
SUMMARY:Blood Drive
DESCRIPTION:The New Cumberland First Church of God\, 323 Reno Avenue\, New Cumberland\, will hold a community blood drive for the Central PA Blood Bank on Saturday\, December 3\, 2022\, from 8:00 AM to 2:00 PM at the church. \nDue to the current Covid-19 situation\, there will be appropriate social distancing and sanitation protocols in place.  In addition\, it is strongly encouraged that: \n\nAll donors make a donation appointment through the Central Pennsylvania Blood Bank by calling 1-800-771-0059 OR by going to the website at https://donate.717giveblood.org/donor/schedules/zip.\nAll donors decide for themselves whether or not they feel more comfortable wearing a mask.  Masks are optional; therefore\, it is an individual choice.\n\nFor more information\, please call Rose Bruce at 717-215-0328 or contact the CPBB directly at 1-800-771-0059.
URL:https://newcumberlandpa.org/event/blood-drive-12/
LOCATION:New Cumberland First Church of God\, 323 Reno Street\, New Cumberland\, Pennsylvania\, 17070\, United States
CATEGORIES:Community,Fundraiser
ORGANIZER;CN="New Cumberland First Church of God":MAILTO:gen@odessadesign.com
END:VEVENT
BEGIN:VEVENT
DTSTART;TZID=America/New_York:20220915T130000
DTEND;TZID=America/New_York:20220915T190000
DTSTAMP:20260423T235113
CREATED:20220825T143715Z
LAST-MODIFIED:20220825T143715Z
UID:10001964-1663246800-1663268400@newcumberlandpa.org
SUMMARY:Blood Drive
DESCRIPTION:The New Cumberland First Church of God\, 323 Reno Avenue\, New Cumberland\, will hold a community blood drive for the Central PA Blood Bank on Thursday\, September 15\, 2022\, from 1:00 PM to 7:00 PM at the church. \nDue to the current Covid-19 pandemic\, there will be appropriate social distancing and sanitation protocols in place.  Also\, donors are required to adhere to the following: \n\nAll donors must make a donation appointment through the Central Pennsylvania Blood Bank by calling 1-800-771-0059 OR by going to the website at https://donate.717giveblood.org/donor/schedules/zip.\nAll donors must wear a mask from the time they enter the church\, during the donation process and up until the time they exit the building.\n\nFor more information\, please call Rose Bruce at 717-215-0328 or contact the CPBB directly at 1-800-771-0059.
URL:https://newcumberlandpa.org/event/blood-drive-11/
LOCATION:New Cumberland First Church of God\, 323 Reno Street\, New Cumberland\, Pennsylvania\, 17070\, United States
CATEGORIES:Community,Fundraiser
ORGANIZER;CN="New Cumberland First Church of God":MAILTO:gen@odessadesign.com
END:VEVENT
BEGIN:VEVENT
DTSTART;TZID=America/New_York:20220615T150000
DTEND;TZID=America/New_York:20220615T200000
DTSTAMP:20260423T235113
CREATED:20220524T203444Z
LAST-MODIFIED:20220524T203444Z
UID:10001956-1655305200-1655323200@newcumberlandpa.org
SUMMARY:Blood Drive
DESCRIPTION:The New Cumberland First Church of God\, 323 Reno Avenue\, New Cumberland\, will hold a community blood drive for the Central PA Blood Bank on Saturday\, March 5\, 2022\, from 8:00 AM to 2:00 PM at the church. \nDue to the current Covid-19 pandemic\, there will be appropriate social distancing and sanitation protocols in place.  Also\, donors are required to adhere to the following: \n\nAll donors must make a donation appointment through the Central Pennsylvania Blood Bank by calling 1-800-771-0059 OR by going to the website at https://donate.717giveblood.org/donor/schedules/zip.\nAll donors must wear a mask from the time they enter the church\, during the donation process and up until the time they exit the building.\n\nFor more information please call Rose Bruce at 717-215-0328 or contact the CPBB directly at 1-800-771-0059.
URL:https://newcumberlandpa.org/event/blood-drive-10/
LOCATION:New Cumberland First Church of God\, 323 Reno Street\, New Cumberland\, Pennsylvania\, 17070\, United States
CATEGORIES:Community,Fundraiser
ORGANIZER;CN="New Cumberland First Church of God":MAILTO:gen@odessadesign.com
END:VEVENT
BEGIN:VEVENT
DTSTART;TZID=America/New_York:20220522T140000
DTEND;TZID=America/New_York:20220522T150000
DTSTAMP:20260423T235113
CREATED:20220511T135931Z
LAST-MODIFIED:20220511T135931Z
UID:10001955-1653228000-1653231600@newcumberlandpa.org
SUMMARY:Rededication Organ Recital
DESCRIPTION:The New Cumberland First Church of God\, 323 Reno Avenue\, New Cumberland\, will hold a Rededication Organ Recital on Sunday\, May 22\, 2022\, at 2:00 PM at the church.  There will be pieces played by Joe Gribb\, an accomplished organist\, as well as some hymns\, solos\, and duets.  A social time with snacks and cookies will follow the performance.  All are welcome. \nFor more information call the church office at 717-774-2112.
URL:https://newcumberlandpa.org/event/rededication-organ-recital/
LOCATION:New Cumberland First Church of God\, 323 Reno Street\, New Cumberland\, Pennsylvania\, 17070\, United States
ORGANIZER;CN="New Cumberland First Church of God":MAILTO:gen@odessadesign.com
END:VEVENT
BEGIN:VEVENT
DTSTART;TZID=America/New_York:20220305T080000
DTEND;TZID=America/New_York:20220305T140000
DTSTAMP:20260423T235113
CREATED:20220110T150551Z
LAST-MODIFIED:20220124T161122Z
UID:10001888-1646467200-1646488800@newcumberlandpa.org
SUMMARY:Blood Drive
DESCRIPTION:The New Cumberland First Church of God\, 323 Reno Avenue\, New Cumberland\, will hold a community blood drive for the Central PA Blood Bank on Saturday\, March 5\, 2022\, from 8:00 AM to 2:00 PM at the church. \nDue to the current Covid-19 pandemic\, there will be appropriate social distancing and sanitation protocols in place.  Also\, donors are required to adhere to the following: \n\nAll donors must make a donation appointment through the Central Pennsylvania Blood Bank by calling 1-800-771-0059 OR by going to the website at https://donate.717giveblood.org/donor/schedules/zip.\nAll donors must wear a mask from the time they enter the church\, during the donation process and up until the time they exit the building.\n\nFor more information please call Rose Bruce at 717-215-0328 or contact the CPBB directly at 1-800-771-0059.
URL:https://newcumberlandpa.org/event/blood-drive-9/
LOCATION:New Cumberland First Church of God\, 323 Reno Street\, New Cumberland\, Pennsylvania\, 17070\, United States
CATEGORIES:Community,Fundraiser
ORGANIZER;CN="New Cumberland First Church of God":MAILTO:gen@odessadesign.com
END:VEVENT
BEGIN:VEVENT
DTSTART;TZID=America/New_York:20211204T080000
DTEND;TZID=America/New_York:20211204T140000
DTSTAMP:20260423T235113
CREATED:20211026T192105Z
LAST-MODIFIED:20211026T192105Z
UID:10001286-1638604800-1638626400@newcumberlandpa.org
SUMMARY:Blood Drive
DESCRIPTION:The New Cumberland First Church of God\, 323 Reno Avenue\, New Cumberland\, will hold a community blood drive for the Central PA Blood Bank on Saturday\, December 4\, 2021\, from 8:00 AM to 2:00 PM at the church. \nDue to the current Covid-19 pandemic\, there will be appropriate social distancing and sanitation protocols in place.  Also\, donors are required to adhere to the following: \n\nAll donors must make a donation appointment through the Central Pennsylvania Blood Bank by calling 1-800-771-0059 OR by going to the website at https://donate.717giveblood.org/donor/schedules/zip.\nAll donors must wear a mask from the time they enter the church\, during the donation process and up until the time they exit the building.\n\nFor more information please call Rose Bruce at 717-215-0328 or contact the CPBB directly at 1-800-771-0059.
URL:https://newcumberlandpa.org/event/blood-drive-8/
LOCATION:New Cumberland First Church of God\, 323 Reno Street\, New Cumberland\, Pennsylvania\, 17070\, United States
CATEGORIES:Community,Fundraiser
ORGANIZER;CN="New Cumberland First Church of God":MAILTO:gen@odessadesign.com
END:VEVENT
BEGIN:VEVENT
DTSTART;TZID=America/New_York:20210916T110000
DTEND;TZID=America/New_York:20210916T190000
DTSTAMP:20260423T235113
CREATED:20210812T155109Z
LAST-MODIFIED:20210812T155109Z
UID:10001257-1631790000-1631818800@newcumberlandpa.org
SUMMARY:Blood Drive
DESCRIPTION:The New Cumberland First Church of God\, 323 Reno Avenue\, New Cumberland\, will hold a community blood drive for the Central PA Blood Bank on Thursday\, September 16\, 2021\, from 11:00 AM to 7:00 PM at the church in Fellowship Hall. \nDue to the current Covid-19 pandemic\, there will be appropriate social distancing and sanitation protocols in place.  Also\, donors are required to adhere to the following: \n\nAll donors must make a donation appointment through the Central Pennsylvania Blood Bank by calling 1-800-771-0059 OR by going to the website at https://donate.717giveblood.org/donor/schedules/zip.\nAll donors must wear a mask from the time they enter the church\, during the donation process and up until the time they exit the building.\n\nFor more information please call Rose Bruce at 717-215-0328 or contact the CPBB directly at 1-800-771-0059.
URL:https://newcumberlandpa.org/event/blood-drive-7/
LOCATION:New Cumberland First Church of God\, 323 Reno Street\, New Cumberland\, Pennsylvania\, 17070\, United States
CATEGORIES:Community,Fundraiser
ORGANIZER;CN="New Cumberland First Church of God":MAILTO:gen@odessadesign.com
END:VEVENT
BEGIN:VEVENT
DTSTART;TZID=America/New_York:20210619T080000
DTEND;TZID=America/New_York:20210619T140000
DTSTAMP:20260423T235113
CREATED:20210505T135011Z
LAST-MODIFIED:20210505T135011Z
UID:10001187-1624089600-1624111200@newcumberlandpa.org
SUMMARY:Blood Drive
DESCRIPTION:The New Cumberland First Church of God\, 323 Reno Avenue\, New Cumberland\, will hold a community blood drive for the Central PA Blood Bank on Saturday\, June 19\, 2021\, from 8:00 AM to 2:00 PM at the church. \nDue to the current Covid-19 pandemic\, there will be appropriate social distancing and sanitation protocols in place.  Also\, donors are required to adhere to the following: \n\nAll donors must make a donation appointment through the Central Pennsylvania Blood Bank by calling 1-800-771-0059 OR by going to the website at https://donate.717giveblood.org/donor/schedules/zip.\nAll donors must wear a mask from the time they enter the church\, during the donation process and up until the time they exit the building.\n\nFor more information please call Rose Bruce at 717-215-0328 or contact the CPBB directly at 1-800-771-0059.
URL:https://newcumberlandpa.org/event/blood-drive-6/
LOCATION:New Cumberland First Church of God\, 323 Reno Street\, New Cumberland\, Pennsylvania\, 17070\, United States
CATEGORIES:Community,Fundraiser
ORGANIZER;CN="New Cumberland First Church of God":MAILTO:gen@odessadesign.com
END:VEVENT
BEGIN:VEVENT
DTSTART;TZID=America/New_York:20210213T080000
DTEND;TZID=America/New_York:20210213T140000
DTSTAMP:20260423T235113
CREATED:20210112T171942Z
LAST-MODIFIED:20210112T171942Z
UID:10001123-1613203200-1613224800@newcumberlandpa.org
SUMMARY:Blood Drive
DESCRIPTION:The New Cumberland First Church of God\, 323 Reno Avenue\, New Cumberland\, will hold a community blood drive for the Central PA Blood Bank on Saturday\, February 13\, 2021\, from 8:00 AM to 2:00 PM at the church. \nDue to the current Covid-19 pandemic\, there will be appropriate social distancing and sanitation protocols in place.  Also\, donors are required to adhere to the following: \n\nAll donors must make a donation appointment through the Central Pennsylvania Blood Bank by calling 1-800-771-0059.\nAll donors must wear a mask from the time they enter the church\, during the donation process and up until the time they exit the building.\n\nFor more information please call Rose Bruce at 717-215-0328 or contact the CPBB directly at 1-800-771-0059.
URL:https://newcumberlandpa.org/event/blood-drive-5/
LOCATION:New Cumberland First Church of God\, 323 Reno Street\, New Cumberland\, Pennsylvania\, 17070\, United States
CATEGORIES:Community,Fundraiser
ORGANIZER;CN="New Cumberland First Church of God":MAILTO:gen@odessadesign.com
END:VEVENT
BEGIN:VEVENT
DTSTART;TZID=America/New_York:20201205T080000
DTEND;TZID=America/New_York:20201205T140000
DTSTAMP:20260423T235113
CREATED:20201023T200054Z
LAST-MODIFIED:20201023T200054Z
UID:10001102-1607155200-1607176800@newcumberlandpa.org
SUMMARY:Blood Drive
DESCRIPTION:The New Cumberland First Church of God\, 323 Reno Avenue\, New Cumberland\, will hold a community blood drive for the Central PA Blood Bank on Saturday\, December 5\, 2020\, from 8:00 AM to 2:00 PM at the church. \nDue to the current Covid-19 pandemic\, there will be appropriate social distancing and sanitation protocols in place.  Also\, donors are required to adhere to the following: \n\nAll donors must make a donation appointment through the Central Pennsylvania Blood Bank by calling 1-800-771-0059.\nAll donors must wear a mask from the time they enter the church\, during the donation process and up until the time they exit the building.\n\nFor more information please call Rose Bruce at 717-215-0328 or contact the CPBB directly at 1-800-771-0059.
URL:https://newcumberlandpa.org/event/blood-drive-4/
LOCATION:New Cumberland First Church of God\, 323 Reno Street\, New Cumberland\, Pennsylvania\, 17070\, United States
CATEGORIES:Community,Fundraiser
ORGANIZER;CN="New Cumberland First Church of God":MAILTO:gen@odessadesign.com
END:VEVENT
BEGIN:VEVENT
DTSTART;TZID=America/New_York:20201003T080000
DTEND;TZID=America/New_York:20201003T140000
DTSTAMP:20260423T235113
CREATED:20200917T205713Z
LAST-MODIFIED:20200917T210109Z
UID:10001094-1601712000-1601733600@newcumberlandpa.org
SUMMARY:Blood Drive
DESCRIPTION:The New Cumberland First Church of God\, 323 Reno Avenue\, New Cumberland\, will hold a community blood drive for the Central PA Blood Bank on Saturday\, October 2\, 2020\, from 8:00 AM to 2:00 PM at the church. \nDue to the current Covid-19 pandemic\, there will be appropriate social distancing and sanitation protocols in place.  Also\, donors are required to adhere to the following: \n\nAll donors must make a donation appointment through the Central Pennsylvania Blood Bank by calling 1-800-771-0059.\nAll donors must wear a mask from the time they enter the church\, during the donation process and up until the time they exit the building.\n\nFor more information please call Rose Bruce at 717-215-0328 or contact the CPBB directly at 1-800-771-0059.
URL:https://newcumberlandpa.org/event/blood-drive-3/
LOCATION:New Cumberland First Church of God\, 323 Reno Street\, New Cumberland\, Pennsylvania\, 17070\, United States
CATEGORIES:Community,Fundraiser
ORGANIZER;CN="New Cumberland First Church of God":MAILTO:gen@odessadesign.com
END:VEVENT
BEGIN:VEVENT
DTSTART;TZID=America/New_York:20200725T080000
DTEND;TZID=America/New_York:20200725T130000
DTSTAMP:20260423T235113
CREATED:20200716T185448Z
LAST-MODIFIED:20200716T185510Z
UID:10001079-1595664000-1595682000@newcumberlandpa.org
SUMMARY:Blood Drive
DESCRIPTION:The New Cumberland First Church of God\, 323 Reno Avenue\, New Cumberland\, will hold a community blood drive for the Central PA Blood Bank on Saturday\, July 25\, 2020\, from 8:00 AM to 1:00 PM at the church. \nDue to the current Covid-19 pandemic\, there will be appropriate social distancing and sanitation protocols in place.  Also\, donors are required to adhere to the following: \n\nAll donors must make a donation appointment through the Central Pennsylvania Blood Bank by calling 1-800-771-0059.\nAll donors must wear a mask from the time they enter the church\, during the donation process and up until the time they exit the building.\n\nFor more information please call Rose Bruce at 717-215-0328 or contact the CPBB directly at 1-800-771-0059.
URL:https://newcumberlandpa.org/event/blood-drive-2/
LOCATION:New Cumberland First Church of God\, 323 Reno Street\, New Cumberland\, Pennsylvania\, 17070\, United States
CATEGORIES:Community,Fundraiser
ORGANIZER;CN="New Cumberland First Church of God":MAILTO:gen@odessadesign.com
END:VEVENT
BEGIN:VEVENT
DTSTART;TZID=America/New_York:20200222T180000
DTEND;TZID=America/New_York:20200222T210000
DTSTAMP:20260423T235113
CREATED:20200203T150134Z
LAST-MODIFIED:20200203T150134Z
UID:10001027-1582394400-1582405200@newcumberlandpa.org
SUMMARY:Dinner & Movie Night
DESCRIPTION:The New Cumberland First Church of God\, 323 Reno Avenue\, New Cumberland\, Pa. 717-774-2112 www.ncfirstchurchofgod.org will hold a Dinner and Movie Night on Saturday\, February 22\, 2020.  Everyone is welcome.  Children must be accompanied by a responsible adult.  Bring the family for a FREE Community Meal to be served in the lower level Fellowship Hall from 6:00-7:00 pm.  Stay for the FREE family-friendly movie which will be shown on the large screen in the upper level Sanctuary beginning promptly at 7:00 pm.  FREE popcorn and bottled water will be available during the movie.  Want to know the movie title being shown?  Visit the “Events” page on our website: https://www.ncfirstchurchofgod.org/events .  Or follow us on Facebook “New Cumberland First Church of God.”  Like our page and stay informed on future community events!
URL:https://newcumberlandpa.org/event/dinner-movie-night/
LOCATION:New Cumberland First Church of God\, 323 Reno Street\, New Cumberland\, Pennsylvania\, 17070\, United States
ORGANIZER;CN="New Cumberland First Church of God":MAILTO:gen@odessadesign.com
END:VEVENT
BEGIN:VEVENT
DTSTART;TZID=America/New_York:20200125T180000
DTEND;TZID=America/New_York:20200125T210000
DTSTAMP:20260423T235113
CREATED:20191227T142151Z
LAST-MODIFIED:20191227T142151Z
UID:10001021-1579975200-1579986000@newcumberlandpa.org
SUMMARY:Dinner and Movie Night
DESCRIPTION:The New Cumberland First Church of God will hold a Dinner and Movie Night on Saturday\, January 25\, 2020.  Everyone is welcome.  Children must be accompanied by a responsible adult.  Bring the family for a FREE Community Meal to be served in the lower level Fellowship Hall from 6:00-7:00 p.m.  Stay for the FREE family-friendly movie which will be shown on the large screen in the upper level Sanctuary beginning promptly at 7:00 p.m.  FREE popcorn and bottled water will be available during the movie.  Want to know the movie title being shown?  Visit the “Events” page at www.ncfirstchurchofgod.org.  Or follow us on Facebook “New Cumberland First Church of God.”  Like our page and stay informed on future community events!
URL:https://newcumberlandpa.org/event/dinner-and-movie-night/
LOCATION:New Cumberland First Church of God\, 323 Reno Street\, New Cumberland\, Pennsylvania\, 17070\, United States
ORGANIZER;CN="New Cumberland First Church of God":MAILTO:gen@odessadesign.com
END:VEVENT
BEGIN:VEVENT
DTSTART;TZID=America/New_York:20191207T080000
DTEND;TZID=America/New_York:20191207T123000
DTSTAMP:20260423T235113
CREATED:20191203T163133Z
LAST-MODIFIED:20191203T163133Z
UID:10001002-1575705600-1575721800@newcumberlandpa.org
SUMMARY:Blood Drive
DESCRIPTION:Community blood drive for the Central PA Blood Bank. For more information please call Rose Bruce at 717-215-0328 or the church office at 717-774-2112.
URL:https://newcumberlandpa.org/event/blood-drive/
LOCATION:New Cumberland First Church of God\, 323 Reno Street\, New Cumberland\, Pennsylvania\, 17070\, United States
ORGANIZER;CN="New Cumberland First Church of God":MAILTO:gen@odessadesign.com
END:VEVENT
END:VCALENDAR