BEGIN:VCALENDAR
VERSION:2.0
PRODID:-//New Cumberland B&amp;PG - ECPv6.15.17.1//NONSGML v1.0//EN
CALSCALE:GREGORIAN
METHOD:PUBLISH
X-ORIGINAL-URL:https://newcumberlandpa.org
X-WR-CALDESC:Events for New Cumberland B&amp;PG
REFRESH-INTERVAL;VALUE=DURATION:PT1H
X-Robots-Tag:noindex
X-PUBLISHED-TTL:PT1H
BEGIN:VTIMEZONE
TZID:America/New_York
BEGIN:DAYLIGHT
TZOFFSETFROM:-0500
TZOFFSETTO:-0400
TZNAME:EDT
DTSTART:20210314T070000
END:DAYLIGHT
BEGIN:STANDARD
TZOFFSETFROM:-0400
TZOFFSETTO:-0500
TZNAME:EST
DTSTART:20211107T060000
END:STANDARD
BEGIN:DAYLIGHT
TZOFFSETFROM:-0500
TZOFFSETTO:-0400
TZNAME:EDT
DTSTART:20220313T070000
END:DAYLIGHT
BEGIN:STANDARD
TZOFFSETFROM:-0400
TZOFFSETTO:-0500
TZNAME:EST
DTSTART:20221106T060000
END:STANDARD
BEGIN:DAYLIGHT
TZOFFSETFROM:-0500
TZOFFSETTO:-0400
TZNAME:EDT
DTSTART:20230312T070000
END:DAYLIGHT
BEGIN:STANDARD
TZOFFSETFROM:-0400
TZOFFSETTO:-0500
TZNAME:EST
DTSTART:20231105T060000
END:STANDARD
BEGIN:DAYLIGHT
TZOFFSETFROM:-0500
TZOFFSETTO:-0400
TZNAME:EDT
DTSTART:20240310T070000
END:DAYLIGHT
BEGIN:STANDARD
TZOFFSETFROM:-0400
TZOFFSETTO:-0500
TZNAME:EST
DTSTART:20241103T060000
END:STANDARD
END:VTIMEZONE
BEGIN:VEVENT
DTSTART;TZID=America/New_York:20230419T080000
DTEND;TZID=America/New_York:20230419T090000
DTSTAMP:20260425T103804
CREATED:20211213T210153Z
LAST-MODIFIED:20221026T153858Z
UID:10001316-1681891200-1681894800@newcumberlandpa.org
SUMMARY:B&PG Member Meeting
DESCRIPTION:
URL:https://newcumberlandpa.org/event/bpg-member-meeting-22/2023-04-19/
LOCATION:New Cumberland Fire Department\, 319 4th Street\, New Cumberland\, PA\, 17070\, United States
CATEGORIES:Meetings
ORGANIZER;CN="New Cumberland Business & Profesional Group":MAILTO:communicationschairNC@gmail.com
END:VEVENT
BEGIN:VEVENT
DTSTART;TZID=America/New_York:20230413T170000
DTEND;TZID=America/New_York:20230413T200000
DTSTAMP:20260425T103804
CREATED:20221229T182658Z
LAST-MODIFIED:20221229T182658Z
UID:10002043-1681405200-1681416000@newcumberlandpa.org
SUMMARY:Food Truck and Restaurant Rally
DESCRIPTION:
URL:https://newcumberlandpa.org/event/food-truck-and-restaurant-rally-17/2023-04-13/
LOCATION:Market Square\, 221-235 Market Street\, New Cumberland\, PA\, 17070\, United States
CATEGORIES:Community
ATTACH;FMTTYPE=image/jpeg:https://newcumberlandpa.org/wp-content/uploads/2020/05/food-truck-web-event-art-1.jpg
ORGANIZER;CN="New Cumberland Business & Profesional Group":MAILTO:communicationschairNC@gmail.com
END:VEVENT
BEGIN:VEVENT
DTSTART;TZID=America/New_York:20230406T080000
DTEND;TZID=America/New_York:20230406T090000
DTSTAMP:20260425T103804
CREATED:20221026T154840Z
LAST-MODIFIED:20221026T154840Z
UID:10001980-1680768000-1680771600@newcumberlandpa.org
SUMMARY:B&PG Executive Team Meeting
DESCRIPTION:
URL:https://newcumberlandpa.org/event/bpg-executive-team-meeting/2023-04-06/
LOCATION:New Cumberland Fire Department\, 319 4th Street\, New Cumberland\, PA\, 17070\, United States
CATEGORIES:Meetings
ORGANIZER;CN="New Cumberland Business & Profesional Group":MAILTO:communicationschairNC@gmail.com
END:VEVENT
BEGIN:VEVENT
DTSTART;TZID=America/New_York:20230401T160000
DTEND;TZID=America/New_York:20230401T180000
DTSTAMP:20260425T103804
CREATED:20230321T154519Z
LAST-MODIFIED:20230321T154555Z
UID:10002059-1680364800-1680372000@newcumberlandpa.org
SUMMARY:Member Mixer
DESCRIPTION:It’s time to celebrate and enjoy the start of Spring!\nLet’s meet and celebrate with fellow New Cumberland B&PG members at Weist Hardware for a casual evening on the lawn. Our host\, Weist Hardware\, will be celebrating its 31st Anniversary as our hometown hardware store! Don’t forget to stop in earlier in the day for the Repair Fair and egg hunt festivities.\nThank you\, JoLynn Weist-Mascaro\, for hosting April’s Member Mixer!\nRSVP by March 28 to Stephanie Franklin via email at CommunicationsChairNC@gmail.com or by calling 717-421-6173.
URL:https://newcumberlandpa.org/event/member-mixer-4/
LOCATION:Weist Hardware\, 1512 Bridge Street\, New Cumberland\, PA\, 17070\, United States
CATEGORIES:Member Mixer
ATTACH;FMTTYPE=image/jpeg:https://newcumberlandpa.org/wp-content/uploads/2023/03/member-mixer-event-art_weist.jpg
ORGANIZER;CN="New Cumberland Business & Profesional Group":MAILTO:communicationschairNC@gmail.com
END:VEVENT
BEGIN:VEVENT
DTSTART;TZID=America/New_York:20230315T080000
DTEND;TZID=America/New_York:20230315T090000
DTSTAMP:20260425T103804
CREATED:20211213T210153Z
LAST-MODIFIED:20221026T153858Z
UID:10001315-1678867200-1678870800@newcumberlandpa.org
SUMMARY:B&PG Member Meeting
DESCRIPTION:
URL:https://newcumberlandpa.org/event/bpg-member-meeting-22/2023-03-15/
LOCATION:New Cumberland Fire Department\, 319 4th Street\, New Cumberland\, PA\, 17070\, United States
CATEGORIES:Meetings
ORGANIZER;CN="New Cumberland Business & Profesional Group":MAILTO:communicationschairNC@gmail.com
END:VEVENT
BEGIN:VEVENT
DTSTART;TZID=America/New_York:20230309T170000
DTEND;TZID=America/New_York:20230309T200000
DTSTAMP:20260425T103804
CREATED:20221229T182658Z
LAST-MODIFIED:20221229T182658Z
UID:10002042-1678381200-1678392000@newcumberlandpa.org
SUMMARY:Food Truck and Restaurant Rally
DESCRIPTION:
URL:https://newcumberlandpa.org/event/food-truck-and-restaurant-rally-17/2023-03-09/
LOCATION:Market Square\, 221-235 Market Street\, New Cumberland\, PA\, 17070\, United States
CATEGORIES:Community
ATTACH;FMTTYPE=image/jpeg:https://newcumberlandpa.org/wp-content/uploads/2020/05/food-truck-web-event-art-1.jpg
ORGANIZER;CN="New Cumberland Business & Profesional Group":MAILTO:communicationschairNC@gmail.com
END:VEVENT
BEGIN:VEVENT
DTSTART;TZID=America/New_York:20230302T080000
DTEND;TZID=America/New_York:20230302T090000
DTSTAMP:20260425T103804
CREATED:20221026T154840Z
LAST-MODIFIED:20221026T154840Z
UID:10001979-1677744000-1677747600@newcumberlandpa.org
SUMMARY:B&PG Executive Team Meeting
DESCRIPTION:
URL:https://newcumberlandpa.org/event/bpg-executive-team-meeting/2023-03-02/
LOCATION:New Cumberland Fire Department\, 319 4th Street\, New Cumberland\, PA\, 17070\, United States
CATEGORIES:Meetings
ORGANIZER;CN="New Cumberland Business & Profesional Group":MAILTO:communicationschairNC@gmail.com
END:VEVENT
BEGIN:VEVENT
DTSTART;TZID=America/New_York:20230223T170000
DTEND;TZID=America/New_York:20230223T190000
DTSTAMP:20260425T103804
CREATED:20230210T132653Z
LAST-MODIFIED:20230210T132653Z
UID:10002057-1677171600-1677178800@newcumberlandpa.org
SUMMARY:Member Mixer
DESCRIPTION:Join us to meet and connect with fellow New Cumberland B&PG members in the welcoming office of Ithax Financial. Build relationships with other professionals\, get the inside scoop of upcoming B&PG programs sure to benefit your business\, and enjoy light refreshments and beverages. Colleagues are welcome!\n\nThank you\, Jacob Dentler from Ithax Financial\, for hosting February’s Member Mixer! RSVP to Stephanie Franklin via email at CommunicationsChairNC@gmail.com or by calling 717-421-6173.
URL:https://newcumberlandpa.org/event/member-mixer-3/
LOCATION:Ithax Financial\, 1104 Bridge Street\, New Cumberland\, PA\, 17070\, United States
CATEGORIES:Member Mixer
ATTACH;FMTTYPE=image/jpeg:https://newcumberlandpa.org/wp-content/uploads/2023/02/member-mixer-ithax.jpg
ORGANIZER;CN="New Cumberland Business & Profesional Group":MAILTO:communicationschairNC@gmail.com
END:VEVENT
BEGIN:VEVENT
DTSTART;TZID=America/New_York:20230215T080000
DTEND;TZID=America/New_York:20230215T090000
DTSTAMP:20260425T103804
CREATED:20211213T210153Z
LAST-MODIFIED:20221026T153858Z
UID:10001314-1676448000-1676451600@newcumberlandpa.org
SUMMARY:B&PG Member Meeting
DESCRIPTION:
URL:https://newcumberlandpa.org/event/bpg-member-meeting-22/2023-02-15/
LOCATION:New Cumberland Fire Department\, 319 4th Street\, New Cumberland\, PA\, 17070\, United States
CATEGORIES:Meetings
ORGANIZER;CN="New Cumberland Business & Profesional Group":MAILTO:communicationschairNC@gmail.com
END:VEVENT
BEGIN:VEVENT
DTSTART;TZID=America/New_York:20230202T080000
DTEND;TZID=America/New_York:20230202T090000
DTSTAMP:20260425T103804
CREATED:20221026T154840Z
LAST-MODIFIED:20221026T154840Z
UID:10001978-1675324800-1675328400@newcumberlandpa.org
SUMMARY:B&PG Executive Team Meeting
DESCRIPTION:
URL:https://newcumberlandpa.org/event/bpg-executive-team-meeting/2023-02-02/
LOCATION:New Cumberland Fire Department\, 319 4th Street\, New Cumberland\, PA\, 17070\, United States
CATEGORIES:Meetings
ORGANIZER;CN="New Cumberland Business & Profesional Group":MAILTO:communicationschairNC@gmail.com
END:VEVENT
BEGIN:VEVENT
DTSTART;TZID=America/New_York:20230118T080000
DTEND;TZID=America/New_York:20230118T090000
DTSTAMP:20260425T103804
CREATED:20211213T210153Z
LAST-MODIFIED:20221026T153858Z
UID:10001313-1674028800-1674032400@newcumberlandpa.org
SUMMARY:B&PG Member Meeting
DESCRIPTION:
URL:https://newcumberlandpa.org/event/bpg-member-meeting-22/2023-01-18/
LOCATION:New Cumberland Fire Department\, 319 4th Street\, New Cumberland\, PA\, 17070\, United States
CATEGORIES:Meetings
ORGANIZER;CN="New Cumberland Business & Profesional Group":MAILTO:communicationschairNC@gmail.com
END:VEVENT
BEGIN:VEVENT
DTSTART;TZID=America/New_York:20230106T120000
DTEND;TZID=America/New_York:20230106T133000
DTSTAMP:20260425T103804
CREATED:20221229T181656Z
LAST-MODIFIED:20221229T182423Z
UID:10002041-1673006400-1673011800@newcumberlandpa.org
SUMMARY:Member Mixer
DESCRIPTION:Join us to meet and connect with fellow B&PG members at Rippin’ Rides. While mingling\, share your ideas and suggestions for a successful 2023. How can the B&PG help your business? What kind of programs or co-op advertising would you like to see explored? Stop in for a quick bite to eat and check out what’s going on!\nThank you to Todd Gurak & Cathie Heika from Rippin’ Rides for hosting a special First Friday Member Mixer!\n\nRSVP to Stephanie Franklin via email at CommunicationsChairNC@gmail.com or by calling 717-421-6173.
URL:https://newcumberlandpa.org/event/member-mixer-2/
LOCATION:Rippin’ Rides\, 1537 Bridge Street\, New Cumberland\, PA\, 17070\, United States
CATEGORIES:Member Mixer
ATTACH;FMTTYPE=image/jpeg:https://newcumberlandpa.org/wp-content/uploads/2022/12/jan-member-mixer.jpg
ORGANIZER;CN="New Cumberland Business & Profesional Group":MAILTO:communicationschairNC@gmail.com
END:VEVENT
BEGIN:VEVENT
DTSTART;TZID=America/New_York:20230105T080000
DTEND;TZID=America/New_York:20230105T090000
DTSTAMP:20260425T103804
CREATED:20221026T154840Z
LAST-MODIFIED:20221026T154840Z
UID:10001977-1672905600-1672909200@newcumberlandpa.org
SUMMARY:B&PG Executive Team Meeting
DESCRIPTION:
URL:https://newcumberlandpa.org/event/bpg-executive-team-meeting/2023-01-05/
LOCATION:New Cumberland Fire Department\, 319 4th Street\, New Cumberland\, PA\, 17070\, United States
CATEGORIES:Meetings
ORGANIZER;CN="New Cumberland Business & Profesional Group":MAILTO:communicationschairNC@gmail.com
END:VEVENT
BEGIN:VEVENT
DTSTART;TZID=America/New_York:20221221T080000
DTEND;TZID=America/New_York:20221221T090000
DTSTAMP:20260425T103804
CREATED:20211213T210153Z
LAST-MODIFIED:20221026T153858Z
UID:10001312-1671609600-1671613200@newcumberlandpa.org
SUMMARY:B&PG Member Meeting
DESCRIPTION:
URL:https://newcumberlandpa.org/event/bpg-member-meeting-22/2022-12-21/
LOCATION:New Cumberland Fire Department\, 319 4th Street\, New Cumberland\, PA\, 17070\, United States
CATEGORIES:Meetings
ORGANIZER;CN="New Cumberland Business & Profesional Group":MAILTO:communicationschairNC@gmail.com
END:VEVENT
BEGIN:VEVENT
DTSTART;TZID=America/New_York:20221215T180000
DTEND;TZID=America/New_York:20221215T200000
DTSTAMP:20260425T103804
CREATED:20231109T135152Z
LAST-MODIFIED:20231109T135152Z
UID:10003583-1671127200-1671134400@newcumberlandpa.org
SUMMARY:B&PG December Holiday Mixer
DESCRIPTION:Join us to mix and mingle at a special holiday gathering with friends and colleagues. Nick’s 114 will welcome the New Cumberland B&PG into its space for holiday cheer\, a hearty spread\, and joyful camaraderie. Cash bar. Guests are welcome.
URL:https://newcumberlandpa.org/event/bpg-december-holiday-mixer-2/
LOCATION:Nick’s 114\, 114 Bridge Street\, New Cumberland\, PA\, 17070\, United States
CATEGORIES:Member Mixer
ATTACH;FMTTYPE=image/jpeg:https://newcumberlandpa.org/wp-content/uploads/2023/11/member-mixer-flyer_holiday-23.jpg
ORGANIZER;CN="New Cumberland Business & Profesional Group":MAILTO:communicationschairNC@gmail.com
END:VEVENT
BEGIN:VEVENT
DTSTART;TZID=America/New_York:20221215T180000
DTEND;TZID=America/New_York:20221215T200000
DTSTAMP:20260425T103804
CREATED:20221026T160335Z
LAST-MODIFIED:20221116T142626Z
UID:10002037-1671127200-1671134400@newcumberlandpa.org
SUMMARY:B&PG December Holiday Mixer
DESCRIPTION:Join us to mix and mingle at a special holiday gathering with friends and colleagues. Fratelli’s will welcome the New Cumberland B&PG into its space for holiday cheer\, festive food and beverages\, and joyful camaraderie.
URL:https://newcumberlandpa.org/event/bpg-december-holiday-mixer/
LOCATION:Fratelli’s Town Tavern\, 209 Third Street\, New Cumberland\, PA\, 17070\, United States
CATEGORIES:Member Mixer
ATTACH;FMTTYPE=image/jpeg:https://newcumberlandpa.org/wp-content/uploads/2022/10/BPG-member-mixer-flyer_holiday-22_FINAL.jpg
ORGANIZER;CN="New Cumberland Business & Profesional Group":MAILTO:communicationschairNC@gmail.com
END:VEVENT
BEGIN:VEVENT
DTSTART;TZID=America/New_York:20221208T170000
DTEND;TZID=America/New_York:20221208T200000
DTSTAMP:20260425T103804
CREATED:20221031T143427Z
LAST-MODIFIED:20221031T143428Z
UID:10001858-1670518800-1670529600@newcumberlandpa.org
SUMMARY:Food Truck and Restaurant Rally
DESCRIPTION:
URL:https://newcumberlandpa.org/event/food-truck-and-restaurant-rally-16-3/2022-12-08/
LOCATION:Market Square\, 221-235 Market Street\, New Cumberland\, PA\, 17070\, United States
CATEGORIES:Community
ATTACH;FMTTYPE=image/jpeg:https://newcumberlandpa.org/wp-content/uploads/2020/05/food-truck-web-event-art-1.jpg
ORGANIZER;CN="New Cumberland Business & Profesional Group":MAILTO:communicationschairNC@gmail.com
END:VEVENT
BEGIN:VEVENT
DTSTART;TZID=America/New_York:20221208T170000
DTEND;TZID=America/New_York:20221208T200000
DTSTAMP:20260425T103804
CREATED:20221026T155154Z
LAST-MODIFIED:20221026T155441Z
UID:10002035-1670518800-1670529600@newcumberlandpa.org
SUMMARY:2nd Thursday
DESCRIPTION:Second Thursday activities in downtown New Cumberland are sure to awaken your holiday spirit! From 5 to 8 p.m.\, join us in front of PNC Bank for free horse-drawn wagon rides through town\, sponsored by Kelly Financial Services. Plus\, capture a holiday memory with a Picture with Santa at 324 Market Street. We have a jolly holiday set and printed photos! Sponsored by Chris Timmons Team brokered by EXP Realty. Don’t forget about the Food Truck and Restaurant Rally at Market Square!
URL:https://newcumberlandpa.org/event/2nd-thursday-5/
LOCATION:Downtown New Cumberland\, Bridge Street\, New Cumberland\, PA\, 17070\, United States
CATEGORIES:Community
ATTACH;FMTTYPE=image/jpeg:https://newcumberlandpa.org/wp-content/uploads/2022/10/2nd-thursday-22.jpg
ORGANIZER;CN="New Cumberland Business & Profesional Group":MAILTO:communicationschairNC@gmail.com
END:VEVENT
BEGIN:VEVENT
DTSTART;TZID=America/New_York:20221203T080000
DTEND;TZID=America/New_York:20221203T200000
DTSTAMP:20260425T103804
CREATED:20221026T153254Z
LAST-MODIFIED:20221026T153348Z
UID:10001968-1670054400-1670097600@newcumberlandpa.org
SUMMARY:Holiday Open House
DESCRIPTION:Join us for a weekend of festive fun and activities for all ages at the New Cumberland Holiday Open House! Hosted by the New Cumberland Business & Professional Group\, young and young at heart will enjoy two days of holiday cheer: \nSaturday\, December 3 \n\nBreakfast with Santa: 8 a.m. – 11 a.m.\, 1127 Market StreetJoin Santa and his elves for a yummy breakfast at the New Cumberland River Rescue with seatings at 8 a.m. and 9:30 a.m. Please pre-register for your meal at ncrr100.com.\nSpecial Holiday Activities at Library: 10:30 a.m. – 12 p.m.\, 1 Benjamin Plaza • Join the Library’s crafting group in the 2ndfloor meeting room to create a special holiday craft (ages 14+) and enjoy holiday puzzles and activities throughout the Library. Little ones ages 3+ can create a special an ornament in the Children’s Room. A book sale will also be held in Foundation House from 9 a.m. – 3 p.m.\, with specials on holiday items.\nWreath Fundraiser: 11 a.m. – 2 p.m.\, 1512 Bridge Street • Stop by Weist Hardware and pick up a beautiful holiday wreath. Proceeds benefit the Loving Care Cat Rescue.\nPictures with Santa: 3 p.m. – 6 p.m.\, 324 Market Street • Naughty\, or nice? Santa will want to know! Capture the memories at a jolly holiday set with a live reindeer and take home a printed photo! Sponsored by Chris Timmons Team brokered by EXP Realty.\nColoring Contest: 3 p.m. – 6 p.m.\, 324 Market Street • Bring the children to our coloring center or download our coloring contest templates in advance at NewCumberlandPA.org. Drop off your entry to Santa during Pictures with Santa and be entered to win a prize!\nChristmas Market: 3 p.m. – 8 p.m.\, Market Square • Delight in the spirit of old-world Christmas at our first annual Christmas Market. Shop for handmade crafts and enjoy authentic German food.\nBaked Goods & Warm Drinks: 5 p.m. – 8 p.m.\, 205 3rd Street • Grab a snack and warm your soul with wintery treats on the lawn at Semoff’s Barber Shop. Proceeds benefit the New Cumberland Lions Club.\nHoliday Movies: 317 Bridge Street • Take in a movie on the big screen with popcorn and candy at the West Shore Theatre. Watch for showings and showtimes!\nHoliday Sales & Specials: Shop for your friends and loved ones at local shops and restaurants. Plus\, 50 lucky patrons will go home with a New Cumberland Goodie Bag full of free giveaways from local businesses. One will be surprised with a special holiday gift!\nLetters to Santa: 233 Bridge Street • Drop your letter at our special North Pole mailbox in front of Oxford Hall Celtic Shop by Dec. 11 and get a response from Santa!\nToys-for-Tots: 308 Market Street • Share your holiday spirit with a donation of a new\, unwrapped toy\, book\, or other gift at Retro & Rad. Donations are greatly appreciated through Dec. \n\nSunday\, December 4 \n\nCommunity Tree Lighting: 6 p.m.\, Elkwood Park\, 7th & Bridge Streets • Light up the night with cookies\, cocoa\, and holiday music.\n\n\nClick here to download our 2022 coloring pages!
URL:https://newcumberlandpa.org/event/holiday-open-house-4/
LOCATION:New Cumberland\, New Cumberland\, PA\, 17070\, United States
CATEGORIES:Community
ATTACH;FMTTYPE=image/jpeg:https://newcumberlandpa.org/wp-content/uploads/2022/10/holiday-open-house-2022.jpg
ORGANIZER;CN="New Cumberland Business & Profesional Group":MAILTO:communicationschairNC@gmail.com
END:VEVENT
BEGIN:VEVENT
DTSTART;TZID=America/New_York:20221201T080000
DTEND;TZID=America/New_York:20221201T090000
DTSTAMP:20260425T103804
CREATED:20221026T154840Z
LAST-MODIFIED:20221026T154840Z
UID:10001976-1669881600-1669885200@newcumberlandpa.org
SUMMARY:B&PG Executive Team Meeting
DESCRIPTION:
URL:https://newcumberlandpa.org/event/bpg-executive-team-meeting/2022-12-01/
LOCATION:New Cumberland Fire Department\, 319 4th Street\, New Cumberland\, PA\, 17070\, United States
CATEGORIES:Meetings
ORGANIZER;CN="New Cumberland Business & Profesional Group":MAILTO:communicationschairNC@gmail.com
END:VEVENT
BEGIN:VEVENT
DTSTART;TZID=America/New_York:20221116T080000
DTEND;TZID=America/New_York:20221116T090000
DTSTAMP:20260425T103804
CREATED:20211213T210153Z
LAST-MODIFIED:20221026T153858Z
UID:10001311-1668585600-1668589200@newcumberlandpa.org
SUMMARY:B&PG Member Meeting
DESCRIPTION:
URL:https://newcumberlandpa.org/event/bpg-member-meeting-22/2022-11-16/
LOCATION:New Cumberland Fire Department\, 319 4th Street\, New Cumberland\, PA\, 17070\, United States
CATEGORIES:Meetings
ORGANIZER;CN="New Cumberland Business & Profesional Group":MAILTO:communicationschairNC@gmail.com
END:VEVENT
BEGIN:VEVENT
DTSTART;TZID=America/New_York:20221110T170000
DTEND;TZID=America/New_York:20221110T200000
DTSTAMP:20260425T103804
CREATED:20221031T143427Z
LAST-MODIFIED:20221031T143428Z
UID:10001857-1668099600-1668110400@newcumberlandpa.org
SUMMARY:Food Truck and Restaurant Rally
DESCRIPTION:
URL:https://newcumberlandpa.org/event/food-truck-and-restaurant-rally-16-3/2022-11-10/
LOCATION:Market Square\, 221-235 Market Street\, New Cumberland\, PA\, 17070\, United States
CATEGORIES:Community
ATTACH;FMTTYPE=image/jpeg:https://newcumberlandpa.org/wp-content/uploads/2020/05/food-truck-web-event-art-1.jpg
ORGANIZER;CN="New Cumberland Business & Profesional Group":MAILTO:communicationschairNC@gmail.com
END:VEVENT
BEGIN:VEVENT
DTSTART;TZID=America/New_York:20221103T080000
DTEND;TZID=America/New_York:20221103T090000
DTSTAMP:20260425T103804
CREATED:20221026T154840Z
LAST-MODIFIED:20221026T154840Z
UID:10001975-1667462400-1667466000@newcumberlandpa.org
SUMMARY:B&PG Executive Team Meeting
DESCRIPTION:
URL:https://newcumberlandpa.org/event/bpg-executive-team-meeting/2022-11-03/
LOCATION:New Cumberland Fire Department\, 319 4th Street\, New Cumberland\, PA\, 17070\, United States
CATEGORIES:Meetings
ORGANIZER;CN="New Cumberland Business & Profesional Group":MAILTO:communicationschairNC@gmail.com
END:VEVENT
BEGIN:VEVENT
DTSTART;TZID=America/New_York:20221029T120000
DTEND;TZID=America/New_York:20221029T150000
DTSTAMP:20260425T103804
CREATED:20220112T211129Z
LAST-MODIFIED:20221026T155730Z
UID:10001951-1667044800-1667055600@newcumberlandpa.org
SUMMARY:Trick-or-Treat: Downtown New Cumberland
DESCRIPTION:The New Cumberland Business & Professional Group is hosting a FREE trick-or-treat downtown! Come in costume for lots of tricks and treats at participating businesses! Sponsored by Teg’s Canine Clippery.\n\nBring your most creative Halloween drawing and enter to win a prize! Submit your drawing at Oxford Hall Celtic Shop\, 233 Bridge Street. Be sure to include your name\, age\, and phone number.\n\nParticipants include:\n• Teg’s Canine Clippery\n• Elite Martial Arts\n• A. Roland Salon\n• The West Shore Theatre\n• Wax Melts On the Loose\n• S&T Bank\n• Oxford Hall Celtic Shop & Tea Corner Café\n• Semoff’s Barber Shop\n• Sublime Hair Co.\n• Retro & Rad\n• Chris Timmons Team brokered by EXP Realty\n• Member’s First Federal Credit Uniton*\n• Medard’s House*\n• Family Promise of Harrisburg Capital Region*\n• Rippin’ Rides\n• New Cumberland Public Library
URL:https://newcumberlandpa.org/event/trick-or-treat-downtown-new-cumberland-3/
LOCATION:Downtown New Cumberland\, Bridge Street\, New Cumberland\, PA\, 17070\, United States
CATEGORIES:Community
ATTACH;FMTTYPE=image/jpeg:https://newcumberlandpa.org/wp-content/uploads/2022/01/trick-or-treat-22.jpg
ORGANIZER;CN="New Cumberland Business & Profesional Group":MAILTO:communicationschairNC@gmail.com
END:VEVENT
BEGIN:VEVENT
DTSTART;TZID=America/New_York:20221019T080000
DTEND;TZID=America/New_York:20221019T090000
DTSTAMP:20260425T103804
CREATED:20211213T210153Z
LAST-MODIFIED:20221026T153858Z
UID:10001310-1666166400-1666170000@newcumberlandpa.org
SUMMARY:B&PG Member Meeting
DESCRIPTION:
URL:https://newcumberlandpa.org/event/bpg-member-meeting-22/2022-10-19/
LOCATION:New Cumberland Fire Department\, 319 4th Street\, New Cumberland\, PA\, 17070\, United States
CATEGORIES:Meetings
ORGANIZER;CN="New Cumberland Business & Profesional Group":MAILTO:communicationschairNC@gmail.com
END:VEVENT
BEGIN:VEVENT
DTSTART;TZID=America/New_York:20221013T170000
DTEND;TZID=America/New_York:20221013T200000
DTSTAMP:20260425T103804
CREATED:20220916T152112Z
LAST-MODIFIED:20220916T152113Z
UID:10001856-1665680400-1665691200@newcumberlandpa.org
SUMMARY:Food Truck and Restaurant Rally
DESCRIPTION:October Food Trucks: \n\nDough and Arrows\nEast Coast Mini Donuts\nGrappling Crab Shack\nMad Dash Artisan Grilled Cheese\nMidnite Smokin’ BBQ\nPotato Coop\nQuinn’s Coffee Bar\nScoop O’ Dough\nThat’s What Cheese Said\nThe Lucky Penny Burger\nThe Sweet Patch
URL:https://newcumberlandpa.org/event/food-truck-and-restaurant-rally-16-2/
LOCATION:Market Square\, 221-235 Market Street\, New Cumberland\, PA\, 17070\, United States
CATEGORIES:Community
ATTACH;FMTTYPE=image/jpeg:https://newcumberlandpa.org/wp-content/uploads/2020/05/food-truck-web-event-art-1.jpg
ORGANIZER;CN="New Cumberland Business & Profesional Group":MAILTO:communicationschairNC@gmail.com
END:VEVENT
BEGIN:VEVENT
DTSTART;TZID=America/New_York:20220921T080000
DTEND;TZID=America/New_York:20220921T090000
DTSTAMP:20260425T103804
CREATED:20211213T210153Z
LAST-MODIFIED:20221026T153858Z
UID:10001309-1663747200-1663750800@newcumberlandpa.org
SUMMARY:B&PG Member Meeting
DESCRIPTION:
URL:https://newcumberlandpa.org/event/bpg-member-meeting-22/2022-09-21/
LOCATION:New Cumberland Fire Department\, 319 4th Street\, New Cumberland\, PA\, 17070\, United States
CATEGORIES:Meetings
ORGANIZER;CN="New Cumberland Business & Profesional Group":MAILTO:communicationschairNC@gmail.com
END:VEVENT
BEGIN:VEVENT
DTSTART;TZID=America/New_York:20220908T170000
DTEND;TZID=America/New_York:20220908T200000
DTSTAMP:20260425T103804
CREATED:20211221T201931Z
LAST-MODIFIED:20211221T201931Z
UID:10001855-1662656400-1662667200@newcumberlandpa.org
SUMMARY:Food Truck and Restaurant Rally
DESCRIPTION:
URL:https://newcumberlandpa.org/event/food-truck-and-restaurant-rally-16/2022-09-08/
LOCATION:Market Square\, 221-235 Market Street\, New Cumberland\, PA\, 17070\, United States
CATEGORIES:Community
ATTACH;FMTTYPE=image/jpeg:https://newcumberlandpa.org/wp-content/uploads/2020/05/food-truck-web-event-art-1.jpg
ORGANIZER;CN="New Cumberland Business & Profesional Group":MAILTO:communicationschairNC@gmail.com
END:VEVENT
BEGIN:VEVENT
DTSTART;TZID=America/New_York:20220817T080000
DTEND;TZID=America/New_York:20220817T090000
DTSTAMP:20260425T103804
CREATED:20211213T210153Z
LAST-MODIFIED:20221026T153858Z
UID:10001308-1660723200-1660726800@newcumberlandpa.org
SUMMARY:B&PG Member Meeting
DESCRIPTION:
URL:https://newcumberlandpa.org/event/bpg-member-meeting-22/2022-08-17/
LOCATION:New Cumberland Fire Department\, 319 4th Street\, New Cumberland\, PA\, 17070\, United States
CATEGORIES:Meetings
ORGANIZER;CN="New Cumberland Business & Profesional Group":MAILTO:communicationschairNC@gmail.com
END:VEVENT
BEGIN:VEVENT
DTSTART;TZID=America/New_York:20220813T100000
DTEND;TZID=America/New_York:20220813T140000
DTSTAMP:20260425T103804
CREATED:20211221T204043Z
LAST-MODIFIED:20220525T181507Z
UID:10001885-1660384800-1660399200@newcumberlandpa.org
SUMMARY:Summer Cruise-In Car & Cycle Show
DESCRIPTION:  \nJoin car and cycle enthusiasts at the second annual New Cumberland Summer Cruise-In Car & Cycle Show\, a family-friendly event celebrating all makes\, models\, and years of cars and cycles. Admire antiques and classic cars\, cruisers\, hot rods\, rat rods\, muscle cars\, tuners\, foreign/exotics\, and more PLUS custom\, restored\, and open class motorcycles. Craft and retail vendors will round out the event\, and food truck fare will be sure to tempt your taste buds when hunger calls. Prizes will be awarded for car and cycle Best In Show and Best In Class. You won’t want to miss this new favorite go-to event! Free to attend.\n\nRain date: Sunday\, August 14\, 2022\n\n\nClick here for a registration form.\n\n 
URL:https://newcumberlandpa.org/event/summer-cruise-in-car-cycle-show/
LOCATION:New Cumberland Borough Park\, Front Street & Geary Avenue\, New Cumberland\, Pennsylvania\, 17070\, United States
CATEGORIES:Community
ATTACH;FMTTYPE=image/jpeg:https://newcumberlandpa.org/wp-content/uploads/2021/12/cruise-in-event-art-22.jpg
ORGANIZER;CN="New Cumberland Business & Profesional Group":MAILTO:communicationschairNC@gmail.com
END:VEVENT
END:VCALENDAR