BEGIN:VCALENDAR
VERSION:2.0
PRODID:-//New Cumberland B&amp;PG - ECPv6.15.17.1//NONSGML v1.0//EN
CALSCALE:GREGORIAN
METHOD:PUBLISH
X-WR-CALNAME:New Cumberland B&amp;PG
X-ORIGINAL-URL:https://newcumberlandpa.org
X-WR-CALDESC:Events for New Cumberland B&amp;PG
REFRESH-INTERVAL;VALUE=DURATION:PT1H
X-Robots-Tag:noindex
X-PUBLISHED-TTL:PT1H
BEGIN:VTIMEZONE
TZID:America/New_York
BEGIN:DAYLIGHT
TZOFFSETFROM:-0500
TZOFFSETTO:-0400
TZNAME:EDT
DTSTART:20230312T070000
END:DAYLIGHT
BEGIN:STANDARD
TZOFFSETFROM:-0400
TZOFFSETTO:-0500
TZNAME:EST
DTSTART:20231105T060000
END:STANDARD
BEGIN:DAYLIGHT
TZOFFSETFROM:-0500
TZOFFSETTO:-0400
TZNAME:EDT
DTSTART:20240310T070000
END:DAYLIGHT
BEGIN:STANDARD
TZOFFSETFROM:-0400
TZOFFSETTO:-0500
TZNAME:EST
DTSTART:20241103T060000
END:STANDARD
BEGIN:DAYLIGHT
TZOFFSETFROM:-0500
TZOFFSETTO:-0400
TZNAME:EDT
DTSTART:20250309T070000
END:DAYLIGHT
BEGIN:STANDARD
TZOFFSETFROM:-0400
TZOFFSETTO:-0500
TZNAME:EST
DTSTART:20251102T060000
END:STANDARD
END:VTIMEZONE
BEGIN:VEVENT
DTSTART;TZID=America/New_York:20240708T070000
DTEND;TZID=America/New_York:20240708T210000
DTSTAMP:20260424T073352
CREATED:20240118T172125Z
LAST-MODIFIED:20240424T161645Z
UID:10003694-1720422000-1720472400@newcumberlandpa.org
SUMMARY:Fairy Door Trail
DESCRIPTION:The 7th Annual Fairy Door Trail is set to begin June 10th! \nFollow the path of New Cumberland businesses to find the magical fairy doors and fill in the names of each resident fairy in the passport.
URL:https://newcumberlandpa.org/event/fairy-door-trail-4/2024-07-08/
LOCATION:New Cumberland\, New Cumberland\, PA\, 17070\, United States
CATEGORIES:Community
ORGANIZER;CN="New Cumberland Business & Profesional Group":MAILTO:communicationschairNC@gmail.com
END:VEVENT
BEGIN:VEVENT
DTSTART;TZID=America/New_York:20240707T070000
DTEND;TZID=America/New_York:20240707T210000
DTSTAMP:20260424T073352
CREATED:20240118T172125Z
LAST-MODIFIED:20240424T161645Z
UID:10003693-1720335600-1720386000@newcumberlandpa.org
SUMMARY:Fairy Door Trail
DESCRIPTION:The 7th Annual Fairy Door Trail is set to begin June 10th! \nFollow the path of New Cumberland businesses to find the magical fairy doors and fill in the names of each resident fairy in the passport.
URL:https://newcumberlandpa.org/event/fairy-door-trail-4/2024-07-07/
LOCATION:New Cumberland\, New Cumberland\, PA\, 17070\, United States
CATEGORIES:Community
ORGANIZER;CN="New Cumberland Business & Profesional Group":MAILTO:communicationschairNC@gmail.com
END:VEVENT
BEGIN:VEVENT
DTSTART;TZID=America/New_York:20240706T090000
DTEND;TZID=America/New_York:20240706T140000
DTSTAMP:20260424T073352
CREATED:20240118T174109Z
LAST-MODIFIED:20240404T182759Z
UID:10003780-1720256400-1720274400@newcumberlandpa.org
SUMMARY:Farmers’ Market On 4th
DESCRIPTION:The New Cumberland Farmers’ Market On 4th returns! The farmers’ market operates each Saturday\, May 4 through October 26\, from 9 a.m. to 2 p.m. rain or shine at 4th and Bridge Streets\, New Cumberland\, in the parking lot of Olde Towne Commons. Elevate your taste buds with locally grown produce\, fresh meats\, homemade baked goods\, and more! NEW this year\, artisans and makers! Look for returning farms and several new vendors. \n  \nClick here for a vendor application.
URL:https://newcumberlandpa.org/event/farmers-market-on-4th-58/2024-07-06/
LOCATION:Kelly Financial Services\, 400 Bridge Street\, New Cumberland\, PA\, 17070\, United States
ATTACH;FMTTYPE=image/jpeg:https://newcumberlandpa.org/wp-content/uploads/2023/04/farmers-market-pics_general.jpg
ORGANIZER;CN="New Cumberland Business & Profesional Group":MAILTO:communicationschairNC@gmail.com
END:VEVENT
BEGIN:VEVENT
DTSTART;TZID=America/New_York:20240706T070000
DTEND;TZID=America/New_York:20240706T210000
DTSTAMP:20260424T073352
CREATED:20240118T172125Z
LAST-MODIFIED:20240424T161645Z
UID:10003692-1720249200-1720299600@newcumberlandpa.org
SUMMARY:Fairy Door Trail
DESCRIPTION:The 7th Annual Fairy Door Trail is set to begin June 10th! \nFollow the path of New Cumberland businesses to find the magical fairy doors and fill in the names of each resident fairy in the passport.
URL:https://newcumberlandpa.org/event/fairy-door-trail-4/2024-07-06/
LOCATION:New Cumberland\, New Cumberland\, PA\, 17070\, United States
CATEGORIES:Community
ORGANIZER;CN="New Cumberland Business & Profesional Group":MAILTO:communicationschairNC@gmail.com
END:VEVENT
BEGIN:VEVENT
DTSTART;TZID=America/New_York:20240705T070000
DTEND;TZID=America/New_York:20240705T210000
DTSTAMP:20260424T073352
CREATED:20240118T172125Z
LAST-MODIFIED:20240424T161645Z
UID:10003691-1720162800-1720213200@newcumberlandpa.org
SUMMARY:Fairy Door Trail
DESCRIPTION:The 7th Annual Fairy Door Trail is set to begin June 10th! \nFollow the path of New Cumberland businesses to find the magical fairy doors and fill in the names of each resident fairy in the passport.
URL:https://newcumberlandpa.org/event/fairy-door-trail-4/2024-07-05/
LOCATION:New Cumberland\, New Cumberland\, PA\, 17070\, United States
CATEGORIES:Community
ORGANIZER;CN="New Cumberland Business & Profesional Group":MAILTO:communicationschairNC@gmail.com
END:VEVENT
BEGIN:VEVENT
DTSTART;TZID=America/New_York:20240704T070000
DTEND;TZID=America/New_York:20240704T210000
DTSTAMP:20260424T073352
CREATED:20240118T172125Z
LAST-MODIFIED:20240424T161645Z
UID:10003690-1720076400-1720126800@newcumberlandpa.org
SUMMARY:Fairy Door Trail
DESCRIPTION:The 7th Annual Fairy Door Trail is set to begin June 10th! \nFollow the path of New Cumberland businesses to find the magical fairy doors and fill in the names of each resident fairy in the passport.
URL:https://newcumberlandpa.org/event/fairy-door-trail-4/2024-07-04/
LOCATION:New Cumberland\, New Cumberland\, PA\, 17070\, United States
CATEGORIES:Community
ORGANIZER;CN="New Cumberland Business & Profesional Group":MAILTO:communicationschairNC@gmail.com
END:VEVENT
BEGIN:VEVENT
DTSTART;TZID=America/New_York:20240703T070000
DTEND;TZID=America/New_York:20240703T210000
DTSTAMP:20260424T073352
CREATED:20240118T172125Z
LAST-MODIFIED:20240424T161645Z
UID:10003689-1719990000-1720040400@newcumberlandpa.org
SUMMARY:Fairy Door Trail
DESCRIPTION:The 7th Annual Fairy Door Trail is set to begin June 10th! \nFollow the path of New Cumberland businesses to find the magical fairy doors and fill in the names of each resident fairy in the passport.
URL:https://newcumberlandpa.org/event/fairy-door-trail-4/2024-07-03/
LOCATION:New Cumberland\, New Cumberland\, PA\, 17070\, United States
CATEGORIES:Community
ORGANIZER;CN="New Cumberland Business & Profesional Group":MAILTO:communicationschairNC@gmail.com
END:VEVENT
BEGIN:VEVENT
DTSTART;TZID=America/New_York:20240702T070000
DTEND;TZID=America/New_York:20240702T210000
DTSTAMP:20260424T073352
CREATED:20240118T172125Z
LAST-MODIFIED:20240424T161645Z
UID:10003688-1719903600-1719954000@newcumberlandpa.org
SUMMARY:Fairy Door Trail
DESCRIPTION:The 7th Annual Fairy Door Trail is set to begin June 10th! \nFollow the path of New Cumberland businesses to find the magical fairy doors and fill in the names of each resident fairy in the passport.
URL:https://newcumberlandpa.org/event/fairy-door-trail-4/2024-07-02/
LOCATION:New Cumberland\, New Cumberland\, PA\, 17070\, United States
CATEGORIES:Community
ORGANIZER;CN="New Cumberland Business & Profesional Group":MAILTO:communicationschairNC@gmail.com
END:VEVENT
BEGIN:VEVENT
DTSTART;TZID=America/New_York:20240701T070000
DTEND;TZID=America/New_York:20240701T210000
DTSTAMP:20260424T073352
CREATED:20240118T172125Z
LAST-MODIFIED:20240424T161645Z
UID:10003687-1719817200-1719867600@newcumberlandpa.org
SUMMARY:Fairy Door Trail
DESCRIPTION:The 7th Annual Fairy Door Trail is set to begin June 10th! \nFollow the path of New Cumberland businesses to find the magical fairy doors and fill in the names of each resident fairy in the passport.
URL:https://newcumberlandpa.org/event/fairy-door-trail-4/2024-07-01/
LOCATION:New Cumberland\, New Cumberland\, PA\, 17070\, United States
CATEGORIES:Community
ORGANIZER;CN="New Cumberland Business & Profesional Group":MAILTO:communicationschairNC@gmail.com
END:VEVENT
BEGIN:VEVENT
DTSTART;TZID=America/New_York:20240630T070000
DTEND;TZID=America/New_York:20240630T210000
DTSTAMP:20260424T073352
CREATED:20240118T172125Z
LAST-MODIFIED:20240424T161645Z
UID:10003686-1719730800-1719781200@newcumberlandpa.org
SUMMARY:Fairy Door Trail
DESCRIPTION:The 7th Annual Fairy Door Trail is set to begin June 10th! \nFollow the path of New Cumberland businesses to find the magical fairy doors and fill in the names of each resident fairy in the passport.
URL:https://newcumberlandpa.org/event/fairy-door-trail-4/2024-06-30/
LOCATION:New Cumberland\, New Cumberland\, PA\, 17070\, United States
CATEGORIES:Community
ORGANIZER;CN="New Cumberland Business & Profesional Group":MAILTO:communicationschairNC@gmail.com
END:VEVENT
BEGIN:VEVENT
DTSTART;TZID=America/New_York:20240629T090000
DTEND;TZID=America/New_York:20240629T140000
DTSTAMP:20260424T073352
CREATED:20240118T174109Z
LAST-MODIFIED:20240404T182759Z
UID:10003779-1719651600-1719669600@newcumberlandpa.org
SUMMARY:Farmers’ Market On 4th
DESCRIPTION:The New Cumberland Farmers’ Market On 4th returns! The farmers’ market operates each Saturday\, May 4 through October 26\, from 9 a.m. to 2 p.m. rain or shine at 4th and Bridge Streets\, New Cumberland\, in the parking lot of Olde Towne Commons. Elevate your taste buds with locally grown produce\, fresh meats\, homemade baked goods\, and more! NEW this year\, artisans and makers! Look for returning farms and several new vendors. \n  \nClick here for a vendor application.
URL:https://newcumberlandpa.org/event/farmers-market-on-4th-58/2024-06-29/
LOCATION:Kelly Financial Services\, 400 Bridge Street\, New Cumberland\, PA\, 17070\, United States
ATTACH;FMTTYPE=image/jpeg:https://newcumberlandpa.org/wp-content/uploads/2023/04/farmers-market-pics_general.jpg
ORGANIZER;CN="New Cumberland Business & Profesional Group":MAILTO:communicationschairNC@gmail.com
END:VEVENT
BEGIN:VEVENT
DTSTART;TZID=America/New_York:20240629T070000
DTEND;TZID=America/New_York:20240629T210000
DTSTAMP:20260424T073352
CREATED:20240118T172125Z
LAST-MODIFIED:20240424T161645Z
UID:10003685-1719644400-1719694800@newcumberlandpa.org
SUMMARY:Fairy Door Trail
DESCRIPTION:The 7th Annual Fairy Door Trail is set to begin June 10th! \nFollow the path of New Cumberland businesses to find the magical fairy doors and fill in the names of each resident fairy in the passport.
URL:https://newcumberlandpa.org/event/fairy-door-trail-4/2024-06-29/
LOCATION:New Cumberland\, New Cumberland\, PA\, 17070\, United States
CATEGORIES:Community
ORGANIZER;CN="New Cumberland Business & Profesional Group":MAILTO:communicationschairNC@gmail.com
END:VEVENT
BEGIN:VEVENT
DTSTART;TZID=America/New_York:20240628T070000
DTEND;TZID=America/New_York:20240628T210000
DTSTAMP:20260424T073352
CREATED:20240118T172125Z
LAST-MODIFIED:20240424T161645Z
UID:10003684-1719558000-1719608400@newcumberlandpa.org
SUMMARY:Fairy Door Trail
DESCRIPTION:The 7th Annual Fairy Door Trail is set to begin June 10th! \nFollow the path of New Cumberland businesses to find the magical fairy doors and fill in the names of each resident fairy in the passport.
URL:https://newcumberlandpa.org/event/fairy-door-trail-4/2024-06-28/
LOCATION:New Cumberland\, New Cumberland\, PA\, 17070\, United States
CATEGORIES:Community
ORGANIZER;CN="New Cumberland Business & Profesional Group":MAILTO:communicationschairNC@gmail.com
END:VEVENT
BEGIN:VEVENT
DTSTART;TZID=America/New_York:20240627T070000
DTEND;TZID=America/New_York:20240627T210000
DTSTAMP:20260424T073352
CREATED:20240118T172125Z
LAST-MODIFIED:20240424T161645Z
UID:10003683-1719471600-1719522000@newcumberlandpa.org
SUMMARY:Fairy Door Trail
DESCRIPTION:The 7th Annual Fairy Door Trail is set to begin June 10th! \nFollow the path of New Cumberland businesses to find the magical fairy doors and fill in the names of each resident fairy in the passport.
URL:https://newcumberlandpa.org/event/fairy-door-trail-4/2024-06-27/
LOCATION:New Cumberland\, New Cumberland\, PA\, 17070\, United States
CATEGORIES:Community
ORGANIZER;CN="New Cumberland Business & Profesional Group":MAILTO:communicationschairNC@gmail.com
END:VEVENT
BEGIN:VEVENT
DTSTART;TZID=America/New_York:20240626T070000
DTEND;TZID=America/New_York:20240626T210000
DTSTAMP:20260424T073352
CREATED:20240118T172125Z
LAST-MODIFIED:20240424T161645Z
UID:10003682-1719385200-1719435600@newcumberlandpa.org
SUMMARY:Fairy Door Trail
DESCRIPTION:The 7th Annual Fairy Door Trail is set to begin June 10th! \nFollow the path of New Cumberland businesses to find the magical fairy doors and fill in the names of each resident fairy in the passport.
URL:https://newcumberlandpa.org/event/fairy-door-trail-4/2024-06-26/
LOCATION:New Cumberland\, New Cumberland\, PA\, 17070\, United States
CATEGORIES:Community
ORGANIZER;CN="New Cumberland Business & Profesional Group":MAILTO:communicationschairNC@gmail.com
END:VEVENT
BEGIN:VEVENT
DTSTART;TZID=America/New_York:20240625T070000
DTEND;TZID=America/New_York:20240625T210000
DTSTAMP:20260424T073352
CREATED:20240118T172125Z
LAST-MODIFIED:20240424T161645Z
UID:10003681-1719298800-1719349200@newcumberlandpa.org
SUMMARY:Fairy Door Trail
DESCRIPTION:The 7th Annual Fairy Door Trail is set to begin June 10th! \nFollow the path of New Cumberland businesses to find the magical fairy doors and fill in the names of each resident fairy in the passport.
URL:https://newcumberlandpa.org/event/fairy-door-trail-4/2024-06-25/
LOCATION:New Cumberland\, New Cumberland\, PA\, 17070\, United States
CATEGORIES:Community
ORGANIZER;CN="New Cumberland Business & Profesional Group":MAILTO:communicationschairNC@gmail.com
END:VEVENT
BEGIN:VEVENT
DTSTART;TZID=America/New_York:20240624T070000
DTEND;TZID=America/New_York:20240624T210000
DTSTAMP:20260424T073352
CREATED:20240118T172125Z
LAST-MODIFIED:20240424T161645Z
UID:10003680-1719212400-1719262800@newcumberlandpa.org
SUMMARY:Fairy Door Trail
DESCRIPTION:The 7th Annual Fairy Door Trail is set to begin June 10th! \nFollow the path of New Cumberland businesses to find the magical fairy doors and fill in the names of each resident fairy in the passport.
URL:https://newcumberlandpa.org/event/fairy-door-trail-4/2024-06-24/
LOCATION:New Cumberland\, New Cumberland\, PA\, 17070\, United States
CATEGORIES:Community
ORGANIZER;CN="New Cumberland Business & Profesional Group":MAILTO:communicationschairNC@gmail.com
END:VEVENT
BEGIN:VEVENT
DTSTART;TZID=America/New_York:20240623T070000
DTEND;TZID=America/New_York:20240623T210000
DTSTAMP:20260424T073352
CREATED:20240118T172125Z
LAST-MODIFIED:20240424T161645Z
UID:10003679-1719126000-1719176400@newcumberlandpa.org
SUMMARY:Fairy Door Trail
DESCRIPTION:The 7th Annual Fairy Door Trail is set to begin June 10th! \nFollow the path of New Cumberland businesses to find the magical fairy doors and fill in the names of each resident fairy in the passport.
URL:https://newcumberlandpa.org/event/fairy-door-trail-4/2024-06-23/
LOCATION:New Cumberland\, New Cumberland\, PA\, 17070\, United States
CATEGORIES:Community
ORGANIZER;CN="New Cumberland Business & Profesional Group":MAILTO:communicationschairNC@gmail.com
END:VEVENT
BEGIN:VEVENT
DTSTART;TZID=America/New_York:20240622T090000
DTEND;TZID=America/New_York:20240622T140000
DTSTAMP:20260424T073352
CREATED:20240118T174109Z
LAST-MODIFIED:20240404T182759Z
UID:10003778-1719046800-1719064800@newcumberlandpa.org
SUMMARY:Farmers’ Market On 4th
DESCRIPTION:The New Cumberland Farmers’ Market On 4th returns! The farmers’ market operates each Saturday\, May 4 through October 26\, from 9 a.m. to 2 p.m. rain or shine at 4th and Bridge Streets\, New Cumberland\, in the parking lot of Olde Towne Commons. Elevate your taste buds with locally grown produce\, fresh meats\, homemade baked goods\, and more! NEW this year\, artisans and makers! Look for returning farms and several new vendors. \n  \nClick here for a vendor application.
URL:https://newcumberlandpa.org/event/farmers-market-on-4th-58/2024-06-22/
LOCATION:Kelly Financial Services\, 400 Bridge Street\, New Cumberland\, PA\, 17070\, United States
ATTACH;FMTTYPE=image/jpeg:https://newcumberlandpa.org/wp-content/uploads/2023/04/farmers-market-pics_general.jpg
ORGANIZER;CN="New Cumberland Business & Profesional Group":MAILTO:communicationschairNC@gmail.com
END:VEVENT
BEGIN:VEVENT
DTSTART;TZID=America/New_York:20240622T070000
DTEND;TZID=America/New_York:20240622T210000
DTSTAMP:20260424T073352
CREATED:20240118T172125Z
LAST-MODIFIED:20240424T161645Z
UID:10003678-1719039600-1719090000@newcumberlandpa.org
SUMMARY:Fairy Door Trail
DESCRIPTION:The 7th Annual Fairy Door Trail is set to begin June 10th! \nFollow the path of New Cumberland businesses to find the magical fairy doors and fill in the names of each resident fairy in the passport.
URL:https://newcumberlandpa.org/event/fairy-door-trail-4/2024-06-22/
LOCATION:New Cumberland\, New Cumberland\, PA\, 17070\, United States
CATEGORIES:Community
ORGANIZER;CN="New Cumberland Business & Profesional Group":MAILTO:communicationschairNC@gmail.com
END:VEVENT
BEGIN:VEVENT
DTSTART;TZID=America/New_York:20240621T070000
DTEND;TZID=America/New_York:20240621T210000
DTSTAMP:20260424T073352
CREATED:20240118T172125Z
LAST-MODIFIED:20240424T161645Z
UID:10003677-1718953200-1719003600@newcumberlandpa.org
SUMMARY:Fairy Door Trail
DESCRIPTION:The 7th Annual Fairy Door Trail is set to begin June 10th! \nFollow the path of New Cumberland businesses to find the magical fairy doors and fill in the names of each resident fairy in the passport.
URL:https://newcumberlandpa.org/event/fairy-door-trail-4/2024-06-21/
LOCATION:New Cumberland\, New Cumberland\, PA\, 17070\, United States
CATEGORIES:Community
ORGANIZER;CN="New Cumberland Business & Profesional Group":MAILTO:communicationschairNC@gmail.com
END:VEVENT
BEGIN:VEVENT
DTSTART;TZID=America/New_York:20240620T070000
DTEND;TZID=America/New_York:20240620T210000
DTSTAMP:20260424T073352
CREATED:20240118T172125Z
LAST-MODIFIED:20240424T161645Z
UID:10003676-1718866800-1718917200@newcumberlandpa.org
SUMMARY:Fairy Door Trail
DESCRIPTION:The 7th Annual Fairy Door Trail is set to begin June 10th! \nFollow the path of New Cumberland businesses to find the magical fairy doors and fill in the names of each resident fairy in the passport.
URL:https://newcumberlandpa.org/event/fairy-door-trail-4/2024-06-20/
LOCATION:New Cumberland\, New Cumberland\, PA\, 17070\, United States
CATEGORIES:Community
ORGANIZER;CN="New Cumberland Business & Profesional Group":MAILTO:communicationschairNC@gmail.com
END:VEVENT
BEGIN:VEVENT
DTSTART;TZID=America/New_York:20240619T080000
DTEND;TZID=America/New_York:20240619T090000
DTSTAMP:20260424T073352
CREATED:20211213T210153Z
LAST-MODIFIED:20221026T153858Z
UID:10001330-1718784000-1718787600@newcumberlandpa.org
SUMMARY:B&PG Member Meeting
DESCRIPTION:
URL:https://newcumberlandpa.org/event/bpg-member-meeting-22/2024-06-19/
LOCATION:New Cumberland Fire Department\, 319 4th Street\, New Cumberland\, PA\, 17070\, United States
CATEGORIES:Meetings
ORGANIZER;CN="New Cumberland Business & Profesional Group":MAILTO:communicationschairNC@gmail.com
END:VEVENT
BEGIN:VEVENT
DTSTART;TZID=America/New_York:20240619T070000
DTEND;TZID=America/New_York:20240619T210000
DTSTAMP:20260424T073352
CREATED:20240118T172125Z
LAST-MODIFIED:20240424T161645Z
UID:10003675-1718780400-1718830800@newcumberlandpa.org
SUMMARY:Fairy Door Trail
DESCRIPTION:The 7th Annual Fairy Door Trail is set to begin June 10th! \nFollow the path of New Cumberland businesses to find the magical fairy doors and fill in the names of each resident fairy in the passport.
URL:https://newcumberlandpa.org/event/fairy-door-trail-4/2024-06-19/
LOCATION:New Cumberland\, New Cumberland\, PA\, 17070\, United States
CATEGORIES:Community
ORGANIZER;CN="New Cumberland Business & Profesional Group":MAILTO:communicationschairNC@gmail.com
END:VEVENT
BEGIN:VEVENT
DTSTART;TZID=America/New_York:20240618T070000
DTEND;TZID=America/New_York:20240618T210000
DTSTAMP:20260424T073352
CREATED:20240118T172125Z
LAST-MODIFIED:20240424T161645Z
UID:10003674-1718694000-1718744400@newcumberlandpa.org
SUMMARY:Fairy Door Trail
DESCRIPTION:The 7th Annual Fairy Door Trail is set to begin June 10th! \nFollow the path of New Cumberland businesses to find the magical fairy doors and fill in the names of each resident fairy in the passport.
URL:https://newcumberlandpa.org/event/fairy-door-trail-4/2024-06-18/
LOCATION:New Cumberland\, New Cumberland\, PA\, 17070\, United States
CATEGORIES:Community
ORGANIZER;CN="New Cumberland Business & Profesional Group":MAILTO:communicationschairNC@gmail.com
END:VEVENT
BEGIN:VEVENT
DTSTART;TZID=America/New_York:20240617T070000
DTEND;TZID=America/New_York:20240617T210000
DTSTAMP:20260424T073352
CREATED:20240118T172125Z
LAST-MODIFIED:20240424T161645Z
UID:10003673-1718607600-1718658000@newcumberlandpa.org
SUMMARY:Fairy Door Trail
DESCRIPTION:The 7th Annual Fairy Door Trail is set to begin June 10th! \nFollow the path of New Cumberland businesses to find the magical fairy doors and fill in the names of each resident fairy in the passport.
URL:https://newcumberlandpa.org/event/fairy-door-trail-4/2024-06-17/
LOCATION:New Cumberland\, New Cumberland\, PA\, 17070\, United States
CATEGORIES:Community
ORGANIZER;CN="New Cumberland Business & Profesional Group":MAILTO:communicationschairNC@gmail.com
END:VEVENT
BEGIN:VEVENT
DTSTART;TZID=America/New_York:20240616T070000
DTEND;TZID=America/New_York:20240616T210000
DTSTAMP:20260424T073352
CREATED:20240118T172125Z
LAST-MODIFIED:20240424T161645Z
UID:10003672-1718521200-1718571600@newcumberlandpa.org
SUMMARY:Fairy Door Trail
DESCRIPTION:The 7th Annual Fairy Door Trail is set to begin June 10th! \nFollow the path of New Cumberland businesses to find the magical fairy doors and fill in the names of each resident fairy in the passport.
URL:https://newcumberlandpa.org/event/fairy-door-trail-4/2024-06-16/
LOCATION:New Cumberland\, New Cumberland\, PA\, 17070\, United States
CATEGORIES:Community
ORGANIZER;CN="New Cumberland Business & Profesional Group":MAILTO:communicationschairNC@gmail.com
END:VEVENT
BEGIN:VEVENT
DTSTART;TZID=America/New_York:20240615T090000
DTEND;TZID=America/New_York:20240615T140000
DTSTAMP:20260424T073352
CREATED:20240118T174109Z
LAST-MODIFIED:20240404T182759Z
UID:10003777-1718442000-1718460000@newcumberlandpa.org
SUMMARY:Farmers’ Market On 4th
DESCRIPTION:The New Cumberland Farmers’ Market On 4th returns! The farmers’ market operates each Saturday\, May 4 through October 26\, from 9 a.m. to 2 p.m. rain or shine at 4th and Bridge Streets\, New Cumberland\, in the parking lot of Olde Towne Commons. Elevate your taste buds with locally grown produce\, fresh meats\, homemade baked goods\, and more! NEW this year\, artisans and makers! Look for returning farms and several new vendors. \n  \nClick here for a vendor application.
URL:https://newcumberlandpa.org/event/farmers-market-on-4th-58/2024-06-15/
LOCATION:Kelly Financial Services\, 400 Bridge Street\, New Cumberland\, PA\, 17070\, United States
ATTACH;FMTTYPE=image/jpeg:https://newcumberlandpa.org/wp-content/uploads/2023/04/farmers-market-pics_general.jpg
ORGANIZER;CN="New Cumberland Business & Profesional Group":MAILTO:communicationschairNC@gmail.com
END:VEVENT
BEGIN:VEVENT
DTSTART;TZID=America/New_York:20240615T070000
DTEND;TZID=America/New_York:20240615T210000
DTSTAMP:20260424T073352
CREATED:20240118T172125Z
LAST-MODIFIED:20240424T161645Z
UID:10003671-1718434800-1718485200@newcumberlandpa.org
SUMMARY:Fairy Door Trail
DESCRIPTION:The 7th Annual Fairy Door Trail is set to begin June 10th! \nFollow the path of New Cumberland businesses to find the magical fairy doors and fill in the names of each resident fairy in the passport.
URL:https://newcumberlandpa.org/event/fairy-door-trail-4/2024-06-15/
LOCATION:New Cumberland\, New Cumberland\, PA\, 17070\, United States
CATEGORIES:Community
ORGANIZER;CN="New Cumberland Business & Profesional Group":MAILTO:communicationschairNC@gmail.com
END:VEVENT
BEGIN:VEVENT
DTSTART;TZID=America/New_York:20240614T070000
DTEND;TZID=America/New_York:20240614T210000
DTSTAMP:20260424T073352
CREATED:20240118T172125Z
LAST-MODIFIED:20240424T161645Z
UID:10003670-1718348400-1718398800@newcumberlandpa.org
SUMMARY:Fairy Door Trail
DESCRIPTION:The 7th Annual Fairy Door Trail is set to begin June 10th! \nFollow the path of New Cumberland businesses to find the magical fairy doors and fill in the names of each resident fairy in the passport.
URL:https://newcumberlandpa.org/event/fairy-door-trail-4/2024-06-14/
LOCATION:New Cumberland\, New Cumberland\, PA\, 17070\, United States
CATEGORIES:Community
ORGANIZER;CN="New Cumberland Business & Profesional Group":MAILTO:communicationschairNC@gmail.com
END:VEVENT
END:VCALENDAR