BEGIN:VCALENDAR
VERSION:2.0
PRODID:-//New Cumberland B&amp;PG - ECPv6.15.17.1//NONSGML v1.0//EN
CALSCALE:GREGORIAN
METHOD:PUBLISH
X-ORIGINAL-URL:https://newcumberlandpa.org
X-WR-CALDESC:Events for New Cumberland B&amp;PG
REFRESH-INTERVAL;VALUE=DURATION:PT1H
X-Robots-Tag:noindex
X-PUBLISHED-TTL:PT1H
BEGIN:VTIMEZONE
TZID:America/New_York
BEGIN:DAYLIGHT
TZOFFSETFROM:-0500
TZOFFSETTO:-0400
TZNAME:EDT
DTSTART:20250309T070000
END:DAYLIGHT
BEGIN:STANDARD
TZOFFSETFROM:-0400
TZOFFSETTO:-0500
TZNAME:EST
DTSTART:20251102T060000
END:STANDARD
BEGIN:DAYLIGHT
TZOFFSETFROM:-0500
TZOFFSETTO:-0400
TZNAME:EDT
DTSTART:20260308T070000
END:DAYLIGHT
BEGIN:STANDARD
TZOFFSETFROM:-0400
TZOFFSETTO:-0500
TZNAME:EST
DTSTART:20261101T060000
END:STANDARD
BEGIN:DAYLIGHT
TZOFFSETFROM:-0500
TZOFFSETTO:-0400
TZNAME:EDT
DTSTART:20270314T070000
END:DAYLIGHT
BEGIN:STANDARD
TZOFFSETFROM:-0400
TZOFFSETTO:-0500
TZNAME:EST
DTSTART:20271107T060000
END:STANDARD
BEGIN:DAYLIGHT
TZOFFSETFROM:-0500
TZOFFSETTO:-0400
TZNAME:EDT
DTSTART:20280312T070000
END:DAYLIGHT
BEGIN:STANDARD
TZOFFSETFROM:-0400
TZOFFSETTO:-0500
TZNAME:EST
DTSTART:20281105T060000
END:STANDARD
END:VTIMEZONE
BEGIN:VEVENT
DTSTART;TZID=America/New_York:20260513T190000
DTEND;TZID=America/New_York:20260513T210000
DTSTAMP:20260423T141017
CREATED:20221026T154317Z
LAST-MODIFIED:20221026T154318Z
UID:10001490-1778698800-1778706000@newcumberlandpa.org
SUMMARY:Borough Council Meeting
DESCRIPTION:
URL:https://newcumberlandpa.org/event/borough-council-meeting-15-2/2026-05-13/
LOCATION:Borough Council Chambers\, 1120 Market Street\, New Cumberland\, PA\, 17070\, United States
CATEGORIES:Meetings
END:VEVENT
BEGIN:VEVENT
DTSTART;TZID=America/New_York:20260520T190000
DTEND;TZID=America/New_York:20260520T200000
DTSTAMP:20260423T141017
CREATED:20221026T154435Z
LAST-MODIFIED:20221026T154436Z
UID:10001695-1779303600-1779307200@newcumberlandpa.org
SUMMARY:Planning Commission Meeting
DESCRIPTION:
URL:https://newcumberlandpa.org/event/planning-commission-meeting-14-2/2026-05-20/
LOCATION:Borough Council Chambers\, 1120 Market Street\, New Cumberland\, PA\, 17070\, United States
CATEGORIES:Meetings
END:VEVENT
BEGIN:VEVENT
DTSTART;TZID=America/New_York:20260610T190000
DTEND;TZID=America/New_York:20260610T210000
DTSTAMP:20260423T141017
CREATED:20221026T154317Z
LAST-MODIFIED:20221026T154318Z
UID:10001491-1781118000-1781125200@newcumberlandpa.org
SUMMARY:Borough Council Meeting
DESCRIPTION:
URL:https://newcumberlandpa.org/event/borough-council-meeting-15-2/2026-06-10/
LOCATION:Borough Council Chambers\, 1120 Market Street\, New Cumberland\, PA\, 17070\, United States
CATEGORIES:Meetings
END:VEVENT
BEGIN:VEVENT
DTSTART;TZID=America/New_York:20260617T190000
DTEND;TZID=America/New_York:20260617T200000
DTSTAMP:20260423T141017
CREATED:20221026T154435Z
LAST-MODIFIED:20221026T154436Z
UID:10001696-1781722800-1781726400@newcumberlandpa.org
SUMMARY:Planning Commission Meeting
DESCRIPTION:
URL:https://newcumberlandpa.org/event/planning-commission-meeting-14-2/2026-06-17/
LOCATION:Borough Council Chambers\, 1120 Market Street\, New Cumberland\, PA\, 17070\, United States
CATEGORIES:Meetings
END:VEVENT
BEGIN:VEVENT
DTSTART;TZID=America/New_York:20260708T190000
DTEND;TZID=America/New_York:20260708T210000
DTSTAMP:20260423T141017
CREATED:20221026T154317Z
LAST-MODIFIED:20221026T154318Z
UID:10001492-1783537200-1783544400@newcumberlandpa.org
SUMMARY:Borough Council Meeting
DESCRIPTION:
URL:https://newcumberlandpa.org/event/borough-council-meeting-15-2/2026-07-08/
LOCATION:Borough Council Chambers\, 1120 Market Street\, New Cumberland\, PA\, 17070\, United States
CATEGORIES:Meetings
END:VEVENT
BEGIN:VEVENT
DTSTART;TZID=America/New_York:20260715T190000
DTEND;TZID=America/New_York:20260715T200000
DTSTAMP:20260423T141017
CREATED:20221026T154435Z
LAST-MODIFIED:20221026T154436Z
UID:10001697-1784142000-1784145600@newcumberlandpa.org
SUMMARY:Planning Commission Meeting
DESCRIPTION:
URL:https://newcumberlandpa.org/event/planning-commission-meeting-14-2/2026-07-15/
LOCATION:Borough Council Chambers\, 1120 Market Street\, New Cumberland\, PA\, 17070\, United States
CATEGORIES:Meetings
END:VEVENT
BEGIN:VEVENT
DTSTART;TZID=America/New_York:20260812T190000
DTEND;TZID=America/New_York:20260812T210000
DTSTAMP:20260423T141017
CREATED:20221026T154317Z
LAST-MODIFIED:20221026T154318Z
UID:10001493-1786561200-1786568400@newcumberlandpa.org
SUMMARY:Borough Council Meeting
DESCRIPTION:
URL:https://newcumberlandpa.org/event/borough-council-meeting-15-2/2026-08-12/
LOCATION:Borough Council Chambers\, 1120 Market Street\, New Cumberland\, PA\, 17070\, United States
CATEGORIES:Meetings
END:VEVENT
BEGIN:VEVENT
DTSTART;TZID=America/New_York:20260819T190000
DTEND;TZID=America/New_York:20260819T200000
DTSTAMP:20260423T141017
CREATED:20221026T154435Z
LAST-MODIFIED:20221026T154436Z
UID:10001698-1787166000-1787169600@newcumberlandpa.org
SUMMARY:Planning Commission Meeting
DESCRIPTION:
URL:https://newcumberlandpa.org/event/planning-commission-meeting-14-2/2026-08-19/
LOCATION:Borough Council Chambers\, 1120 Market Street\, New Cumberland\, PA\, 17070\, United States
CATEGORIES:Meetings
END:VEVENT
BEGIN:VEVENT
DTSTART;TZID=America/New_York:20260909T190000
DTEND;TZID=America/New_York:20260909T210000
DTSTAMP:20260423T141017
CREATED:20221026T154317Z
LAST-MODIFIED:20221026T154318Z
UID:10001494-1788980400-1788987600@newcumberlandpa.org
SUMMARY:Borough Council Meeting
DESCRIPTION:
URL:https://newcumberlandpa.org/event/borough-council-meeting-15-2/2026-09-09/
LOCATION:Borough Council Chambers\, 1120 Market Street\, New Cumberland\, PA\, 17070\, United States
CATEGORIES:Meetings
END:VEVENT
BEGIN:VEVENT
DTSTART;TZID=America/New_York:20260916T190000
DTEND;TZID=America/New_York:20260916T200000
DTSTAMP:20260423T141017
CREATED:20221026T154435Z
LAST-MODIFIED:20221026T154436Z
UID:10001699-1789585200-1789588800@newcumberlandpa.org
SUMMARY:Planning Commission Meeting
DESCRIPTION:
URL:https://newcumberlandpa.org/event/planning-commission-meeting-14-2/2026-09-16/
LOCATION:Borough Council Chambers\, 1120 Market Street\, New Cumberland\, PA\, 17070\, United States
CATEGORIES:Meetings
END:VEVENT
BEGIN:VEVENT
DTSTART;TZID=America/New_York:20261014T190000
DTEND;TZID=America/New_York:20261014T210000
DTSTAMP:20260423T141017
CREATED:20221026T154317Z
LAST-MODIFIED:20221026T154318Z
UID:10001495-1792004400-1792011600@newcumberlandpa.org
SUMMARY:Borough Council Meeting
DESCRIPTION:
URL:https://newcumberlandpa.org/event/borough-council-meeting-15-2/2026-10-14/
LOCATION:Borough Council Chambers\, 1120 Market Street\, New Cumberland\, PA\, 17070\, United States
CATEGORIES:Meetings
END:VEVENT
BEGIN:VEVENT
DTSTART;TZID=America/New_York:20261021T190000
DTEND;TZID=America/New_York:20261021T200000
DTSTAMP:20260423T141017
CREATED:20221026T154435Z
LAST-MODIFIED:20221026T154436Z
UID:10001700-1792609200-1792612800@newcumberlandpa.org
SUMMARY:Planning Commission Meeting
DESCRIPTION:
URL:https://newcumberlandpa.org/event/planning-commission-meeting-14-2/2026-10-21/
LOCATION:Borough Council Chambers\, 1120 Market Street\, New Cumberland\, PA\, 17070\, United States
CATEGORIES:Meetings
END:VEVENT
BEGIN:VEVENT
DTSTART;TZID=America/New_York:20261111T190000
DTEND;TZID=America/New_York:20261111T210000
DTSTAMP:20260423T141017
CREATED:20221026T154317Z
LAST-MODIFIED:20221026T154318Z
UID:10001496-1794423600-1794430800@newcumberlandpa.org
SUMMARY:Borough Council Meeting
DESCRIPTION:
URL:https://newcumberlandpa.org/event/borough-council-meeting-15-2/2026-11-11/
LOCATION:Borough Council Chambers\, 1120 Market Street\, New Cumberland\, PA\, 17070\, United States
CATEGORIES:Meetings
END:VEVENT
BEGIN:VEVENT
DTSTART;TZID=America/New_York:20261118T190000
DTEND;TZID=America/New_York:20261118T200000
DTSTAMP:20260423T141017
CREATED:20221026T154435Z
LAST-MODIFIED:20221026T154436Z
UID:10001701-1795028400-1795032000@newcumberlandpa.org
SUMMARY:Planning Commission Meeting
DESCRIPTION:
URL:https://newcumberlandpa.org/event/planning-commission-meeting-14-2/2026-11-18/
LOCATION:Borough Council Chambers\, 1120 Market Street\, New Cumberland\, PA\, 17070\, United States
CATEGORIES:Meetings
END:VEVENT
BEGIN:VEVENT
DTSTART;TZID=America/New_York:20261209T190000
DTEND;TZID=America/New_York:20261209T210000
DTSTAMP:20260423T141017
CREATED:20221026T154317Z
LAST-MODIFIED:20221026T154318Z
UID:10001497-1796842800-1796850000@newcumberlandpa.org
SUMMARY:Borough Council Meeting
DESCRIPTION:
URL:https://newcumberlandpa.org/event/borough-council-meeting-15-2/2026-12-09/
LOCATION:Borough Council Chambers\, 1120 Market Street\, New Cumberland\, PA\, 17070\, United States
CATEGORIES:Meetings
END:VEVENT
BEGIN:VEVENT
DTSTART;TZID=America/New_York:20261216T190000
DTEND;TZID=America/New_York:20261216T200000
DTSTAMP:20260423T141017
CREATED:20221026T154435Z
LAST-MODIFIED:20221026T154436Z
UID:10001702-1797447600-1797451200@newcumberlandpa.org
SUMMARY:Planning Commission Meeting
DESCRIPTION:
URL:https://newcumberlandpa.org/event/planning-commission-meeting-14-2/2026-12-16/
LOCATION:Borough Council Chambers\, 1120 Market Street\, New Cumberland\, PA\, 17070\, United States
CATEGORIES:Meetings
END:VEVENT
BEGIN:VEVENT
DTSTART;TZID=America/New_York:20270113T190000
DTEND;TZID=America/New_York:20270113T210000
DTSTAMP:20260423T141017
CREATED:20221026T154317Z
LAST-MODIFIED:20221026T154318Z
UID:10001498-1799866800-1799874000@newcumberlandpa.org
SUMMARY:Borough Council Meeting
DESCRIPTION:
URL:https://newcumberlandpa.org/event/borough-council-meeting-15-2/2027-01-13/
LOCATION:Borough Council Chambers\, 1120 Market Street\, New Cumberland\, PA\, 17070\, United States
CATEGORIES:Meetings
END:VEVENT
BEGIN:VEVENT
DTSTART;TZID=America/New_York:20270120T190000
DTEND;TZID=America/New_York:20270120T200000
DTSTAMP:20260423T141017
CREATED:20221026T154435Z
LAST-MODIFIED:20221026T154436Z
UID:10001703-1800471600-1800475200@newcumberlandpa.org
SUMMARY:Planning Commission Meeting
DESCRIPTION:
URL:https://newcumberlandpa.org/event/planning-commission-meeting-14-2/2027-01-20/
LOCATION:Borough Council Chambers\, 1120 Market Street\, New Cumberland\, PA\, 17070\, United States
CATEGORIES:Meetings
END:VEVENT
BEGIN:VEVENT
DTSTART;TZID=America/New_York:20270210T190000
DTEND;TZID=America/New_York:20270210T210000
DTSTAMP:20260423T141017
CREATED:20221026T154317Z
LAST-MODIFIED:20221026T154318Z
UID:10001499-1802286000-1802293200@newcumberlandpa.org
SUMMARY:Borough Council Meeting
DESCRIPTION:
URL:https://newcumberlandpa.org/event/borough-council-meeting-15-2/2027-02-10/
LOCATION:Borough Council Chambers\, 1120 Market Street\, New Cumberland\, PA\, 17070\, United States
CATEGORIES:Meetings
END:VEVENT
BEGIN:VEVENT
DTSTART;TZID=America/New_York:20270217T190000
DTEND;TZID=America/New_York:20270217T200000
DTSTAMP:20260423T141017
CREATED:20221026T154435Z
LAST-MODIFIED:20221026T154436Z
UID:10001704-1802890800-1802894400@newcumberlandpa.org
SUMMARY:Planning Commission Meeting
DESCRIPTION:
URL:https://newcumberlandpa.org/event/planning-commission-meeting-14-2/2027-02-17/
LOCATION:Borough Council Chambers\, 1120 Market Street\, New Cumberland\, PA\, 17070\, United States
CATEGORIES:Meetings
END:VEVENT
BEGIN:VEVENT
DTSTART;TZID=America/New_York:20270310T190000
DTEND;TZID=America/New_York:20270310T210000
DTSTAMP:20260423T141017
CREATED:20221026T154317Z
LAST-MODIFIED:20221026T154318Z
UID:10001500-1804705200-1804712400@newcumberlandpa.org
SUMMARY:Borough Council Meeting
DESCRIPTION:
URL:https://newcumberlandpa.org/event/borough-council-meeting-15-2/2027-03-10/
LOCATION:Borough Council Chambers\, 1120 Market Street\, New Cumberland\, PA\, 17070\, United States
CATEGORIES:Meetings
END:VEVENT
BEGIN:VEVENT
DTSTART;TZID=America/New_York:20270317T190000
DTEND;TZID=America/New_York:20270317T200000
DTSTAMP:20260423T141017
CREATED:20221026T154435Z
LAST-MODIFIED:20221026T154436Z
UID:10001705-1805310000-1805313600@newcumberlandpa.org
SUMMARY:Planning Commission Meeting
DESCRIPTION:
URL:https://newcumberlandpa.org/event/planning-commission-meeting-14-2/2027-03-17/
LOCATION:Borough Council Chambers\, 1120 Market Street\, New Cumberland\, PA\, 17070\, United States
CATEGORIES:Meetings
END:VEVENT
BEGIN:VEVENT
DTSTART;TZID=America/New_York:20270414T190000
DTEND;TZID=America/New_York:20270414T210000
DTSTAMP:20260423T141017
CREATED:20221026T154317Z
LAST-MODIFIED:20221026T154318Z
UID:10001501-1807729200-1807736400@newcumberlandpa.org
SUMMARY:Borough Council Meeting
DESCRIPTION:
URL:https://newcumberlandpa.org/event/borough-council-meeting-15-2/2027-04-14/
LOCATION:Borough Council Chambers\, 1120 Market Street\, New Cumberland\, PA\, 17070\, United States
CATEGORIES:Meetings
END:VEVENT
BEGIN:VEVENT
DTSTART;TZID=America/New_York:20270421T190000
DTEND;TZID=America/New_York:20270421T200000
DTSTAMP:20260423T141017
CREATED:20221026T154435Z
LAST-MODIFIED:20221026T154436Z
UID:10001706-1808334000-1808337600@newcumberlandpa.org
SUMMARY:Planning Commission Meeting
DESCRIPTION:
URL:https://newcumberlandpa.org/event/planning-commission-meeting-14-2/2027-04-21/
LOCATION:Borough Council Chambers\, 1120 Market Street\, New Cumberland\, PA\, 17070\, United States
CATEGORIES:Meetings
END:VEVENT
BEGIN:VEVENT
DTSTART;TZID=America/New_York:20270512T190000
DTEND;TZID=America/New_York:20270512T210000
DTSTAMP:20260423T141017
CREATED:20221026T154317Z
LAST-MODIFIED:20221026T154318Z
UID:10001502-1810148400-1810155600@newcumberlandpa.org
SUMMARY:Borough Council Meeting
DESCRIPTION:
URL:https://newcumberlandpa.org/event/borough-council-meeting-15-2/2027-05-12/
LOCATION:Borough Council Chambers\, 1120 Market Street\, New Cumberland\, PA\, 17070\, United States
CATEGORIES:Meetings
END:VEVENT
BEGIN:VEVENT
DTSTART;TZID=America/New_York:20270519T190000
DTEND;TZID=America/New_York:20270519T200000
DTSTAMP:20260423T141017
CREATED:20221026T154435Z
LAST-MODIFIED:20221026T154436Z
UID:10001707-1810753200-1810756800@newcumberlandpa.org
SUMMARY:Planning Commission Meeting
DESCRIPTION:
URL:https://newcumberlandpa.org/event/planning-commission-meeting-14-2/2027-05-19/
LOCATION:Borough Council Chambers\, 1120 Market Street\, New Cumberland\, PA\, 17070\, United States
CATEGORIES:Meetings
END:VEVENT
BEGIN:VEVENT
DTSTART;TZID=America/New_York:20270609T190000
DTEND;TZID=America/New_York:20270609T210000
DTSTAMP:20260423T141017
CREATED:20221026T154317Z
LAST-MODIFIED:20221026T154318Z
UID:10001503-1812567600-1812574800@newcumberlandpa.org
SUMMARY:Borough Council Meeting
DESCRIPTION:
URL:https://newcumberlandpa.org/event/borough-council-meeting-15-2/2027-06-09/
LOCATION:Borough Council Chambers\, 1120 Market Street\, New Cumberland\, PA\, 17070\, United States
CATEGORIES:Meetings
END:VEVENT
BEGIN:VEVENT
DTSTART;TZID=America/New_York:20270616T190000
DTEND;TZID=America/New_York:20270616T200000
DTSTAMP:20260423T141017
CREATED:20221026T154435Z
LAST-MODIFIED:20221026T154436Z
UID:10001708-1813172400-1813176000@newcumberlandpa.org
SUMMARY:Planning Commission Meeting
DESCRIPTION:
URL:https://newcumberlandpa.org/event/planning-commission-meeting-14-2/2027-06-16/
LOCATION:Borough Council Chambers\, 1120 Market Street\, New Cumberland\, PA\, 17070\, United States
CATEGORIES:Meetings
END:VEVENT
BEGIN:VEVENT
DTSTART;TZID=America/New_York:20270714T190000
DTEND;TZID=America/New_York:20270714T210000
DTSTAMP:20260423T141017
CREATED:20221026T154317Z
LAST-MODIFIED:20221026T154318Z
UID:10001504-1815591600-1815598800@newcumberlandpa.org
SUMMARY:Borough Council Meeting
DESCRIPTION:
URL:https://newcumberlandpa.org/event/borough-council-meeting-15-2/2027-07-14/
LOCATION:Borough Council Chambers\, 1120 Market Street\, New Cumberland\, PA\, 17070\, United States
CATEGORIES:Meetings
END:VEVENT
BEGIN:VEVENT
DTSTART;TZID=America/New_York:20270721T190000
DTEND;TZID=America/New_York:20270721T200000
DTSTAMP:20260423T141017
CREATED:20221026T154435Z
LAST-MODIFIED:20221026T154436Z
UID:10001709-1816196400-1816200000@newcumberlandpa.org
SUMMARY:Planning Commission Meeting
DESCRIPTION:
URL:https://newcumberlandpa.org/event/planning-commission-meeting-14-2/2027-07-21/
LOCATION:Borough Council Chambers\, 1120 Market Street\, New Cumberland\, PA\, 17070\, United States
CATEGORIES:Meetings
END:VEVENT
END:VCALENDAR