BEGIN:VCALENDAR
VERSION:2.0
PRODID:-//New Cumberland B&amp;PG - ECPv6.15.17.1//NONSGML v1.0//EN
CALSCALE:GREGORIAN
METHOD:PUBLISH
X-WR-CALNAME:New Cumberland B&amp;PG
X-ORIGINAL-URL:https://newcumberlandpa.org
X-WR-CALDESC:Events for New Cumberland B&amp;PG
REFRESH-INTERVAL;VALUE=DURATION:PT1H
X-Robots-Tag:noindex
X-PUBLISHED-TTL:PT1H
BEGIN:VTIMEZONE
TZID:America/New_York
BEGIN:DAYLIGHT
TZOFFSETFROM:-0500
TZOFFSETTO:-0400
TZNAME:EDT
DTSTART:20250309T070000
END:DAYLIGHT
BEGIN:STANDARD
TZOFFSETFROM:-0400
TZOFFSETTO:-0500
TZNAME:EST
DTSTART:20251102T060000
END:STANDARD
BEGIN:DAYLIGHT
TZOFFSETFROM:-0500
TZOFFSETTO:-0400
TZNAME:EDT
DTSTART:20260308T070000
END:DAYLIGHT
BEGIN:STANDARD
TZOFFSETFROM:-0400
TZOFFSETTO:-0500
TZNAME:EST
DTSTART:20261101T060000
END:STANDARD
BEGIN:DAYLIGHT
TZOFFSETFROM:-0500
TZOFFSETTO:-0400
TZNAME:EDT
DTSTART:20270314T070000
END:DAYLIGHT
BEGIN:STANDARD
TZOFFSETFROM:-0400
TZOFFSETTO:-0500
TZNAME:EST
DTSTART:20271107T060000
END:STANDARD
END:VTIMEZONE
BEGIN:VEVENT
DTSTART;TZID=America/New_York:20260903T080000
DTEND;TZID=America/New_York:20260903T090000
DTSTAMP:20260423T185508
CREATED:20240311T152305Z
LAST-MODIFIED:20240311T152307Z
UID:10002021-1788422400-1788426000@newcumberlandpa.org
SUMMARY:B&PG Executive Team Meeting
DESCRIPTION:
URL:https://newcumberlandpa.org/event/bpg-executive-team-meeting-2/2026-09-03/
LOCATION:New Cumberland Fire Department\, 319 4th Street\, New Cumberland\, PA\, 17070\, United States
CATEGORIES:Meetings
ORGANIZER;CN="New Cumberland Business & Profesional Group":MAILTO:communicationschairNC@gmail.com
END:VEVENT
BEGIN:VEVENT
DTSTART;TZID=America/New_York:20260905T090000
DTEND;TZID=America/New_York:20260905T150000
DTSTAMP:20260423T185508
CREATED:20230331T180948Z
LAST-MODIFIED:20230808T161726Z
UID:10002113-1788598800-1788620400@newcumberlandpa.org
SUMMARY:Book Sale
DESCRIPTION:The Friends of the New Cumberland Public Library hold pre-owned book sales on the first and third Saturdays of each month from 9:00 am until 3:00 pm in the Foundation House located across the shared parking lot from the Library. Sales include: hardback and paperback books in fiction and non-fiction\, DVD’s\, music CD’s\, puzzles\, children’s books\, 331/3 rpm vinyl records\, tote bags\, and notecards. The Friends have large collections of all genres of books\, DVD movies\, a children’s book corner\, and “specials” during each sale.  A great selection of gently used and vintage jewelry will also be for sale.
URL:https://newcumberlandpa.org/event/book-sale-30/2026-09-05/
LOCATION:Foundation House at the New Cumberland Public Library\, 1 Benjamin Plaza\, New Cumberland\, PA\, 17070\, United States
ATTACH;FMTTYPE=image/jpeg:https://newcumberlandpa.org/wp-content/uploads/2022/12/book-sales-event.jpg
END:VEVENT
BEGIN:VEVENT
DTSTART;TZID=America/New_York:20260909T113000
DTEND;TZID=America/New_York:20260909T130000
DTSTAMP:20260423T185508
CREATED:20221026T154232Z
LAST-MODIFIED:20221026T154232Z
UID:10001564-1788953400-1788958800@newcumberlandpa.org
SUMMARY:New Cumberland Olde Towne Association Monthly Meeting
DESCRIPTION:The organization is always looking for new members and the public is invited to attend. Lunch is $10.00 for guests and $8.50 for members. Membership is $5.00 a year.  For more information contact Christine Leukus at 717-319-4421 or email her at cvleukus@aol.com.
URL:https://newcumberlandpa.org/event/new-cumberland-olde-towne-association-monthly-meeting-8-2/2026-09-09/
LOCATION:American Legion Post 143\, 214 Market Street\, New Cumberland\, PA\, 17070\, United States
CATEGORIES:Community,Meetings
ORGANIZER;CN="New Cumberland Olde Towne Association":MAILTO:cvleukus@aol.com
END:VEVENT
BEGIN:VEVENT
DTSTART;TZID=America/New_York:20260909T190000
DTEND;TZID=America/New_York:20260909T210000
DTSTAMP:20260423T185508
CREATED:20221026T154317Z
LAST-MODIFIED:20221026T154318Z
UID:10001494-1788980400-1788987600@newcumberlandpa.org
SUMMARY:Borough Council Meeting
DESCRIPTION:
URL:https://newcumberlandpa.org/event/borough-council-meeting-15-2/2026-09-09/
LOCATION:Borough Council Chambers\, 1120 Market Street\, New Cumberland\, PA\, 17070\, United States
CATEGORIES:Meetings
END:VEVENT
BEGIN:VEVENT
DTSTART;TZID=America/New_York:20260910T170000
DTEND;TZID=America/New_York:20260910T200000
DTSTAMP:20260423T185508
CREATED:20260204T201654Z
LAST-MODIFIED:20260204T201654Z
UID:10004056-1789059600-1789070400@newcumberlandpa.org
SUMMARY:Food Truck and Restaurant Rally
DESCRIPTION:
URL:https://newcumberlandpa.org/event/food-truck-and-restaurant-rally-20/2026-09-10/
LOCATION:Market Square\, 221-235 Market Street\, New Cumberland\, PA\, 17070\, United States
CATEGORIES:Community
ATTACH;FMTTYPE=image/jpeg:https://newcumberlandpa.org/wp-content/uploads/2020/05/food-truck-web-event-art-1.jpg
ORGANIZER;CN="New Cumberland Business & Profesional Group":MAILTO:communicationschairNC@gmail.com
END:VEVENT
BEGIN:VEVENT
DTSTART;TZID=America/New_York:20260915T190000
DTEND;TZID=America/New_York:20260915T203000
DTSTAMP:20260423T185508
CREATED:20221026T154410Z
LAST-MODIFIED:20230920T144708Z
UID:10001631-1789498800-1789504200@newcumberlandpa.org
SUMMARY:Library Board Meeting
DESCRIPTION:
URL:https://newcumberlandpa.org/event/library-board-meeting-11-2/2026-09-15/
LOCATION:New Cumberland Public Library
CATEGORIES:Meetings
END:VEVENT
BEGIN:VEVENT
DTSTART;TZID=America/New_York:20260916T080000
DTEND;TZID=America/New_York:20260916T090000
DTSTAMP:20260423T185508
CREATED:20211213T210153Z
LAST-MODIFIED:20221026T153858Z
UID:10001357-1789545600-1789549200@newcumberlandpa.org
SUMMARY:B&PG Member Meeting
DESCRIPTION:
URL:https://newcumberlandpa.org/event/bpg-member-meeting-22/2026-09-16/
LOCATION:New Cumberland Fire Department\, 319 4th Street\, New Cumberland\, PA\, 17070\, United States
CATEGORIES:Meetings
ORGANIZER;CN="New Cumberland Business & Profesional Group":MAILTO:communicationschairNC@gmail.com
END:VEVENT
BEGIN:VEVENT
DTSTART;TZID=America/New_York:20260916T190000
DTEND;TZID=America/New_York:20260916T200000
DTSTAMP:20260423T185508
CREATED:20221026T154435Z
LAST-MODIFIED:20221026T154436Z
UID:10001699-1789585200-1789588800@newcumberlandpa.org
SUMMARY:Planning Commission Meeting
DESCRIPTION:
URL:https://newcumberlandpa.org/event/planning-commission-meeting-14-2/2026-09-16/
LOCATION:Borough Council Chambers\, 1120 Market Street\, New Cumberland\, PA\, 17070\, United States
CATEGORIES:Meetings
END:VEVENT
BEGIN:VEVENT
DTSTART;TZID=America/New_York:20260919T090000
DTEND;TZID=America/New_York:20260919T150000
DTSTAMP:20260423T185508
CREATED:20230331T181915Z
LAST-MODIFIED:20230808T161702Z
UID:10002233-1789808400-1789830000@newcumberlandpa.org
SUMMARY:Book Sale
DESCRIPTION:The Friends of the New Cumberland Public Library hold pre-owned book sales on the first and third Saturdays of each month from 9:00 am until 3:00 pm in the Foundation House located across the shared parking lot from the Library. Sales include: hardback and paperback books in fiction and non-fiction\, DVD’s\, music CD’s\, puzzles\, children’s books\, 331/3 rpm vinyl records\, tote bags\, and notecards. The Friends have large collections of all genres of books\, DVD movies\, a children’s book corner\, and “specials” during each sale.  A great selection of gently used and vintage jewelry will also be for sale.
URL:https://newcumberlandpa.org/event/book-sale-31/2026-09-19/
LOCATION:Foundation House at the New Cumberland Public Library\, 1 Benjamin Plaza\, New Cumberland\, PA\, 17070\, United States
ATTACH;FMTTYPE=image/jpeg:https://newcumberlandpa.org/wp-content/uploads/2022/12/book-sales-event.jpg
END:VEVENT
BEGIN:VEVENT
DTSTART;TZID=America/New_York:20260923T183000
DTEND;TZID=America/New_York:20260923T193000
DTSTAMP:20260423T185508
CREATED:20240403T161432Z
LAST-MODIFIED:20240403T161525Z
UID:10003869-1790188200-1790191800@newcumberlandpa.org
SUMMARY:Lions Club Meeting
DESCRIPTION:
URL:https://newcumberlandpa.org/event/lions-club-meeting-2/2026-09-23/
LOCATION:American Legion Post 143\, 214 Market Street\, New Cumberland\, PA\, 17070\, United States
ORGANIZER;CN="Lion Club":MAILTO:hopplea@members1st.org
END:VEVENT
BEGIN:VEVENT
DTSTART;TZID=America/New_York:20260926T090000
DTEND;TZID=America/New_York:20260926T160000
DTSTAMP:20260423T185508
CREATED:20260204T202316Z
LAST-MODIFIED:20260204T202316Z
UID:10004066-1790413200-1790438400@newcumberlandpa.org
SUMMARY:40th Annual Apple Festival
DESCRIPTION:The New Cumberland Olde Towne Association’s Annual Apple Festival continues to entertain families with music\, great food\, handmade crafts\, contests\, and lots of activities. Held in the Borough Park of New Cumberland located at Front and Reno Streets\, the festival will have live musical entertainment from opening until closing. \nCrafters offering handmade items of all types will display and sell their products.  Food vendors offering a vast array of delicious selections will be preparing and serving their items to eat at the festival or to take home to enjoy later. Many items featuring apples are available. There is an Apple Pie Contest\, a Lego Building Contest\, Entertainment all day long\, Kids Activities\, Games and pony rides. \nTrolleys will pick up and deliver festival guests on Bridge Street at the corners of Third Street\, Seventh Street\, Park Avenue and Haldeman Boulevard.  Limited parking is available behind the West Shore Senior Citizens Center on Reno Street. \nIf you must bring your dog to the Festival\, please have it on a short leash to keep it safe from the crowd\, and to keep Festival attendees safe. Be a responsible dog owner. \nApproximately 12\,000 individuals attend the festival. The Festival is sponsored by the New Cumberland Olde Towne Association with funds raised used to support the Community of New Cumberland Service Departments as well as Local Youth Programs.  For more information\, go to www.applefestivalnewcumberlandpa.com or contact Christine Leukus at 717-319-4421. \n 
URL:https://newcumberlandpa.org/event/40th-annual-apple-festival/
LOCATION:New Cumberland Borough Park\, Front Street & Geary Avenue\, New Cumberland\, Pennsylvania\, 17070\, United States
CATEGORIES:Community
ATTACH;FMTTYPE=image/jpeg:https://newcumberlandpa.org/wp-content/uploads/2022/08/apple-fest.jpg
ORGANIZER;CN="New Cumberland Olde Towne Association":MAILTO:cvleukus@aol.com
END:VEVENT
END:VCALENDAR