BEGIN:VCALENDAR
VERSION:2.0
PRODID:-//New Cumberland B&amp;PG - ECPv6.15.17.1//NONSGML v1.0//EN
CALSCALE:GREGORIAN
METHOD:PUBLISH
X-WR-CALNAME:New Cumberland B&amp;PG
X-ORIGINAL-URL:https://newcumberlandpa.org
X-WR-CALDESC:Events for New Cumberland B&amp;PG
REFRESH-INTERVAL;VALUE=DURATION:PT1H
X-Robots-Tag:noindex
X-PUBLISHED-TTL:PT1H
BEGIN:VTIMEZONE
TZID:America/New_York
BEGIN:DAYLIGHT
TZOFFSETFROM:-0500
TZOFFSETTO:-0400
TZNAME:EDT
DTSTART:20240310T070000
END:DAYLIGHT
BEGIN:STANDARD
TZOFFSETFROM:-0400
TZOFFSETTO:-0500
TZNAME:EST
DTSTART:20241103T060000
END:STANDARD
BEGIN:DAYLIGHT
TZOFFSETFROM:-0500
TZOFFSETTO:-0400
TZNAME:EDT
DTSTART:20250309T070000
END:DAYLIGHT
BEGIN:STANDARD
TZOFFSETFROM:-0400
TZOFFSETTO:-0500
TZNAME:EST
DTSTART:20251102T060000
END:STANDARD
BEGIN:DAYLIGHT
TZOFFSETFROM:-0500
TZOFFSETTO:-0400
TZNAME:EDT
DTSTART:20260308T070000
END:DAYLIGHT
BEGIN:STANDARD
TZOFFSETFROM:-0400
TZOFFSETTO:-0500
TZNAME:EST
DTSTART:20261101T060000
END:STANDARD
END:VTIMEZONE
BEGIN:VEVENT
DTSTART;TZID=America/New_York:20250427T100000
DTEND;TZID=America/New_York:20250427T160000
DTSTAMP:20260424T115407
CREATED:20250219T152612Z
LAST-MODIFIED:20250219T152838Z
UID:10003956-1745748000-1745769600@newcumberlandpa.org
SUMMARY:New Cumberland Earth & Arts Festival
DESCRIPTION:Join the New Cumberland Public Library as they host the New Cumberland Earth & Arts Festival in partnership with The New Cumberland Collective! The 3rd Annual New Cumberland Earth & Arts Festival is a place to celebrate\, learn\, grow and create. The festival features a full day of family-friendly activities and experiences\, including: earth-friendly advocates and artisans\, workshops\, wildlife demos\, a sustainable fashion fair\, interactive art\, live music\, food trucks and much more! We hope to see you there!
URL:https://newcumberlandpa.org/event/new-cumberland-earth-arts-festival-3/
LOCATION:New Cumberland Public Library
CATEGORIES:Community
ATTACH;FMTTYPE=image/png:https://newcumberlandpa.org/wp-content/uploads/2025/02/Screenshot-2025-02-19-at-10.27.01-AM-e1739978871340.png
END:VEVENT
BEGIN:VEVENT
DTSTART;TZID=America/New_York:20250426T080000
DTEND;TZID=America/New_York:20250426T140000
DTSTAMP:20260424T115407
CREATED:20250219T152256Z
LAST-MODIFIED:20250219T152256Z
UID:10003955-1745654400-1745676000@newcumberlandpa.org
SUMMARY:The Friends of the New Cumberland Public Library Plant Sale
DESCRIPTION:The Friends of the New Cumberland Public Library will hold their annual plant sale on Saturday\, April 26 from 8:00 AM until 2:00 PM on the lawn area of Foundation House. The plant sale will feature annuals\, vegetables\, herbs\, perennials\, and hanging baskets at bargain basement prices! Concessions will be available.
URL:https://newcumberlandpa.org/event/the-friends-of-the-new-cumberland-public-library-plant-sale-2/
LOCATION:Foundation House at the New Cumberland Public Library\, 1 Benjamin Plaza\, New Cumberland\, PA\, 17070\, United States
ATTACH;FMTTYPE=image/png:https://newcumberlandpa.org/wp-content/uploads/2023/03/plant-sale-widget_opt.png
END:VEVENT
BEGIN:VEVENT
DTSTART;TZID=America/New_York:20250423T183000
DTEND;TZID=America/New_York:20250423T193000
DTSTAMP:20260424T115407
CREATED:20240403T161432Z
LAST-MODIFIED:20240403T161525Z
UID:10003852-1745433000-1745436600@newcumberlandpa.org
SUMMARY:Lions Club Meeting
DESCRIPTION:
URL:https://newcumberlandpa.org/event/lions-club-meeting-2/2025-04-23/
LOCATION:American Legion Post 143\, 214 Market Street\, New Cumberland\, PA\, 17070\, United States
ORGANIZER;CN="Lion Club":MAILTO:hopplea@members1st.org
END:VEVENT
BEGIN:VEVENT
DTSTART;TZID=America/New_York:20250419T090000
DTEND;TZID=America/New_York:20250419T150000
DTSTAMP:20260424T115407
CREATED:20230331T181915Z
LAST-MODIFIED:20230808T161702Z
UID:10002216-1745053200-1745074800@newcumberlandpa.org
SUMMARY:Book Sale
DESCRIPTION:The Friends of the New Cumberland Public Library hold pre-owned book sales on the first and third Saturdays of each month from 9:00 am until 3:00 pm in the Foundation House located across the shared parking lot from the Library. Sales include: hardback and paperback books in fiction and non-fiction\, DVD’s\, music CD’s\, puzzles\, children’s books\, 331/3 rpm vinyl records\, tote bags\, and notecards. The Friends have large collections of all genres of books\, DVD movies\, a children’s book corner\, and “specials” during each sale.  A great selection of gently used and vintage jewelry will also be for sale.
URL:https://newcumberlandpa.org/event/book-sale-31/2025-04-19/
LOCATION:Foundation House at the New Cumberland Public Library\, 1 Benjamin Plaza\, New Cumberland\, PA\, 17070\, United States
ATTACH;FMTTYPE=image/jpeg:https://newcumberlandpa.org/wp-content/uploads/2022/12/book-sales-event.jpg
END:VEVENT
BEGIN:VEVENT
DTSTART;TZID=America/New_York:20250419T080000
DTEND;TZID=America/New_York:20250419T170000
DTSTAMP:20260424T115407
CREATED:20250219T154643Z
LAST-MODIFIED:20250219T154739Z
UID:10003968-1745049600-1745082000@newcumberlandpa.org
SUMMARY:NCFD Easter Flower Sale
DESCRIPTION:EASTER FLOWER SALE\nThursday\, April 16th – Saturday\, April 19th\n9am – 5pm daily\nDon’t wait until Saturday to pick up your potted flowers. Stop early for the best selection. We will be set up at Kelly Financial Services parking lot at the corner of Bridge & Fourth.
URL:https://newcumberlandpa.org/event/ncfd-easter-flower-sale/2025-04-19/
LOCATION:Kelly Financial Services\, 400 Bridge Street\, New Cumberland\, PA\, 17070\, United States
END:VEVENT
BEGIN:VEVENT
DTSTART;TZID=America/New_York:20250418T080000
DTEND;TZID=America/New_York:20250418T170000
DTSTAMP:20260424T115407
CREATED:20250219T154643Z
LAST-MODIFIED:20250219T154739Z
UID:10003966-1744963200-1744995600@newcumberlandpa.org
SUMMARY:NCFD Easter Flower Sale
DESCRIPTION:EASTER FLOWER SALE\nThursday\, April 16th – Saturday\, April 19th\n9am – 5pm daily\nDon’t wait until Saturday to pick up your potted flowers. Stop early for the best selection. We will be set up at Kelly Financial Services parking lot at the corner of Bridge & Fourth.
URL:https://newcumberlandpa.org/event/ncfd-easter-flower-sale/2025-04-18/
LOCATION:Kelly Financial Services\, 400 Bridge Street\, New Cumberland\, PA\, 17070\, United States
END:VEVENT
BEGIN:VEVENT
DTSTART;TZID=America/New_York:20250417T080000
DTEND;TZID=America/New_York:20250417T170000
DTSTAMP:20260424T115407
CREATED:20250219T154643Z
LAST-MODIFIED:20250219T154739Z
UID:10003964-1744876800-1744909200@newcumberlandpa.org
SUMMARY:NCFD Easter Flower Sale
DESCRIPTION:EASTER FLOWER SALE\nThursday\, April 16th – Saturday\, April 19th\n9am – 5pm daily\nDon’t wait until Saturday to pick up your potted flowers. Stop early for the best selection. We will be set up at Kelly Financial Services parking lot at the corner of Bridge & Fourth.
URL:https://newcumberlandpa.org/event/ncfd-easter-flower-sale/2025-04-17/
LOCATION:Kelly Financial Services\, 400 Bridge Street\, New Cumberland\, PA\, 17070\, United States
END:VEVENT
BEGIN:VEVENT
DTSTART;TZID=America/New_York:20250416T190000
DTEND;TZID=America/New_York:20250416T200000
DTSTAMP:20260424T115407
CREATED:20221026T154435Z
LAST-MODIFIED:20221026T154436Z
UID:10001682-1744830000-1744833600@newcumberlandpa.org
SUMMARY:Planning Commission Meeting
DESCRIPTION:
URL:https://newcumberlandpa.org/event/planning-commission-meeting-14-2/2025-04-16/
LOCATION:Borough Council Chambers\, 1120 Market Street\, New Cumberland\, PA\, 17070\, United States
CATEGORIES:Meetings
END:VEVENT
BEGIN:VEVENT
DTSTART;TZID=America/New_York:20250416T090000
DTEND;TZID=America/New_York:20250416T170000
DTSTAMP:20260424T115407
CREATED:20250219T154643Z
LAST-MODIFIED:20250219T154739Z
UID:10003963-1744794000-1744822800@newcumberlandpa.org
SUMMARY:NCFD Easter Flower Sale
DESCRIPTION:EASTER FLOWER SALE\nThursday\, April 16th – Saturday\, April 19th\n9am – 5pm daily\nDon’t wait until Saturday to pick up your potted flowers. Stop early for the best selection. We will be set up at Kelly Financial Services parking lot at the corner of Bridge & Fourth.
URL:https://newcumberlandpa.org/event/ncfd-easter-flower-sale/2025-04-16/
LOCATION:Kelly Financial Services\, 400 Bridge Street\, New Cumberland\, PA\, 17070\, United States
END:VEVENT
BEGIN:VEVENT
DTSTART;TZID=America/New_York:20250416T080000
DTEND;TZID=America/New_York:20250416T090000
DTSTAMP:20260424T115407
CREATED:20211213T210153Z
LAST-MODIFIED:20221026T153858Z
UID:10001340-1744790400-1744794000@newcumberlandpa.org
SUMMARY:B&PG Member Meeting
DESCRIPTION:
URL:https://newcumberlandpa.org/event/bpg-member-meeting-22/2025-04-16/
LOCATION:New Cumberland Fire Department\, 319 4th Street\, New Cumberland\, PA\, 17070\, United States
CATEGORIES:Meetings
ORGANIZER;CN="New Cumberland Business & Profesional Group":MAILTO:communicationschairNC@gmail.com
END:VEVENT
BEGIN:VEVENT
DTSTART;TZID=America/New_York:20250415T190000
DTEND;TZID=America/New_York:20250415T203000
DTSTAMP:20260424T115407
CREATED:20221026T154410Z
LAST-MODIFIED:20230920T144708Z
UID:10001614-1744743600-1744749000@newcumberlandpa.org
SUMMARY:Library Board Meeting
DESCRIPTION:
URL:https://newcumberlandpa.org/event/library-board-meeting-11-2/2025-04-15/
LOCATION:New Cumberland Public Library
CATEGORIES:Meetings
END:VEVENT
BEGIN:VEVENT
DTSTART;TZID=America/New_York:20250412T093000
DTEND;TZID=America/New_York:20250412T120000
DTSTAMP:20260424T115407
CREATED:20250327T141151Z
LAST-MODIFIED:20250327T141151Z
UID:10003974-1744450200-1744459200@newcumberlandpa.org
SUMMARY:Pick Up New Cumberland
DESCRIPTION:Join your neighbors in keeping New Cumberland beautiful.
URL:https://newcumberlandpa.org/event/pick-up-new-cumberland/
CATEGORIES:Community
END:VEVENT
BEGIN:VEVENT
DTSTART;TZID=America/New_York:20250410T170000
DTEND;TZID=America/New_York:20250410T200000
DTSTAMP:20260424T115407
CREATED:20250108T171159Z
LAST-MODIFIED:20250211T161642Z
UID:10003942-1744304400-1744315200@newcumberlandpa.org
SUMMARY:Food Truck and Restaurant Rally
DESCRIPTION:
URL:https://newcumberlandpa.org/event/food-truck-and-restaurant-rally-19/2025-04-10/
LOCATION:Market Square\, 221-235 Market Street\, New Cumberland\, PA\, 17070\, United States
CATEGORIES:Community
ATTACH;FMTTYPE=image/jpeg:https://newcumberlandpa.org/wp-content/uploads/2020/05/food-truck-web-event-art-1.jpg
ORGANIZER;CN="New Cumberland Business & Profesional Group":MAILTO:communicationschairNC@gmail.com
END:VEVENT
BEGIN:VEVENT
DTSTART;TZID=America/New_York:20250410T110000
DTEND;TZID=America/New_York:20250410T170000
DTSTAMP:20260424T115407
CREATED:20250311T150013Z
LAST-MODIFIED:20250311T150013Z
UID:10003970-1744282800-1744304400@newcumberlandpa.org
SUMMARY:Household Hazardous Waste Recycling Day
DESCRIPTION:Household Hazardous Waste (HHW) consists of products in the home which are corrosive (drain cleaners or bleach)\, flammable (gasoline or kerosene)\, reactive (chemistry kits and photographic chemicals) or toxic (pesticides and insecticides). Penn Waste is NOT authorized to pickup these materials. These materials may NOT be placed in your curbside trash. \nCumberland County offers a HHW collection recycling program in an attempt to give the residents of Cumberland County an alternative disposal method for these types of wastes. \nHazardous waste will be accepted by the County on these days. 2025 collection days are: \nThursday\, April 10\, 2025\, 11 am to 5 pm \nSaturday\, May 31\, 2025\, 9 am to 3 pm \nSaturday\, August 16\, 2025\, 9 am to 3 pm \nThursday\, October 23\, 2025\, 11 am to 5 pm \nAppointments are required and a fee of $0.75/lb will be charged. Click here for more details and to sign up.    \nAcceptable Materials\nA complete list of acceptable HHW can be viewed here. Please note the list of unacceptable items as well. \nLocation\nCumberland County Recycling Center\n1001 Claremont Road\nCarlisle\, PA (Map)
URL:https://newcumberlandpa.org/event/household-hazardous-waste-recycling-day/
END:VEVENT
BEGIN:VEVENT
DTSTART;TZID=America/New_York:20250409T190000
DTEND;TZID=America/New_York:20250409T210000
DTSTAMP:20260424T115407
CREATED:20221026T154317Z
LAST-MODIFIED:20221026T154318Z
UID:10001477-1744225200-1744232400@newcumberlandpa.org
SUMMARY:Borough Council Meeting
DESCRIPTION:
URL:https://newcumberlandpa.org/event/borough-council-meeting-15-2/2025-04-09/
LOCATION:Borough Council Chambers\, 1120 Market Street\, New Cumberland\, PA\, 17070\, United States
CATEGORIES:Meetings
END:VEVENT
BEGIN:VEVENT
DTSTART;TZID=America/New_York:20250409T113000
DTEND;TZID=America/New_York:20250409T130000
DTSTAMP:20260424T115407
CREATED:20221026T154232Z
LAST-MODIFIED:20221026T154232Z
UID:10001547-1744198200-1744203600@newcumberlandpa.org
SUMMARY:New Cumberland Olde Towne Association Monthly Meeting
DESCRIPTION:The organization is always looking for new members and the public is invited to attend. Lunch is $10.00 for guests and $8.50 for members. Membership is $5.00 a year.  For more information contact Christine Leukus at 717-319-4421 or email her at cvleukus@aol.com.
URL:https://newcumberlandpa.org/event/new-cumberland-olde-towne-association-monthly-meeting-8-2/2025-04-09/
LOCATION:American Legion Post 143\, 214 Market Street\, New Cumberland\, PA\, 17070\, United States
CATEGORIES:Community,Meetings
ORGANIZER;CN="New Cumberland Olde Towne Association":MAILTO:cvleukus@aol.com
END:VEVENT
BEGIN:VEVENT
DTSTART;TZID=America/New_York:20250405T090000
DTEND;TZID=America/New_York:20250405T150000
DTSTAMP:20260424T115407
CREATED:20230331T180948Z
LAST-MODIFIED:20230808T161726Z
UID:10002096-1743843600-1743865200@newcumberlandpa.org
SUMMARY:Book Sale
DESCRIPTION:The Friends of the New Cumberland Public Library hold pre-owned book sales on the first and third Saturdays of each month from 9:00 am until 3:00 pm in the Foundation House located across the shared parking lot from the Library. Sales include: hardback and paperback books in fiction and non-fiction\, DVD’s\, music CD’s\, puzzles\, children’s books\, 331/3 rpm vinyl records\, tote bags\, and notecards. The Friends have large collections of all genres of books\, DVD movies\, a children’s book corner\, and “specials” during each sale.  A great selection of gently used and vintage jewelry will also be for sale.
URL:https://newcumberlandpa.org/event/book-sale-30/2025-04-05/
LOCATION:Foundation House at the New Cumberland Public Library\, 1 Benjamin Plaza\, New Cumberland\, PA\, 17070\, United States
ATTACH;FMTTYPE=image/jpeg:https://newcumberlandpa.org/wp-content/uploads/2022/12/book-sales-event.jpg
END:VEVENT
BEGIN:VEVENT
DTSTART;TZID=America/New_York:20250403T080000
DTEND;TZID=America/New_York:20250403T090000
DTSTAMP:20260424T115407
CREATED:20240311T152305Z
LAST-MODIFIED:20240311T152307Z
UID:10002004-1743667200-1743670800@newcumberlandpa.org
SUMMARY:B&PG Executive Team Meeting
DESCRIPTION:
URL:https://newcumberlandpa.org/event/bpg-executive-team-meeting-2/2025-04-03/
LOCATION:New Cumberland Fire Department\, 319 4th Street\, New Cumberland\, PA\, 17070\, United States
CATEGORIES:Meetings
ORGANIZER;CN="New Cumberland Business & Profesional Group":MAILTO:communicationschairNC@gmail.com
END:VEVENT
BEGIN:VEVENT
DTSTART;TZID=America/New_York:20250326T183000
DTEND;TZID=America/New_York:20250326T193000
DTSTAMP:20260424T115407
CREATED:20240403T161432Z
LAST-MODIFIED:20240403T161525Z
UID:10003851-1743013800-1743017400@newcumberlandpa.org
SUMMARY:Lions Club Meeting
DESCRIPTION:
URL:https://newcumberlandpa.org/event/lions-club-meeting-2/2025-03-26/
LOCATION:American Legion Post 143\, 214 Market Street\, New Cumberland\, PA\, 17070\, United States
ORGANIZER;CN="Lion Club":MAILTO:hopplea@members1st.org
END:VEVENT
BEGIN:VEVENT
DTSTART;TZID=America/New_York:20250319T190000
DTEND;TZID=America/New_York:20250319T200000
DTSTAMP:20260424T115407
CREATED:20221026T154435Z
LAST-MODIFIED:20221026T154436Z
UID:10001681-1742410800-1742414400@newcumberlandpa.org
SUMMARY:Planning Commission Meeting
DESCRIPTION:
URL:https://newcumberlandpa.org/event/planning-commission-meeting-14-2/2025-03-19/
LOCATION:Borough Council Chambers\, 1120 Market Street\, New Cumberland\, PA\, 17070\, United States
CATEGORIES:Meetings
END:VEVENT
BEGIN:VEVENT
DTSTART;TZID=America/New_York:20250319T080000
DTEND;TZID=America/New_York:20250319T090000
DTSTAMP:20260424T115407
CREATED:20211213T210153Z
LAST-MODIFIED:20221026T153858Z
UID:10001339-1742371200-1742374800@newcumberlandpa.org
SUMMARY:B&PG Member Meeting
DESCRIPTION:
URL:https://newcumberlandpa.org/event/bpg-member-meeting-22/2025-03-19/
LOCATION:New Cumberland Fire Department\, 319 4th Street\, New Cumberland\, PA\, 17070\, United States
CATEGORIES:Meetings
ORGANIZER;CN="New Cumberland Business & Profesional Group":MAILTO:communicationschairNC@gmail.com
END:VEVENT
BEGIN:VEVENT
DTSTART;TZID=America/New_York:20250318T190000
DTEND;TZID=America/New_York:20250318T203000
DTSTAMP:20260424T115407
CREATED:20221026T154410Z
LAST-MODIFIED:20230920T144708Z
UID:10001613-1742324400-1742329800@newcumberlandpa.org
SUMMARY:Library Board Meeting
DESCRIPTION:
URL:https://newcumberlandpa.org/event/library-board-meeting-11-2/2025-03-18/
LOCATION:New Cumberland Public Library
CATEGORIES:Meetings
END:VEVENT
BEGIN:VEVENT
DTSTART;TZID=America/New_York:20250315T120000
DTEND;TZID=America/New_York:20250315T200000
DTSTAMP:20260424T115407
CREATED:20250219T155938Z
LAST-MODIFIED:20250219T155938Z
UID:10003969-1742040000-1742068800@newcumberlandpa.org
SUMMARY:The Best St. Patrick's Day Party Ever
DESCRIPTION:Join us for the ultimate St. Patrick’s Day celebration! YOU are invited to the 2nd Annual Best St. Patrick’s Day Party Ever in Downtown New Cumberland on Saturday March 15th\, from 12 – 8 p.m. We will be closing down Bridge Street from 4th to 3rd Street. All are welcome to come out and enjoy in the fun! \nFestivities include: Live Music  Food Trucks Vendors Contest for Best Red Hair\, Best Knees & Kiss the Blarney Stone Pet Parade Face Painting All your favorite Irish drinks from Dead Lightning\, Wild Rabbit and Iron Bridge Music Festival\n\nPresented by the New Cumberland Olde Towne Association AND the Business & Professional Group.\nSaintPatricksNC.com\n*must be 21 years of age to consume alcohol and have a wristband provided upon entry.
URL:https://newcumberlandpa.org/event/the-best-st-patricks-day-party-ever-2/
LOCATION:Downtown New Cumberland\, Bridge Street\, New Cumberland\, PA\, 17070\, United States
ATTACH;FMTTYPE=image/jpeg:https://newcumberlandpa.org/wp-content/uploads/2024/01/best-st-patty-day-party-ever.jpg
ORGANIZER;CN="New Cumberland Olde Towne Association":MAILTO:cvleukus@aol.com
END:VEVENT
BEGIN:VEVENT
DTSTART;TZID=America/New_York:20250315T090000
DTEND;TZID=America/New_York:20250315T150000
DTSTAMP:20260424T115407
CREATED:20230331T181915Z
LAST-MODIFIED:20230808T161702Z
UID:10002215-1742029200-1742050800@newcumberlandpa.org
SUMMARY:Book Sale
DESCRIPTION:The Friends of the New Cumberland Public Library hold pre-owned book sales on the first and third Saturdays of each month from 9:00 am until 3:00 pm in the Foundation House located across the shared parking lot from the Library. Sales include: hardback and paperback books in fiction and non-fiction\, DVD’s\, music CD’s\, puzzles\, children’s books\, 331/3 rpm vinyl records\, tote bags\, and notecards. The Friends have large collections of all genres of books\, DVD movies\, a children’s book corner\, and “specials” during each sale.  A great selection of gently used and vintage jewelry will also be for sale.
URL:https://newcumberlandpa.org/event/book-sale-31/2025-03-15/
LOCATION:Foundation House at the New Cumberland Public Library\, 1 Benjamin Plaza\, New Cumberland\, PA\, 17070\, United States
ATTACH;FMTTYPE=image/jpeg:https://newcumberlandpa.org/wp-content/uploads/2022/12/book-sales-event.jpg
END:VEVENT
BEGIN:VEVENT
DTSTART;TZID=America/New_York:20250313T170000
DTEND;TZID=America/New_York:20250313T200000
DTSTAMP:20260424T115407
CREATED:20250108T171159Z
LAST-MODIFIED:20250211T161642Z
UID:10003935-1741885200-1741896000@newcumberlandpa.org
SUMMARY:Food Truck and Restaurant Rally
DESCRIPTION:
URL:https://newcumberlandpa.org/event/food-truck-and-restaurant-rally-19/2025-03-13/
LOCATION:Market Square\, 221-235 Market Street\, New Cumberland\, PA\, 17070\, United States
CATEGORIES:Community
ATTACH;FMTTYPE=image/jpeg:https://newcumberlandpa.org/wp-content/uploads/2020/05/food-truck-web-event-art-1.jpg
ORGANIZER;CN="New Cumberland Business & Profesional Group":MAILTO:communicationschairNC@gmail.com
END:VEVENT
BEGIN:VEVENT
DTSTART;TZID=America/New_York:20250312T190000
DTEND;TZID=America/New_York:20250312T210000
DTSTAMP:20260424T115408
CREATED:20221026T154317Z
LAST-MODIFIED:20221026T154318Z
UID:10001476-1741806000-1741813200@newcumberlandpa.org
SUMMARY:Borough Council Meeting
DESCRIPTION:
URL:https://newcumberlandpa.org/event/borough-council-meeting-15-2/2025-03-12/
LOCATION:Borough Council Chambers\, 1120 Market Street\, New Cumberland\, PA\, 17070\, United States
CATEGORIES:Meetings
END:VEVENT
BEGIN:VEVENT
DTSTART;TZID=America/New_York:20250312T113000
DTEND;TZID=America/New_York:20250312T130000
DTSTAMP:20260424T115408
CREATED:20221026T154232Z
LAST-MODIFIED:20221026T154232Z
UID:10001546-1741779000-1741784400@newcumberlandpa.org
SUMMARY:New Cumberland Olde Towne Association Monthly Meeting
DESCRIPTION:The organization is always looking for new members and the public is invited to attend. Lunch is $10.00 for guests and $8.50 for members. Membership is $5.00 a year.  For more information contact Christine Leukus at 717-319-4421 or email her at cvleukus@aol.com.
URL:https://newcumberlandpa.org/event/new-cumberland-olde-towne-association-monthly-meeting-8-2/2025-03-12/
LOCATION:American Legion Post 143\, 214 Market Street\, New Cumberland\, PA\, 17070\, United States
CATEGORIES:Community,Meetings
ORGANIZER;CN="New Cumberland Olde Towne Association":MAILTO:cvleukus@aol.com
END:VEVENT
BEGIN:VEVENT
DTSTART;TZID=America/New_York:20250306T080000
DTEND;TZID=America/New_York:20250306T090000
DTSTAMP:20260424T115408
CREATED:20240311T152305Z
LAST-MODIFIED:20240311T152307Z
UID:10002003-1741248000-1741251600@newcumberlandpa.org
SUMMARY:B&PG Executive Team Meeting
DESCRIPTION:
URL:https://newcumberlandpa.org/event/bpg-executive-team-meeting-2/2025-03-06/
LOCATION:New Cumberland Fire Department\, 319 4th Street\, New Cumberland\, PA\, 17070\, United States
CATEGORIES:Meetings
ORGANIZER;CN="New Cumberland Business & Profesional Group":MAILTO:communicationschairNC@gmail.com
END:VEVENT
BEGIN:VEVENT
DTSTART;TZID=America/New_York:20250301T090000
DTEND;TZID=America/New_York:20250301T150000
DTSTAMP:20260424T115408
CREATED:20230331T180948Z
LAST-MODIFIED:20230808T161726Z
UID:10002095-1740819600-1740841200@newcumberlandpa.org
SUMMARY:Book Sale
DESCRIPTION:The Friends of the New Cumberland Public Library hold pre-owned book sales on the first and third Saturdays of each month from 9:00 am until 3:00 pm in the Foundation House located across the shared parking lot from the Library. Sales include: hardback and paperback books in fiction and non-fiction\, DVD’s\, music CD’s\, puzzles\, children’s books\, 331/3 rpm vinyl records\, tote bags\, and notecards. The Friends have large collections of all genres of books\, DVD movies\, a children’s book corner\, and “specials” during each sale.  A great selection of gently used and vintage jewelry will also be for sale.
URL:https://newcumberlandpa.org/event/book-sale-30/2025-03-01/
LOCATION:Foundation House at the New Cumberland Public Library\, 1 Benjamin Plaza\, New Cumberland\, PA\, 17070\, United States
ATTACH;FMTTYPE=image/jpeg:https://newcumberlandpa.org/wp-content/uploads/2022/12/book-sales-event.jpg
END:VEVENT
BEGIN:VEVENT
DTSTART;TZID=America/New_York:20250226T183000
DTEND;TZID=America/New_York:20250226T193000
DTSTAMP:20260424T115408
CREATED:20240403T161432Z
LAST-MODIFIED:20240403T161525Z
UID:10003850-1740594600-1740598200@newcumberlandpa.org
SUMMARY:Lions Club Meeting
DESCRIPTION:
URL:https://newcumberlandpa.org/event/lions-club-meeting-2/2025-02-26/
LOCATION:American Legion Post 143\, 214 Market Street\, New Cumberland\, PA\, 17070\, United States
ORGANIZER;CN="Lion Club":MAILTO:hopplea@members1st.org
END:VEVENT
END:VCALENDAR