BEGIN:VCALENDAR
VERSION:2.0
PRODID:-//New Cumberland B&amp;PG - ECPv6.15.17.1//NONSGML v1.0//EN
CALSCALE:GREGORIAN
METHOD:PUBLISH
X-ORIGINAL-URL:https://newcumberlandpa.org
X-WR-CALDESC:Events for New Cumberland B&amp;PG
REFRESH-INTERVAL;VALUE=DURATION:PT1H
X-Robots-Tag:noindex
X-PUBLISHED-TTL:PT1H
BEGIN:VTIMEZONE
TZID:America/New_York
BEGIN:DAYLIGHT
TZOFFSETFROM:-0500
TZOFFSETTO:-0400
TZNAME:EDT
DTSTART:20250309T070000
END:DAYLIGHT
BEGIN:STANDARD
TZOFFSETFROM:-0400
TZOFFSETTO:-0500
TZNAME:EST
DTSTART:20251102T060000
END:STANDARD
BEGIN:DAYLIGHT
TZOFFSETFROM:-0500
TZOFFSETTO:-0400
TZNAME:EDT
DTSTART:20260308T070000
END:DAYLIGHT
BEGIN:STANDARD
TZOFFSETFROM:-0400
TZOFFSETTO:-0500
TZNAME:EST
DTSTART:20261101T060000
END:STANDARD
BEGIN:DAYLIGHT
TZOFFSETFROM:-0500
TZOFFSETTO:-0400
TZNAME:EDT
DTSTART:20270314T070000
END:DAYLIGHT
BEGIN:STANDARD
TZOFFSETFROM:-0400
TZOFFSETTO:-0500
TZNAME:EST
DTSTART:20271107T060000
END:STANDARD
END:VTIMEZONE
BEGIN:VEVENT
DTSTART;TZID=America/New_York:20260514T170000
DTEND;TZID=America/New_York:20260514T200000
DTSTAMP:20260423T184220
CREATED:20260204T201654Z
LAST-MODIFIED:20260204T201654Z
UID:10004052-1778778000-1778788800@newcumberlandpa.org
SUMMARY:Food Truck and Restaurant Rally
DESCRIPTION:
URL:https://newcumberlandpa.org/event/food-truck-and-restaurant-rally-20/2026-05-14/
LOCATION:Market Square\, 221-235 Market Street\, New Cumberland\, PA\, 17070\, United States
CATEGORIES:Community
ATTACH;FMTTYPE=image/jpeg:https://newcumberlandpa.org/wp-content/uploads/2020/05/food-truck-web-event-art-1.jpg
ORGANIZER;CN="New Cumberland Business & Profesional Group":MAILTO:communicationschairNC@gmail.com
END:VEVENT
BEGIN:VEVENT
DTSTART;TZID=America/New_York:20260516T090000
DTEND;TZID=America/New_York:20260516T150000
DTSTAMP:20260423T184220
CREATED:20230331T181915Z
LAST-MODIFIED:20230808T161702Z
UID:10002229-1778922000-1778943600@newcumberlandpa.org
SUMMARY:Book Sale
DESCRIPTION:The Friends of the New Cumberland Public Library hold pre-owned book sales on the first and third Saturdays of each month from 9:00 am until 3:00 pm in the Foundation House located across the shared parking lot from the Library. Sales include: hardback and paperback books in fiction and non-fiction\, DVD’s\, music CD’s\, puzzles\, children’s books\, 331/3 rpm vinyl records\, tote bags\, and notecards. The Friends have large collections of all genres of books\, DVD movies\, a children’s book corner\, and “specials” during each sale.  A great selection of gently used and vintage jewelry will also be for sale.
URL:https://newcumberlandpa.org/event/book-sale-31/2026-05-16/
LOCATION:Foundation House at the New Cumberland Public Library\, 1 Benjamin Plaza\, New Cumberland\, PA\, 17070\, United States
ATTACH;FMTTYPE=image/jpeg:https://newcumberlandpa.org/wp-content/uploads/2022/12/book-sales-event.jpg
END:VEVENT
BEGIN:VEVENT
DTSTART;TZID=America/New_York:20260519T190000
DTEND;TZID=America/New_York:20260519T203000
DTSTAMP:20260423T184220
CREATED:20221026T154410Z
LAST-MODIFIED:20230920T144708Z
UID:10001627-1779217200-1779222600@newcumberlandpa.org
SUMMARY:Library Board Meeting
DESCRIPTION:
URL:https://newcumberlandpa.org/event/library-board-meeting-11-2/2026-05-19/
LOCATION:New Cumberland Public Library
CATEGORIES:Meetings
END:VEVENT
BEGIN:VEVENT
DTSTART;TZID=America/New_York:20260520T080000
DTEND;TZID=America/New_York:20260520T090000
DTSTAMP:20260423T184220
CREATED:20211213T210153Z
LAST-MODIFIED:20221026T153858Z
UID:10001353-1779264000-1779267600@newcumberlandpa.org
SUMMARY:B&PG Member Meeting
DESCRIPTION:
URL:https://newcumberlandpa.org/event/bpg-member-meeting-22/2026-05-20/
LOCATION:New Cumberland Fire Department\, 319 4th Street\, New Cumberland\, PA\, 17070\, United States
CATEGORIES:Meetings
ORGANIZER;CN="New Cumberland Business & Profesional Group":MAILTO:communicationschairNC@gmail.com
END:VEVENT
BEGIN:VEVENT
DTSTART;TZID=America/New_York:20260520T190000
DTEND;TZID=America/New_York:20260520T200000
DTSTAMP:20260423T184220
CREATED:20221026T154435Z
LAST-MODIFIED:20221026T154436Z
UID:10001695-1779303600-1779307200@newcumberlandpa.org
SUMMARY:Planning Commission Meeting
DESCRIPTION:
URL:https://newcumberlandpa.org/event/planning-commission-meeting-14-2/2026-05-20/
LOCATION:Borough Council Chambers\, 1120 Market Street\, New Cumberland\, PA\, 17070\, United States
CATEGORIES:Meetings
END:VEVENT
BEGIN:VEVENT
DTSTART;TZID=America/New_York:20260527T183000
DTEND;TZID=America/New_York:20260527T193000
DTSTAMP:20260423T184220
CREATED:20240403T161432Z
LAST-MODIFIED:20240403T161525Z
UID:10003865-1779906600-1779910200@newcumberlandpa.org
SUMMARY:Lions Club Meeting
DESCRIPTION:
URL:https://newcumberlandpa.org/event/lions-club-meeting-2/2026-05-27/
LOCATION:American Legion Post 143\, 214 Market Street\, New Cumberland\, PA\, 17070\, United States
ORGANIZER;CN="Lion Club":MAILTO:hopplea@members1st.org
END:VEVENT
BEGIN:VEVENT
DTSTART;TZID=America/New_York:20260604T080000
DTEND;TZID=America/New_York:20260604T090000
DTSTAMP:20260423T184220
CREATED:20240311T152305Z
LAST-MODIFIED:20240311T152307Z
UID:10002018-1780560000-1780563600@newcumberlandpa.org
SUMMARY:B&PG Executive Team Meeting
DESCRIPTION:
URL:https://newcumberlandpa.org/event/bpg-executive-team-meeting-2/2026-06-04/
LOCATION:New Cumberland Fire Department\, 319 4th Street\, New Cumberland\, PA\, 17070\, United States
CATEGORIES:Meetings
ORGANIZER;CN="New Cumberland Business & Profesional Group":MAILTO:communicationschairNC@gmail.com
END:VEVENT
BEGIN:VEVENT
DTSTART;TZID=America/New_York:20260606T090000
DTEND;TZID=America/New_York:20260606T150000
DTSTAMP:20260423T184220
CREATED:20230331T180948Z
LAST-MODIFIED:20230808T161726Z
UID:10002110-1780736400-1780758000@newcumberlandpa.org
SUMMARY:Book Sale
DESCRIPTION:The Friends of the New Cumberland Public Library hold pre-owned book sales on the first and third Saturdays of each month from 9:00 am until 3:00 pm in the Foundation House located across the shared parking lot from the Library. Sales include: hardback and paperback books in fiction and non-fiction\, DVD’s\, music CD’s\, puzzles\, children’s books\, 331/3 rpm vinyl records\, tote bags\, and notecards. The Friends have large collections of all genres of books\, DVD movies\, a children’s book corner\, and “specials” during each sale.  A great selection of gently used and vintage jewelry will also be for sale.
URL:https://newcumberlandpa.org/event/book-sale-30/2026-06-06/
LOCATION:Foundation House at the New Cumberland Public Library\, 1 Benjamin Plaza\, New Cumberland\, PA\, 17070\, United States
ATTACH;FMTTYPE=image/jpeg:https://newcumberlandpa.org/wp-content/uploads/2022/12/book-sales-event.jpg
END:VEVENT
BEGIN:VEVENT
DTSTART;TZID=America/New_York:20260610T113000
DTEND;TZID=America/New_York:20260610T130000
DTSTAMP:20260423T184220
CREATED:20221026T154232Z
LAST-MODIFIED:20221026T154232Z
UID:10001561-1781091000-1781096400@newcumberlandpa.org
SUMMARY:New Cumberland Olde Towne Association Monthly Meeting
DESCRIPTION:The organization is always looking for new members and the public is invited to attend. Lunch is $10.00 for guests and $8.50 for members. Membership is $5.00 a year.  For more information contact Christine Leukus at 717-319-4421 or email her at cvleukus@aol.com.
URL:https://newcumberlandpa.org/event/new-cumberland-olde-towne-association-monthly-meeting-8-2/2026-06-10/
LOCATION:American Legion Post 143\, 214 Market Street\, New Cumberland\, PA\, 17070\, United States
CATEGORIES:Community,Meetings
ORGANIZER;CN="New Cumberland Olde Towne Association":MAILTO:cvleukus@aol.com
END:VEVENT
BEGIN:VEVENT
DTSTART;TZID=America/New_York:20260610T190000
DTEND;TZID=America/New_York:20260610T210000
DTSTAMP:20260423T184220
CREATED:20221026T154317Z
LAST-MODIFIED:20221026T154318Z
UID:10001491-1781118000-1781125200@newcumberlandpa.org
SUMMARY:Borough Council Meeting
DESCRIPTION:
URL:https://newcumberlandpa.org/event/borough-council-meeting-15-2/2026-06-10/
LOCATION:Borough Council Chambers\, 1120 Market Street\, New Cumberland\, PA\, 17070\, United States
CATEGORIES:Meetings
END:VEVENT
BEGIN:VEVENT
DTSTART;TZID=America/New_York:20260611T170000
DTEND;TZID=America/New_York:20260611T200000
DTSTAMP:20260423T184220
CREATED:20260204T201654Z
LAST-MODIFIED:20260204T201654Z
UID:10004053-1781197200-1781208000@newcumberlandpa.org
SUMMARY:Food Truck and Restaurant Rally
DESCRIPTION:
URL:https://newcumberlandpa.org/event/food-truck-and-restaurant-rally-20/2026-06-11/
LOCATION:Market Square\, 221-235 Market Street\, New Cumberland\, PA\, 17070\, United States
CATEGORIES:Community
ATTACH;FMTTYPE=image/jpeg:https://newcumberlandpa.org/wp-content/uploads/2020/05/food-truck-web-event-art-1.jpg
ORGANIZER;CN="New Cumberland Business & Profesional Group":MAILTO:communicationschairNC@gmail.com
END:VEVENT
BEGIN:VEVENT
DTSTART;TZID=America/New_York:20260612T170000
DTEND;TZID=America/New_York:20260612T210000
DTSTAMP:20260423T184220
CREATED:20260204T201908Z
LAST-MODIFIED:20260204T201908Z
UID:10004061-1781283600-1781298000@newcumberlandpa.org
SUMMARY:Iron Bridge Music Festival
DESCRIPTION:The Iron Bridge Music Festival is a great way to support and enjoy the talent of local musicians while bringing our community together! Not only do you get to experience the music of talented performers\, but you also get to meet other music lovers and make great memories. Plus\, by attending our annual event\, you’re helping to support the local music scene and our community! \nSo join us at New Cumberland Borough Park to enjoy the music\, have fun\, and show your support for local musicians!
URL:https://newcumberlandpa.org/event/iron-bridge-music-festival-9/
LOCATION:New Cumberland Borough Park\, Front Street & Geary Avenue\, New Cumberland\, Pennsylvania\, 17070\, United States
CATEGORIES:Community
ATTACH;FMTTYPE=image/png:https://newcumberlandpa.org/wp-content/uploads/2024/01/iron-birdge.png
ORGANIZER;CN="New Cumberland Olde Towne Association":MAILTO:cvleukus@aol.com
END:VEVENT
BEGIN:VEVENT
DTSTART;TZID=America/New_York:20260613T110000
DTEND;TZID=America/New_York:20260613T210000
DTSTAMP:20260423T184220
CREATED:20260204T201916Z
LAST-MODIFIED:20260204T201916Z
UID:10004063-1781348400-1781384400@newcumberlandpa.org
SUMMARY:Iron Bridge Music Festival
DESCRIPTION:The Iron Bridge Music Festival is a great way to support and enjoy the talent of local musicians while bringing our community together! Not only do you get to experience the music of talented performers\, but you also get to meet other music lovers and make great memories. Plus\, by attending our annual event\, you’re helping to support the local music scene and our community! \nSo join us at New Cumberland Borough Park to enjoy the music\, have fun\, and show your support for local musicians!
URL:https://newcumberlandpa.org/event/iron-bridge-music-festival-11/
LOCATION:New Cumberland Borough Park\, Front Street & Geary Avenue\, New Cumberland\, Pennsylvania\, 17070\, United States
CATEGORIES:Community
ATTACH;FMTTYPE=image/png:https://newcumberlandpa.org/wp-content/uploads/2024/01/iron-birdge.png
ORGANIZER;CN="New Cumberland Olde Towne Association":MAILTO:cvleukus@aol.com
END:VEVENT
BEGIN:VEVENT
DTSTART;TZID=America/New_York:20260614T110000
DTEND;TZID=America/New_York:20260614T170000
DTSTAMP:20260423T184220
CREATED:20260204T201913Z
LAST-MODIFIED:20260204T201913Z
UID:10004062-1781434800-1781456400@newcumberlandpa.org
SUMMARY:Iron Bridge Music Festival
DESCRIPTION:The Iron Bridge Music Festival is a great way to support and enjoy the talent of local musicians while bringing our community together! Not only do you get to experience the music of talented performers\, but you also get to meet other music lovers and make great memories. Plus\, by attending our annual event\, you’re helping to support the local music scene and our community! \nSo join us on at New Cumberland Borough Park to enjoy the music\, have fun\, and show your support for local musicians!
URL:https://newcumberlandpa.org/event/iron-bridge-music-festival-10/
LOCATION:New Cumberland Borough Park\, Front Street & Geary Avenue\, New Cumberland\, Pennsylvania\, 17070\, United States
CATEGORIES:Community
ATTACH;FMTTYPE=image/png:https://newcumberlandpa.org/wp-content/uploads/2024/01/iron-birdge.png
ORGANIZER;CN="New Cumberland Olde Towne Association":MAILTO:cvleukus@aol.com
END:VEVENT
BEGIN:VEVENT
DTSTART;TZID=America/New_York:20260616T190000
DTEND;TZID=America/New_York:20260616T203000
DTSTAMP:20260423T184220
CREATED:20221026T154410Z
LAST-MODIFIED:20230920T144708Z
UID:10001628-1781636400-1781641800@newcumberlandpa.org
SUMMARY:Library Board Meeting
DESCRIPTION:
URL:https://newcumberlandpa.org/event/library-board-meeting-11-2/2026-06-16/
LOCATION:New Cumberland Public Library
CATEGORIES:Meetings
END:VEVENT
BEGIN:VEVENT
DTSTART;TZID=America/New_York:20260617T080000
DTEND;TZID=America/New_York:20260617T090000
DTSTAMP:20260423T184220
CREATED:20211213T210153Z
LAST-MODIFIED:20221026T153858Z
UID:10001354-1781683200-1781686800@newcumberlandpa.org
SUMMARY:B&PG Member Meeting
DESCRIPTION:
URL:https://newcumberlandpa.org/event/bpg-member-meeting-22/2026-06-17/
LOCATION:New Cumberland Fire Department\, 319 4th Street\, New Cumberland\, PA\, 17070\, United States
CATEGORIES:Meetings
ORGANIZER;CN="New Cumberland Business & Profesional Group":MAILTO:communicationschairNC@gmail.com
END:VEVENT
BEGIN:VEVENT
DTSTART;TZID=America/New_York:20260617T190000
DTEND;TZID=America/New_York:20260617T200000
DTSTAMP:20260423T184220
CREATED:20221026T154435Z
LAST-MODIFIED:20221026T154436Z
UID:10001696-1781722800-1781726400@newcumberlandpa.org
SUMMARY:Planning Commission Meeting
DESCRIPTION:
URL:https://newcumberlandpa.org/event/planning-commission-meeting-14-2/2026-06-17/
LOCATION:Borough Council Chambers\, 1120 Market Street\, New Cumberland\, PA\, 17070\, United States
CATEGORIES:Meetings
END:VEVENT
BEGIN:VEVENT
DTSTART;TZID=America/New_York:20260620T090000
DTEND;TZID=America/New_York:20260620T150000
DTSTAMP:20260423T184220
CREATED:20230331T181915Z
LAST-MODIFIED:20230808T161702Z
UID:10002230-1781946000-1781967600@newcumberlandpa.org
SUMMARY:Book Sale
DESCRIPTION:The Friends of the New Cumberland Public Library hold pre-owned book sales on the first and third Saturdays of each month from 9:00 am until 3:00 pm in the Foundation House located across the shared parking lot from the Library. Sales include: hardback and paperback books in fiction and non-fiction\, DVD’s\, music CD’s\, puzzles\, children’s books\, 331/3 rpm vinyl records\, tote bags\, and notecards. The Friends have large collections of all genres of books\, DVD movies\, a children’s book corner\, and “specials” during each sale.  A great selection of gently used and vintage jewelry will also be for sale.
URL:https://newcumberlandpa.org/event/book-sale-31/2026-06-20/
LOCATION:Foundation House at the New Cumberland Public Library\, 1 Benjamin Plaza\, New Cumberland\, PA\, 17070\, United States
ATTACH;FMTTYPE=image/jpeg:https://newcumberlandpa.org/wp-content/uploads/2022/12/book-sales-event.jpg
END:VEVENT
BEGIN:VEVENT
DTSTART;TZID=America/New_York:20260624T183000
DTEND;TZID=America/New_York:20260624T193000
DTSTAMP:20260423T184220
CREATED:20240403T161432Z
LAST-MODIFIED:20240403T161525Z
UID:10003866-1782325800-1782329400@newcumberlandpa.org
SUMMARY:Lions Club Meeting
DESCRIPTION:
URL:https://newcumberlandpa.org/event/lions-club-meeting-2/2026-06-24/
LOCATION:American Legion Post 143\, 214 Market Street\, New Cumberland\, PA\, 17070\, United States
ORGANIZER;CN="Lion Club":MAILTO:hopplea@members1st.org
END:VEVENT
BEGIN:VEVENT
DTSTART;TZID=America/New_York:20260702T080000
DTEND;TZID=America/New_York:20260702T090000
DTSTAMP:20260423T184220
CREATED:20240311T152305Z
LAST-MODIFIED:20240311T152307Z
UID:10002019-1782979200-1782982800@newcumberlandpa.org
SUMMARY:B&PG Executive Team Meeting
DESCRIPTION:
URL:https://newcumberlandpa.org/event/bpg-executive-team-meeting-2/2026-07-02/
LOCATION:New Cumberland Fire Department\, 319 4th Street\, New Cumberland\, PA\, 17070\, United States
CATEGORIES:Meetings
ORGANIZER;CN="New Cumberland Business & Profesional Group":MAILTO:communicationschairNC@gmail.com
END:VEVENT
BEGIN:VEVENT
DTSTART;TZID=America/New_York:20260704T090000
DTEND;TZID=America/New_York:20260704T150000
DTSTAMP:20260423T184220
CREATED:20230331T180948Z
LAST-MODIFIED:20230808T161726Z
UID:10002111-1783155600-1783177200@newcumberlandpa.org
SUMMARY:Book Sale
DESCRIPTION:The Friends of the New Cumberland Public Library hold pre-owned book sales on the first and third Saturdays of each month from 9:00 am until 3:00 pm in the Foundation House located across the shared parking lot from the Library. Sales include: hardback and paperback books in fiction and non-fiction\, DVD’s\, music CD’s\, puzzles\, children’s books\, 331/3 rpm vinyl records\, tote bags\, and notecards. The Friends have large collections of all genres of books\, DVD movies\, a children’s book corner\, and “specials” during each sale.  A great selection of gently used and vintage jewelry will also be for sale.
URL:https://newcumberlandpa.org/event/book-sale-30/2026-07-04/
LOCATION:Foundation House at the New Cumberland Public Library\, 1 Benjamin Plaza\, New Cumberland\, PA\, 17070\, United States
ATTACH;FMTTYPE=image/jpeg:https://newcumberlandpa.org/wp-content/uploads/2022/12/book-sales-event.jpg
END:VEVENT
BEGIN:VEVENT
DTSTART;TZID=America/New_York:20260708T113000
DTEND;TZID=America/New_York:20260708T130000
DTSTAMP:20260423T184220
CREATED:20221026T154232Z
LAST-MODIFIED:20221026T154232Z
UID:10001562-1783510200-1783515600@newcumberlandpa.org
SUMMARY:New Cumberland Olde Towne Association Monthly Meeting
DESCRIPTION:The organization is always looking for new members and the public is invited to attend. Lunch is $10.00 for guests and $8.50 for members. Membership is $5.00 a year.  For more information contact Christine Leukus at 717-319-4421 or email her at cvleukus@aol.com.
URL:https://newcumberlandpa.org/event/new-cumberland-olde-towne-association-monthly-meeting-8-2/2026-07-08/
LOCATION:American Legion Post 143\, 214 Market Street\, New Cumberland\, PA\, 17070\, United States
CATEGORIES:Community,Meetings
ORGANIZER;CN="New Cumberland Olde Towne Association":MAILTO:cvleukus@aol.com
END:VEVENT
BEGIN:VEVENT
DTSTART;TZID=America/New_York:20260708T190000
DTEND;TZID=America/New_York:20260708T210000
DTSTAMP:20260423T184220
CREATED:20221026T154317Z
LAST-MODIFIED:20221026T154318Z
UID:10001492-1783537200-1783544400@newcumberlandpa.org
SUMMARY:Borough Council Meeting
DESCRIPTION:
URL:https://newcumberlandpa.org/event/borough-council-meeting-15-2/2026-07-08/
LOCATION:Borough Council Chambers\, 1120 Market Street\, New Cumberland\, PA\, 17070\, United States
CATEGORIES:Meetings
END:VEVENT
BEGIN:VEVENT
DTSTART;TZID=America/New_York:20260709T170000
DTEND;TZID=America/New_York:20260709T200000
DTSTAMP:20260423T184220
CREATED:20260204T201654Z
LAST-MODIFIED:20260204T201654Z
UID:10004054-1783616400-1783627200@newcumberlandpa.org
SUMMARY:Food Truck and Restaurant Rally
DESCRIPTION:
URL:https://newcumberlandpa.org/event/food-truck-and-restaurant-rally-20/2026-07-09/
LOCATION:Market Square\, 221-235 Market Street\, New Cumberland\, PA\, 17070\, United States
CATEGORIES:Community
ATTACH;FMTTYPE=image/jpeg:https://newcumberlandpa.org/wp-content/uploads/2020/05/food-truck-web-event-art-1.jpg
ORGANIZER;CN="New Cumberland Business & Profesional Group":MAILTO:communicationschairNC@gmail.com
END:VEVENT
BEGIN:VEVENT
DTSTART;TZID=America/New_York:20260715T080000
DTEND;TZID=America/New_York:20260715T090000
DTSTAMP:20260423T184220
CREATED:20211213T210153Z
LAST-MODIFIED:20221026T153858Z
UID:10001355-1784102400-1784106000@newcumberlandpa.org
SUMMARY:B&PG Member Meeting
DESCRIPTION:
URL:https://newcumberlandpa.org/event/bpg-member-meeting-22/2026-07-15/
LOCATION:New Cumberland Fire Department\, 319 4th Street\, New Cumberland\, PA\, 17070\, United States
CATEGORIES:Meetings
ORGANIZER;CN="New Cumberland Business & Profesional Group":MAILTO:communicationschairNC@gmail.com
END:VEVENT
BEGIN:VEVENT
DTSTART;TZID=America/New_York:20260715T190000
DTEND;TZID=America/New_York:20260715T200000
DTSTAMP:20260423T184220
CREATED:20221026T154435Z
LAST-MODIFIED:20221026T154436Z
UID:10001697-1784142000-1784145600@newcumberlandpa.org
SUMMARY:Planning Commission Meeting
DESCRIPTION:
URL:https://newcumberlandpa.org/event/planning-commission-meeting-14-2/2026-07-15/
LOCATION:Borough Council Chambers\, 1120 Market Street\, New Cumberland\, PA\, 17070\, United States
CATEGORIES:Meetings
END:VEVENT
BEGIN:VEVENT
DTSTART;TZID=America/New_York:20260718T090000
DTEND;TZID=America/New_York:20260718T150000
DTSTAMP:20260423T184220
CREATED:20230331T181915Z
LAST-MODIFIED:20230808T161702Z
UID:10002231-1784365200-1784386800@newcumberlandpa.org
SUMMARY:Book Sale
DESCRIPTION:The Friends of the New Cumberland Public Library hold pre-owned book sales on the first and third Saturdays of each month from 9:00 am until 3:00 pm in the Foundation House located across the shared parking lot from the Library. Sales include: hardback and paperback books in fiction and non-fiction\, DVD’s\, music CD’s\, puzzles\, children’s books\, 331/3 rpm vinyl records\, tote bags\, and notecards. The Friends have large collections of all genres of books\, DVD movies\, a children’s book corner\, and “specials” during each sale.  A great selection of gently used and vintage jewelry will also be for sale.
URL:https://newcumberlandpa.org/event/book-sale-31/2026-07-18/
LOCATION:Foundation House at the New Cumberland Public Library\, 1 Benjamin Plaza\, New Cumberland\, PA\, 17070\, United States
ATTACH;FMTTYPE=image/jpeg:https://newcumberlandpa.org/wp-content/uploads/2022/12/book-sales-event.jpg
END:VEVENT
BEGIN:VEVENT
DTSTART;TZID=America/New_York:20260721T190000
DTEND;TZID=America/New_York:20260721T203000
DTSTAMP:20260423T184220
CREATED:20221026T154410Z
LAST-MODIFIED:20230920T144708Z
UID:10001629-1784660400-1784665800@newcumberlandpa.org
SUMMARY:Library Board Meeting
DESCRIPTION:
URL:https://newcumberlandpa.org/event/library-board-meeting-11-2/2026-07-21/
LOCATION:New Cumberland Public Library
CATEGORIES:Meetings
END:VEVENT
BEGIN:VEVENT
DTSTART;TZID=America/New_York:20260722T183000
DTEND;TZID=America/New_York:20260722T193000
DTSTAMP:20260423T184220
CREATED:20240403T161432Z
LAST-MODIFIED:20240403T161525Z
UID:10003867-1784745000-1784748600@newcumberlandpa.org
SUMMARY:Lions Club Meeting
DESCRIPTION:
URL:https://newcumberlandpa.org/event/lions-club-meeting-2/2026-07-22/
LOCATION:American Legion Post 143\, 214 Market Street\, New Cumberland\, PA\, 17070\, United States
ORGANIZER;CN="Lion Club":MAILTO:hopplea@members1st.org
END:VEVENT
BEGIN:VEVENT
DTSTART;TZID=America/New_York:20260801T090000
DTEND;TZID=America/New_York:20260801T150000
DTSTAMP:20260423T184220
CREATED:20230331T180948Z
LAST-MODIFIED:20230808T161726Z
UID:10002112-1785574800-1785596400@newcumberlandpa.org
SUMMARY:Book Sale
DESCRIPTION:The Friends of the New Cumberland Public Library hold pre-owned book sales on the first and third Saturdays of each month from 9:00 am until 3:00 pm in the Foundation House located across the shared parking lot from the Library. Sales include: hardback and paperback books in fiction and non-fiction\, DVD’s\, music CD’s\, puzzles\, children’s books\, 331/3 rpm vinyl records\, tote bags\, and notecards. The Friends have large collections of all genres of books\, DVD movies\, a children’s book corner\, and “specials” during each sale.  A great selection of gently used and vintage jewelry will also be for sale.
URL:https://newcumberlandpa.org/event/book-sale-30/2026-08-01/
LOCATION:Foundation House at the New Cumberland Public Library\, 1 Benjamin Plaza\, New Cumberland\, PA\, 17070\, United States
ATTACH;FMTTYPE=image/jpeg:https://newcumberlandpa.org/wp-content/uploads/2022/12/book-sales-event.jpg
END:VEVENT
END:VCALENDAR