BEGIN:VCALENDAR
VERSION:2.0
PRODID:-//New Cumberland B&amp;PG - ECPv6.15.17.1//NONSGML v1.0//EN
CALSCALE:GREGORIAN
METHOD:PUBLISH
X-WR-CALNAME:New Cumberland B&amp;PG
X-ORIGINAL-URL:https://newcumberlandpa.org
X-WR-CALDESC:Events for New Cumberland B&amp;PG
REFRESH-INTERVAL;VALUE=DURATION:PT1H
X-Robots-Tag:noindex
X-PUBLISHED-TTL:PT1H
BEGIN:VTIMEZONE
TZID:America/New_York
BEGIN:DAYLIGHT
TZOFFSETFROM:-0500
TZOFFSETTO:-0400
TZNAME:EDT
DTSTART:20230312T070000
END:DAYLIGHT
BEGIN:STANDARD
TZOFFSETFROM:-0400
TZOFFSETTO:-0500
TZNAME:EST
DTSTART:20231105T060000
END:STANDARD
BEGIN:DAYLIGHT
TZOFFSETFROM:-0500
TZOFFSETTO:-0400
TZNAME:EDT
DTSTART:20240310T070000
END:DAYLIGHT
BEGIN:STANDARD
TZOFFSETFROM:-0400
TZOFFSETTO:-0500
TZNAME:EST
DTSTART:20241103T060000
END:STANDARD
BEGIN:DAYLIGHT
TZOFFSETFROM:-0500
TZOFFSETTO:-0400
TZNAME:EDT
DTSTART:20250309T070000
END:DAYLIGHT
BEGIN:STANDARD
TZOFFSETFROM:-0400
TZOFFSETTO:-0500
TZNAME:EST
DTSTART:20251102T060000
END:STANDARD
END:VTIMEZONE
BEGIN:VEVENT
DTSTART;TZID=America/New_York:20241016T080000
DTEND;TZID=America/New_York:20241016T090000
DTSTAMP:20260425T092617
CREATED:20211213T210153Z
LAST-MODIFIED:20221026T153858Z
UID:10001334-1729065600-1729069200@newcumberlandpa.org
SUMMARY:B&PG Member Meeting
DESCRIPTION:
URL:https://newcumberlandpa.org/event/bpg-member-meeting-22/2024-10-16/
LOCATION:New Cumberland Fire Department\, 319 4th Street\, New Cumberland\, PA\, 17070\, United States
CATEGORIES:Meetings
ORGANIZER;CN="New Cumberland Business & Profesional Group":MAILTO:communicationschairNC@gmail.com
END:VEVENT
BEGIN:VEVENT
DTSTART;TZID=America/New_York:20241015T190000
DTEND;TZID=America/New_York:20241015T203000
DTSTAMP:20260425T092617
CREATED:20221026T154410Z
LAST-MODIFIED:20230920T144708Z
UID:10001608-1729018800-1729024200@newcumberlandpa.org
SUMMARY:Library Board Meeting
DESCRIPTION:
URL:https://newcumberlandpa.org/event/library-board-meeting-11-2/2024-10-15/
LOCATION:New Cumberland Public Library
CATEGORIES:Meetings
END:VEVENT
BEGIN:VEVENT
DTSTART;TZID=America/New_York:20241012T090000
DTEND;TZID=America/New_York:20241012T140000
DTSTAMP:20260425T092617
CREATED:20240118T174109Z
LAST-MODIFIED:20240404T182759Z
UID:10003794-1728723600-1728741600@newcumberlandpa.org
SUMMARY:Farmers’ Market On 4th
DESCRIPTION:The New Cumberland Farmers’ Market On 4th returns! The farmers’ market operates each Saturday\, May 4 through October 26\, from 9 a.m. to 2 p.m. rain or shine at 4th and Bridge Streets\, New Cumberland\, in the parking lot of Olde Towne Commons. Elevate your taste buds with locally grown produce\, fresh meats\, homemade baked goods\, and more! NEW this year\, artisans and makers! Look for returning farms and several new vendors. \n  \nClick here for a vendor application.
URL:https://newcumberlandpa.org/event/farmers-market-on-4th-58/2024-10-12/
LOCATION:Kelly Financial Services\, 400 Bridge Street\, New Cumberland\, PA\, 17070\, United States
ATTACH;FMTTYPE=image/jpeg:https://newcumberlandpa.org/wp-content/uploads/2023/04/farmers-market-pics_general.jpg
ORGANIZER;CN="New Cumberland Business & Profesional Group":MAILTO:communicationschairNC@gmail.com
END:VEVENT
BEGIN:VEVENT
DTSTART;TZID=America/New_York:20241012T080000
DTEND;TZID=America/New_York:20241012T120000
DTSTAMP:20260425T092617
CREATED:20240123T212645Z
LAST-MODIFIED:20240123T212645Z
UID:10003805-1728720000-1728734400@newcumberlandpa.org
SUMMARY:22nd Annual Vickie's Angel Walk
DESCRIPTION:22nd Annual Vickie’s Angel Walk in Borough Park \n100% of funds raised help to support local families in active cancer treatment. \nRegistration opens in early 2024!
URL:https://newcumberlandpa.org/event/22nd-annual-vickies-angel-walk/
LOCATION:New Cumberland Borough Park\, Front Street & Geary Avenue\, New Cumberland\, Pennsylvania\, 17070\, United States
CATEGORIES:Community,Fundraiser
ATTACH;FMTTYPE=image/jpeg:https://newcumberlandpa.org/wp-content/uploads/2024/01/VAF-walk.jpg
END:VEVENT
BEGIN:VEVENT
DTSTART;TZID=America/New_York:20241010T170000
DTEND;TZID=America/New_York:20241010T200000
DTSTAMP:20260425T092617
CREATED:20240118T153524Z
LAST-MODIFIED:20240118T153524Z
UID:10003602-1728579600-1728590400@newcumberlandpa.org
SUMMARY:Food Truck and Restaurant Rally
DESCRIPTION:
URL:https://newcumberlandpa.org/event/food-truck-and-restaurant-rally-18/2024-10-10/
LOCATION:Market Square\, 221-235 Market Street\, New Cumberland\, PA\, 17070\, United States
CATEGORIES:Community
ATTACH;FMTTYPE=image/jpeg:https://newcumberlandpa.org/wp-content/uploads/2020/05/food-truck-web-event-art-1.jpg
ORGANIZER;CN="New Cumberland Business & Profesional Group":MAILTO:communicationschairNC@gmail.com
END:VEVENT
BEGIN:VEVENT
DTSTART;TZID=America/New_York:20241009T190000
DTEND;TZID=America/New_York:20241009T210000
DTSTAMP:20260425T092617
CREATED:20221026T154317Z
LAST-MODIFIED:20221026T154318Z
UID:10001471-1728500400-1728507600@newcumberlandpa.org
SUMMARY:Borough Council Meeting
DESCRIPTION:
URL:https://newcumberlandpa.org/event/borough-council-meeting-15-2/2024-10-09/
LOCATION:Borough Council Chambers\, 1120 Market Street\, New Cumberland\, PA\, 17070\, United States
CATEGORIES:Meetings
END:VEVENT
BEGIN:VEVENT
DTSTART;TZID=America/New_York:20241009T113000
DTEND;TZID=America/New_York:20241009T130000
DTSTAMP:20260425T092617
CREATED:20221026T154232Z
LAST-MODIFIED:20221026T154232Z
UID:10001541-1728473400-1728478800@newcumberlandpa.org
SUMMARY:New Cumberland Olde Towne Association Monthly Meeting
DESCRIPTION:The organization is always looking for new members and the public is invited to attend. Lunch is $10.00 for guests and $8.50 for members. Membership is $5.00 a year.  For more information contact Christine Leukus at 717-319-4421 or email her at cvleukus@aol.com.
URL:https://newcumberlandpa.org/event/new-cumberland-olde-towne-association-monthly-meeting-8-2/2024-10-09/
LOCATION:American Legion Post 143\, 214 Market Street\, New Cumberland\, PA\, 17070\, United States
CATEGORIES:Community,Meetings
ORGANIZER;CN="New Cumberland Olde Towne Association":MAILTO:cvleukus@aol.com
END:VEVENT
BEGIN:VEVENT
DTSTART;TZID=America/New_York:20241005T090000
DTEND;TZID=America/New_York:20241005T150000
DTSTAMP:20260425T092617
CREATED:20230331T180948Z
LAST-MODIFIED:20230808T161726Z
UID:10002090-1728118800-1728140400@newcumberlandpa.org
SUMMARY:Book Sale
DESCRIPTION:The Friends of the New Cumberland Public Library hold pre-owned book sales on the first and third Saturdays of each month from 9:00 am until 3:00 pm in the Foundation House located across the shared parking lot from the Library. Sales include: hardback and paperback books in fiction and non-fiction\, DVD’s\, music CD’s\, puzzles\, children’s books\, 331/3 rpm vinyl records\, tote bags\, and notecards. The Friends have large collections of all genres of books\, DVD movies\, a children’s book corner\, and “specials” during each sale.  A great selection of gently used and vintage jewelry will also be for sale.
URL:https://newcumberlandpa.org/event/book-sale-30/2024-10-05/
LOCATION:Foundation House at the New Cumberland Public Library\, 1 Benjamin Plaza\, New Cumberland\, PA\, 17070\, United States
ATTACH;FMTTYPE=image/jpeg:https://newcumberlandpa.org/wp-content/uploads/2022/12/book-sales-event.jpg
END:VEVENT
BEGIN:VEVENT
DTSTART;TZID=America/New_York:20241005T090000
DTEND;TZID=America/New_York:20241005T140000
DTSTAMP:20260425T092617
CREATED:20240118T174109Z
LAST-MODIFIED:20240404T182759Z
UID:10003793-1728118800-1728136800@newcumberlandpa.org
SUMMARY:Farmers’ Market On 4th
DESCRIPTION:The New Cumberland Farmers’ Market On 4th returns! The farmers’ market operates each Saturday\, May 4 through October 26\, from 9 a.m. to 2 p.m. rain or shine at 4th and Bridge Streets\, New Cumberland\, in the parking lot of Olde Towne Commons. Elevate your taste buds with locally grown produce\, fresh meats\, homemade baked goods\, and more! NEW this year\, artisans and makers! Look for returning farms and several new vendors. \n  \nClick here for a vendor application.
URL:https://newcumberlandpa.org/event/farmers-market-on-4th-58/2024-10-05/
LOCATION:Kelly Financial Services\, 400 Bridge Street\, New Cumberland\, PA\, 17070\, United States
ATTACH;FMTTYPE=image/jpeg:https://newcumberlandpa.org/wp-content/uploads/2023/04/farmers-market-pics_general.jpg
ORGANIZER;CN="New Cumberland Business & Profesional Group":MAILTO:communicationschairNC@gmail.com
END:VEVENT
BEGIN:VEVENT
DTSTART;TZID=America/New_York:20241003T080000
DTEND;TZID=America/New_York:20241003T090000
DTSTAMP:20260425T092617
CREATED:20240311T152305Z
LAST-MODIFIED:20240311T152307Z
UID:10001998-1727942400-1727946000@newcumberlandpa.org
SUMMARY:B&PG Executive Team Meeting
DESCRIPTION:
URL:https://newcumberlandpa.org/event/bpg-executive-team-meeting-2/2024-10-03/
LOCATION:New Cumberland Fire Department\, 319 4th Street\, New Cumberland\, PA\, 17070\, United States
CATEGORIES:Meetings
ORGANIZER;CN="New Cumberland Business & Profesional Group":MAILTO:communicationschairNC@gmail.com
END:VEVENT
BEGIN:VEVENT
DTSTART;TZID=America/New_York:20240928T090000
DTEND;TZID=America/New_York:20240928T160000
DTSTAMP:20260425T092617
CREATED:20240118T175730Z
LAST-MODIFIED:20240118T175730Z
UID:10001960-1727514000-1727539200@newcumberlandpa.org
SUMMARY:Annual Apple Festival
DESCRIPTION:The New Cumberland Olde Towne Association’s Annual Apple Festival continues to entertain families with music\, great food\, handmade crafts\, contests\, and lots of activities. Held in the Borough Park of New Cumberland located at Front and Reno Streets\, the festival will have live musical entertainment from opening until closing. \nCrafters offering handmade items of all types will display and sell their products.  Food vendors offering a vast array of delicious selections will be preparing and serving their items to eat at the festival or to take home to enjoy later. Many items featuring apples are available. There is an Apple Pie Contest\, a Lego Building Contest\, Entertainment all day long\, Kids Activities\, Games and pony rides. \nTrolleys will pick up and deliver festival guests on Bridge Street at the corners of Third Street\, Seventh Street\, Park Avenue and Haldeman Boulevard.  Limited parking is available behind the West Shore Senior Citizens Center on Reno Street. \nIf you must bring your dog to the Festival\, please have it on a short leash to keep it safe from the crowd\, and to keep Festival attendees safe. Be a responsible dog owner. \nApproximately 12\,000 individuals attend the festival. The Festival is sponsored by the New Cumberland Olde Towne Association with funds raised used to support the Community of New Cumberland Service Departments as well as Local Youth Programs.  For more information\, go to www.applefestivalnewcumberlandpa.com or contact Christine Leukus at 717-319-4421. \n 
URL:https://newcumberlandpa.org/event/36th-annual-apple-festival-2/
LOCATION:New Cumberland Borough Park\, Front Street & Geary Avenue\, New Cumberland\, Pennsylvania\, 17070\, United States
CATEGORIES:Community
ATTACH;FMTTYPE=image/jpeg:https://newcumberlandpa.org/wp-content/uploads/2022/08/apple-fest.jpg
ORGANIZER;CN="New Cumberland Olde Towne Association":MAILTO:cvleukus@aol.com
END:VEVENT
BEGIN:VEVENT
DTSTART;TZID=America/New_York:20240928T090000
DTEND;TZID=America/New_York:20240928T140000
DTSTAMP:20260425T092617
CREATED:20240118T174109Z
LAST-MODIFIED:20240404T182759Z
UID:10003792-1727514000-1727532000@newcumberlandpa.org
SUMMARY:Farmers’ Market On 4th
DESCRIPTION:The New Cumberland Farmers’ Market On 4th returns! The farmers’ market operates each Saturday\, May 4 through October 26\, from 9 a.m. to 2 p.m. rain or shine at 4th and Bridge Streets\, New Cumberland\, in the parking lot of Olde Towne Commons. Elevate your taste buds with locally grown produce\, fresh meats\, homemade baked goods\, and more! NEW this year\, artisans and makers! Look for returning farms and several new vendors. \n  \nClick here for a vendor application.
URL:https://newcumberlandpa.org/event/farmers-market-on-4th-58/2024-09-28/
LOCATION:Kelly Financial Services\, 400 Bridge Street\, New Cumberland\, PA\, 17070\, United States
ATTACH;FMTTYPE=image/jpeg:https://newcumberlandpa.org/wp-content/uploads/2023/04/farmers-market-pics_general.jpg
ORGANIZER;CN="New Cumberland Business & Profesional Group":MAILTO:communicationschairNC@gmail.com
END:VEVENT
BEGIN:VEVENT
DTSTART;TZID=America/New_York:20240925T183000
DTEND;TZID=America/New_York:20240925T193000
DTSTAMP:20260425T092617
CREATED:20240403T161432Z
LAST-MODIFIED:20240403T161525Z
UID:10003845-1727289000-1727292600@newcumberlandpa.org
SUMMARY:Lions Club Meeting
DESCRIPTION:
URL:https://newcumberlandpa.org/event/lions-club-meeting-2/2024-09-25/
LOCATION:American Legion Post 143\, 214 Market Street\, New Cumberland\, PA\, 17070\, United States
ORGANIZER;CN="Lion Club":MAILTO:hopplea@members1st.org
END:VEVENT
BEGIN:VEVENT
DTSTART;TZID=America/New_York:20240921T090000
DTEND;TZID=America/New_York:20240921T150000
DTSTAMP:20260425T092617
CREATED:20230331T181915Z
LAST-MODIFIED:20230808T161702Z
UID:10002209-1726909200-1726930800@newcumberlandpa.org
SUMMARY:Book Sale
DESCRIPTION:The Friends of the New Cumberland Public Library hold pre-owned book sales on the first and third Saturdays of each month from 9:00 am until 3:00 pm in the Foundation House located across the shared parking lot from the Library. Sales include: hardback and paperback books in fiction and non-fiction\, DVD’s\, music CD’s\, puzzles\, children’s books\, 331/3 rpm vinyl records\, tote bags\, and notecards. The Friends have large collections of all genres of books\, DVD movies\, a children’s book corner\, and “specials” during each sale.  A great selection of gently used and vintage jewelry will also be for sale.
URL:https://newcumberlandpa.org/event/book-sale-31/2024-09-21/
LOCATION:Foundation House at the New Cumberland Public Library\, 1 Benjamin Plaza\, New Cumberland\, PA\, 17070\, United States
ATTACH;FMTTYPE=image/jpeg:https://newcumberlandpa.org/wp-content/uploads/2022/12/book-sales-event.jpg
END:VEVENT
BEGIN:VEVENT
DTSTART;TZID=America/New_York:20240921T090000
DTEND;TZID=America/New_York:20240921T140000
DTSTAMP:20260425T092617
CREATED:20240118T174109Z
LAST-MODIFIED:20240404T182759Z
UID:10003791-1726909200-1726927200@newcumberlandpa.org
SUMMARY:Farmers’ Market On 4th
DESCRIPTION:The New Cumberland Farmers’ Market On 4th returns! The farmers’ market operates each Saturday\, May 4 through October 26\, from 9 a.m. to 2 p.m. rain or shine at 4th and Bridge Streets\, New Cumberland\, in the parking lot of Olde Towne Commons. Elevate your taste buds with locally grown produce\, fresh meats\, homemade baked goods\, and more! NEW this year\, artisans and makers! Look for returning farms and several new vendors. \n  \nClick here for a vendor application.
URL:https://newcumberlandpa.org/event/farmers-market-on-4th-58/2024-09-21/
LOCATION:Kelly Financial Services\, 400 Bridge Street\, New Cumberland\, PA\, 17070\, United States
ATTACH;FMTTYPE=image/jpeg:https://newcumberlandpa.org/wp-content/uploads/2023/04/farmers-market-pics_general.jpg
ORGANIZER;CN="New Cumberland Business & Profesional Group":MAILTO:communicationschairNC@gmail.com
END:VEVENT
BEGIN:VEVENT
DTSTART;TZID=America/New_York:20240918T190000
DTEND;TZID=America/New_York:20240918T200000
DTSTAMP:20260425T092617
CREATED:20221026T154435Z
LAST-MODIFIED:20221026T154436Z
UID:10001675-1726686000-1726689600@newcumberlandpa.org
SUMMARY:Planning Commission Meeting
DESCRIPTION:
URL:https://newcumberlandpa.org/event/planning-commission-meeting-14-2/2024-09-18/
LOCATION:Borough Council Chambers\, 1120 Market Street\, New Cumberland\, PA\, 17070\, United States
CATEGORIES:Meetings
END:VEVENT
BEGIN:VEVENT
DTSTART;TZID=America/New_York:20240918T183000
DTEND;TZID=America/New_York:20240918T203000
DTSTAMP:20260425T092617
CREATED:20240201T175656Z
LAST-MODIFIED:20240201T175729Z
UID:10003814-1726684200-1726691400@newcumberlandpa.org
SUMMARY:New Cumberland Collective Meeting
DESCRIPTION:
URL:https://newcumberlandpa.org/event/new-cumberland-collective-monthly-meeting/2024-09-18/
LOCATION:New Cumberland Fire Department\, 319 4th Street\, New Cumberland\, PA\, 17070\, United States
ATTACH;FMTTYPE=image/png:https://newcumberlandpa.org/wp-content/uploads/2024/02/MONTHLYORGANIZATIONMEETING.png
END:VEVENT
BEGIN:VEVENT
DTSTART;TZID=America/New_York:20240918T080000
DTEND;TZID=America/New_York:20240918T090000
DTSTAMP:20260425T092617
CREATED:20211213T210153Z
LAST-MODIFIED:20221026T153858Z
UID:10001333-1726646400-1726650000@newcumberlandpa.org
SUMMARY:B&PG Member Meeting
DESCRIPTION:
URL:https://newcumberlandpa.org/event/bpg-member-meeting-22/2024-09-18/
LOCATION:New Cumberland Fire Department\, 319 4th Street\, New Cumberland\, PA\, 17070\, United States
CATEGORIES:Meetings
ORGANIZER;CN="New Cumberland Business & Profesional Group":MAILTO:communicationschairNC@gmail.com
END:VEVENT
BEGIN:VEVENT
DTSTART;TZID=America/New_York:20240917T190000
DTEND;TZID=America/New_York:20240917T203000
DTSTAMP:20260425T092617
CREATED:20221026T154410Z
LAST-MODIFIED:20230920T144708Z
UID:10001607-1726599600-1726605000@newcumberlandpa.org
SUMMARY:Library Board Meeting
DESCRIPTION:
URL:https://newcumberlandpa.org/event/library-board-meeting-11-2/2024-09-17/
LOCATION:New Cumberland Public Library
CATEGORIES:Meetings
END:VEVENT
BEGIN:VEVENT
DTSTART;TZID=America/New_York:20240914T090000
DTEND;TZID=America/New_York:20240914T140000
DTSTAMP:20260425T092617
CREATED:20240118T174109Z
LAST-MODIFIED:20240404T182759Z
UID:10003790-1726304400-1726322400@newcumberlandpa.org
SUMMARY:Farmers’ Market On 4th
DESCRIPTION:The New Cumberland Farmers’ Market On 4th returns! The farmers’ market operates each Saturday\, May 4 through October 26\, from 9 a.m. to 2 p.m. rain or shine at 4th and Bridge Streets\, New Cumberland\, in the parking lot of Olde Towne Commons. Elevate your taste buds with locally grown produce\, fresh meats\, homemade baked goods\, and more! NEW this year\, artisans and makers! Look for returning farms and several new vendors. \n  \nClick here for a vendor application.
URL:https://newcumberlandpa.org/event/farmers-market-on-4th-58/2024-09-14/
LOCATION:Kelly Financial Services\, 400 Bridge Street\, New Cumberland\, PA\, 17070\, United States
ATTACH;FMTTYPE=image/jpeg:https://newcumberlandpa.org/wp-content/uploads/2023/04/farmers-market-pics_general.jpg
ORGANIZER;CN="New Cumberland Business & Profesional Group":MAILTO:communicationschairNC@gmail.com
END:VEVENT
BEGIN:VEVENT
DTSTART;TZID=America/New_York:20240914T080000
DTEND;TZID=America/New_York:20240914T140000
DTSTAMP:20260425T092617
CREATED:20240911T142944Z
LAST-MODIFIED:20240911T142944Z
UID:10003915-1726300800-1726322400@newcumberlandpa.org
SUMMARY:Community Blood Drive
DESCRIPTION:The New Cumberland First Church of God\, 323 Reno Avenue\, New Cumberland\, will hold a community blood drive for the Central PA Blood Bank on Saturday\, September 14\, 2024\, from 8:00 AM to 2:00 PM at the church. \nEveryone will receive:\n• 2 FREE admission vouchers to a Harrisburg Comedy Zone Show\n• Certificate for a FREE Large Blizzard from Dairy Queen\n• $5 Giant gift card\n• Blood Donor T-Shirt \nA FORM OF ID REQUIRED TO DONATE \nSafety protocols are in place to provide you with a safe and comfortable donation experience:\nIt is strongly encouraged that:\n• You schedule an appointment to donate blood. Appointments help us improve your donation experience.\n• Walk-ins are welcome; however\, donors with appointments will be taken first and this may result in a significant waiting time. \nTo schedule an appointment at this blood drive please click on the link below.\nClick here to schedule an appointment at the New Cumberland First Church of God Community Blood Drive or call us at:  1-800-771-0059 \nThank you for supporting our blood drive. We look forward to seeing you there! \nTo contact us with questions\, click on this email CentralPennBloodBank@cpbb.org or call 1-800-771-0059
URL:https://newcumberlandpa.org/event/community-blood-drive-2/
LOCATION:New Cumberland First Church of God\, 323 Reno Street\, New Cumberland\, Pennsylvania\, 17070\, United States
ORGANIZER;CN="New Cumberland First Church of God":MAILTO:gen@odessadesign.com
END:VEVENT
BEGIN:VEVENT
DTSTART;TZID=America/New_York:20240912T170000
DTEND;TZID=America/New_York:20240912T200000
DTSTAMP:20260425T092617
CREATED:20240118T153524Z
LAST-MODIFIED:20240118T153524Z
UID:10003601-1726160400-1726171200@newcumberlandpa.org
SUMMARY:Food Truck and Restaurant Rally
DESCRIPTION:
URL:https://newcumberlandpa.org/event/food-truck-and-restaurant-rally-18/2024-09-12/
LOCATION:Market Square\, 221-235 Market Street\, New Cumberland\, PA\, 17070\, United States
CATEGORIES:Community
ATTACH;FMTTYPE=image/jpeg:https://newcumberlandpa.org/wp-content/uploads/2020/05/food-truck-web-event-art-1.jpg
ORGANIZER;CN="New Cumberland Business & Profesional Group":MAILTO:communicationschairNC@gmail.com
END:VEVENT
BEGIN:VEVENT
DTSTART;TZID=America/New_York:20240911T190000
DTEND;TZID=America/New_York:20240911T210000
DTSTAMP:20260425T092617
CREATED:20221026T154317Z
LAST-MODIFIED:20221026T154318Z
UID:10001470-1726081200-1726088400@newcumberlandpa.org
SUMMARY:Borough Council Meeting
DESCRIPTION:
URL:https://newcumberlandpa.org/event/borough-council-meeting-15-2/2024-09-11/
LOCATION:Borough Council Chambers\, 1120 Market Street\, New Cumberland\, PA\, 17070\, United States
CATEGORIES:Meetings
END:VEVENT
BEGIN:VEVENT
DTSTART;TZID=America/New_York:20240911T113000
DTEND;TZID=America/New_York:20240911T130000
DTSTAMP:20260425T092617
CREATED:20221026T154232Z
LAST-MODIFIED:20221026T154232Z
UID:10001540-1726054200-1726059600@newcumberlandpa.org
SUMMARY:New Cumberland Olde Towne Association Monthly Meeting
DESCRIPTION:The organization is always looking for new members and the public is invited to attend. Lunch is $10.00 for guests and $8.50 for members. Membership is $5.00 a year.  For more information contact Christine Leukus at 717-319-4421 or email her at cvleukus@aol.com.
URL:https://newcumberlandpa.org/event/new-cumberland-olde-towne-association-monthly-meeting-8-2/2024-09-11/
LOCATION:American Legion Post 143\, 214 Market Street\, New Cumberland\, PA\, 17070\, United States
CATEGORIES:Community,Meetings
ORGANIZER;CN="New Cumberland Olde Towne Association":MAILTO:cvleukus@aol.com
END:VEVENT
BEGIN:VEVENT
DTSTART;TZID=America/New_York:20240907T090000
DTEND;TZID=America/New_York:20240907T150000
DTSTAMP:20260425T092617
CREATED:20230331T180948Z
LAST-MODIFIED:20230808T161726Z
UID:10002089-1725699600-1725721200@newcumberlandpa.org
SUMMARY:Book Sale
DESCRIPTION:The Friends of the New Cumberland Public Library hold pre-owned book sales on the first and third Saturdays of each month from 9:00 am until 3:00 pm in the Foundation House located across the shared parking lot from the Library. Sales include: hardback and paperback books in fiction and non-fiction\, DVD’s\, music CD’s\, puzzles\, children’s books\, 331/3 rpm vinyl records\, tote bags\, and notecards. The Friends have large collections of all genres of books\, DVD movies\, a children’s book corner\, and “specials” during each sale.  A great selection of gently used and vintage jewelry will also be for sale.
URL:https://newcumberlandpa.org/event/book-sale-30/2024-09-07/
LOCATION:Foundation House at the New Cumberland Public Library\, 1 Benjamin Plaza\, New Cumberland\, PA\, 17070\, United States
ATTACH;FMTTYPE=image/jpeg:https://newcumberlandpa.org/wp-content/uploads/2022/12/book-sales-event.jpg
END:VEVENT
BEGIN:VEVENT
DTSTART;TZID=America/New_York:20240907T090000
DTEND;TZID=America/New_York:20240907T140000
DTSTAMP:20260425T092617
CREATED:20240118T174109Z
LAST-MODIFIED:20240404T182759Z
UID:10003789-1725699600-1725717600@newcumberlandpa.org
SUMMARY:Farmers’ Market On 4th
DESCRIPTION:The New Cumberland Farmers’ Market On 4th returns! The farmers’ market operates each Saturday\, May 4 through October 26\, from 9 a.m. to 2 p.m. rain or shine at 4th and Bridge Streets\, New Cumberland\, in the parking lot of Olde Towne Commons. Elevate your taste buds with locally grown produce\, fresh meats\, homemade baked goods\, and more! NEW this year\, artisans and makers! Look for returning farms and several new vendors. \n  \nClick here for a vendor application.
URL:https://newcumberlandpa.org/event/farmers-market-on-4th-58/2024-09-07/
LOCATION:Kelly Financial Services\, 400 Bridge Street\, New Cumberland\, PA\, 17070\, United States
ATTACH;FMTTYPE=image/jpeg:https://newcumberlandpa.org/wp-content/uploads/2023/04/farmers-market-pics_general.jpg
ORGANIZER;CN="New Cumberland Business & Profesional Group":MAILTO:communicationschairNC@gmail.com
END:VEVENT
BEGIN:VEVENT
DTSTART;TZID=America/New_York:20240905T080000
DTEND;TZID=America/New_York:20240905T090000
DTSTAMP:20260425T092617
CREATED:20240311T152305Z
LAST-MODIFIED:20240311T152307Z
UID:10001997-1725523200-1725526800@newcumberlandpa.org
SUMMARY:B&PG Executive Team Meeting
DESCRIPTION:
URL:https://newcumberlandpa.org/event/bpg-executive-team-meeting-2/2024-09-05/
LOCATION:New Cumberland Fire Department\, 319 4th Street\, New Cumberland\, PA\, 17070\, United States
CATEGORIES:Meetings
ORGANIZER;CN="New Cumberland Business & Profesional Group":MAILTO:communicationschairNC@gmail.com
END:VEVENT
BEGIN:VEVENT
DTSTART;TZID=America/New_York:20240831T090000
DTEND;TZID=America/New_York:20240831T140000
DTSTAMP:20260425T092617
CREATED:20240118T174109Z
LAST-MODIFIED:20240404T182759Z
UID:10003788-1725094800-1725112800@newcumberlandpa.org
SUMMARY:Farmers’ Market On 4th
DESCRIPTION:The New Cumberland Farmers’ Market On 4th returns! The farmers’ market operates each Saturday\, May 4 through October 26\, from 9 a.m. to 2 p.m. rain or shine at 4th and Bridge Streets\, New Cumberland\, in the parking lot of Olde Towne Commons. Elevate your taste buds with locally grown produce\, fresh meats\, homemade baked goods\, and more! NEW this year\, artisans and makers! Look for returning farms and several new vendors. \n  \nClick here for a vendor application.
URL:https://newcumberlandpa.org/event/farmers-market-on-4th-58/2024-08-31/
LOCATION:Kelly Financial Services\, 400 Bridge Street\, New Cumberland\, PA\, 17070\, United States
ATTACH;FMTTYPE=image/jpeg:https://newcumberlandpa.org/wp-content/uploads/2023/04/farmers-market-pics_general.jpg
ORGANIZER;CN="New Cumberland Business & Profesional Group":MAILTO:communicationschairNC@gmail.com
END:VEVENT
BEGIN:VEVENT
DTSTART;TZID=America/New_York:20240828T183000
DTEND;TZID=America/New_York:20240828T193000
DTSTAMP:20260425T092617
CREATED:20240403T161432Z
LAST-MODIFIED:20240403T161525Z
UID:10003844-1724869800-1724873400@newcumberlandpa.org
SUMMARY:Lions Club Meeting
DESCRIPTION:
URL:https://newcumberlandpa.org/event/lions-club-meeting-2/2024-08-28/
LOCATION:American Legion Post 143\, 214 Market Street\, New Cumberland\, PA\, 17070\, United States
ORGANIZER;CN="Lion Club":MAILTO:hopplea@members1st.org
END:VEVENT
BEGIN:VEVENT
DTSTART;TZID=America/New_York:20240824T090000
DTEND;TZID=America/New_York:20240824T140000
DTSTAMP:20260425T092617
CREATED:20240118T174109Z
LAST-MODIFIED:20240404T182759Z
UID:10003787-1724490000-1724508000@newcumberlandpa.org
SUMMARY:Farmers’ Market On 4th
DESCRIPTION:The New Cumberland Farmers’ Market On 4th returns! The farmers’ market operates each Saturday\, May 4 through October 26\, from 9 a.m. to 2 p.m. rain or shine at 4th and Bridge Streets\, New Cumberland\, in the parking lot of Olde Towne Commons. Elevate your taste buds with locally grown produce\, fresh meats\, homemade baked goods\, and more! NEW this year\, artisans and makers! Look for returning farms and several new vendors. \n  \nClick here for a vendor application.
URL:https://newcumberlandpa.org/event/farmers-market-on-4th-58/2024-08-24/
LOCATION:Kelly Financial Services\, 400 Bridge Street\, New Cumberland\, PA\, 17070\, United States
ATTACH;FMTTYPE=image/jpeg:https://newcumberlandpa.org/wp-content/uploads/2023/04/farmers-market-pics_general.jpg
ORGANIZER;CN="New Cumberland Business & Profesional Group":MAILTO:communicationschairNC@gmail.com
END:VEVENT
END:VCALENDAR