BEGIN:VCALENDAR
VERSION:2.0
PRODID:-//New Cumberland B&amp;PG - ECPv6.15.17.1//NONSGML v1.0//EN
CALSCALE:GREGORIAN
METHOD:PUBLISH
X-WR-CALNAME:New Cumberland B&amp;PG
X-ORIGINAL-URL:https://newcumberlandpa.org
X-WR-CALDESC:Events for New Cumberland B&amp;PG
REFRESH-INTERVAL;VALUE=DURATION:PT1H
X-Robots-Tag:noindex
X-PUBLISHED-TTL:PT1H
BEGIN:VTIMEZONE
TZID:America/New_York
BEGIN:DAYLIGHT
TZOFFSETFROM:-0500
TZOFFSETTO:-0400
TZNAME:EDT
DTSTART:20230312T070000
END:DAYLIGHT
BEGIN:STANDARD
TZOFFSETFROM:-0400
TZOFFSETTO:-0500
TZNAME:EST
DTSTART:20231105T060000
END:STANDARD
BEGIN:DAYLIGHT
TZOFFSETFROM:-0500
TZOFFSETTO:-0400
TZNAME:EDT
DTSTART:20240310T070000
END:DAYLIGHT
BEGIN:STANDARD
TZOFFSETFROM:-0400
TZOFFSETTO:-0500
TZNAME:EST
DTSTART:20241103T060000
END:STANDARD
BEGIN:DAYLIGHT
TZOFFSETFROM:-0500
TZOFFSETTO:-0400
TZNAME:EDT
DTSTART:20250309T070000
END:DAYLIGHT
BEGIN:STANDARD
TZOFFSETFROM:-0400
TZOFFSETTO:-0500
TZNAME:EST
DTSTART:20251102T060000
END:STANDARD
END:VTIMEZONE
BEGIN:VEVENT
DTSTART;TZID=America/New_York:20240618T070000
DTEND;TZID=America/New_York:20240618T210000
DTSTAMP:20260425T123444
CREATED:20240118T172125Z
LAST-MODIFIED:20240424T161645Z
UID:10003674-1718694000-1718744400@newcumberlandpa.org
SUMMARY:Fairy Door Trail
DESCRIPTION:The 7th Annual Fairy Door Trail is set to begin June 10th! \nFollow the path of New Cumberland businesses to find the magical fairy doors and fill in the names of each resident fairy in the passport.
URL:https://newcumberlandpa.org/event/fairy-door-trail-4/2024-06-18/
LOCATION:New Cumberland\, New Cumberland\, PA\, 17070\, United States
CATEGORIES:Community
ORGANIZER;CN="New Cumberland Business & Profesional Group":MAILTO:communicationschairNC@gmail.com
END:VEVENT
BEGIN:VEVENT
DTSTART;TZID=America/New_York:20240617T070000
DTEND;TZID=America/New_York:20240617T210000
DTSTAMP:20260425T123444
CREATED:20240118T172125Z
LAST-MODIFIED:20240424T161645Z
UID:10003673-1718607600-1718658000@newcumberlandpa.org
SUMMARY:Fairy Door Trail
DESCRIPTION:The 7th Annual Fairy Door Trail is set to begin June 10th! \nFollow the path of New Cumberland businesses to find the magical fairy doors and fill in the names of each resident fairy in the passport.
URL:https://newcumberlandpa.org/event/fairy-door-trail-4/2024-06-17/
LOCATION:New Cumberland\, New Cumberland\, PA\, 17070\, United States
CATEGORIES:Community
ORGANIZER;CN="New Cumberland Business & Profesional Group":MAILTO:communicationschairNC@gmail.com
END:VEVENT
BEGIN:VEVENT
DTSTART;TZID=America/New_York:20240616T110000
DTEND;TZID=America/New_York:20240616T170000
DTSTAMP:20260425T123444
CREATED:20240118T172645Z
LAST-MODIFIED:20240118T180113Z
UID:10003727-1718535600-1718557200@newcumberlandpa.org
SUMMARY:Iron Bridge Music Festival
DESCRIPTION:The Iron Bridge Music Festival is a great way to support and enjoy the talent of local musicians while bringing our community together! Not only do you get to experience the music of talented performers\, but you also get to meet other music lovers and make great memories. Plus\, by attending our annual event\, you’re helping to support the local music scene and our community! \nSo join us on Friday\, June 14th through Sunday\, June 16th at New Cumberland Borough Park to enjoy the music\, have fun\, and show your support for local musicians!
URL:https://newcumberlandpa.org/event/iron-bridge-music-festival-4/
LOCATION:New Cumberland Borough Park\, Front Street & Geary Avenue\, New Cumberland\, Pennsylvania\, 17070\, United States
CATEGORIES:Community
ATTACH;FMTTYPE=image/png:https://newcumberlandpa.org/wp-content/uploads/2024/01/iron-birdge.png
ORGANIZER;CN="New Cumberland Olde Towne Association":MAILTO:cvleukus@aol.com
END:VEVENT
BEGIN:VEVENT
DTSTART;TZID=America/New_York:20240616T070000
DTEND;TZID=America/New_York:20240616T210000
DTSTAMP:20260425T123444
CREATED:20240118T172125Z
LAST-MODIFIED:20240424T161645Z
UID:10003672-1718521200-1718571600@newcumberlandpa.org
SUMMARY:Fairy Door Trail
DESCRIPTION:The 7th Annual Fairy Door Trail is set to begin June 10th! \nFollow the path of New Cumberland businesses to find the magical fairy doors and fill in the names of each resident fairy in the passport.
URL:https://newcumberlandpa.org/event/fairy-door-trail-4/2024-06-16/
LOCATION:New Cumberland\, New Cumberland\, PA\, 17070\, United States
CATEGORIES:Community
ORGANIZER;CN="New Cumberland Business & Profesional Group":MAILTO:communicationschairNC@gmail.com
END:VEVENT
BEGIN:VEVENT
DTSTART;TZID=America/New_York:20240615T110000
DTEND;TZID=America/New_York:20240615T210000
DTSTAMP:20260425T123444
CREATED:20240118T172337Z
LAST-MODIFIED:20240118T180132Z
UID:10003725-1718449200-1718485200@newcumberlandpa.org
SUMMARY:Iron Bridge Music Festival
DESCRIPTION:The Iron Bridge Music Festival is a great way to support and enjoy the talent of local musicians while bringing our community together! Not only do you get to experience the music of talented performers\, but you also get to meet other music lovers and make great memories. Plus\, by attending our annual event\, you’re helping to support the local music scene and our community! \nSo join us on Friday\, June 14th through Sunday\, June 16th at New Cumberland Borough Park to enjoy the music\, have fun\, and show your support for local musicians!
URL:https://newcumberlandpa.org/event/iron-bridge-music-festival-3/
LOCATION:New Cumberland Borough Park\, Front Street & Geary Avenue\, New Cumberland\, Pennsylvania\, 17070\, United States
CATEGORIES:Community
ATTACH;FMTTYPE=image/png:https://newcumberlandpa.org/wp-content/uploads/2024/01/iron-birdge.png
ORGANIZER;CN="New Cumberland Olde Towne Association":MAILTO:cvleukus@aol.com
END:VEVENT
BEGIN:VEVENT
DTSTART;TZID=America/New_York:20240615T090000
DTEND;TZID=America/New_York:20240615T150000
DTSTAMP:20260425T123444
CREATED:20230331T181915Z
LAST-MODIFIED:20230808T161702Z
UID:10002206-1718442000-1718463600@newcumberlandpa.org
SUMMARY:Book Sale
DESCRIPTION:The Friends of the New Cumberland Public Library hold pre-owned book sales on the first and third Saturdays of each month from 9:00 am until 3:00 pm in the Foundation House located across the shared parking lot from the Library. Sales include: hardback and paperback books in fiction and non-fiction\, DVD’s\, music CD’s\, puzzles\, children’s books\, 331/3 rpm vinyl records\, tote bags\, and notecards. The Friends have large collections of all genres of books\, DVD movies\, a children’s book corner\, and “specials” during each sale.  A great selection of gently used and vintage jewelry will also be for sale.
URL:https://newcumberlandpa.org/event/book-sale-31/2024-06-15/
LOCATION:Foundation House at the New Cumberland Public Library\, 1 Benjamin Plaza\, New Cumberland\, PA\, 17070\, United States
ATTACH;FMTTYPE=image/jpeg:https://newcumberlandpa.org/wp-content/uploads/2022/12/book-sales-event.jpg
END:VEVENT
BEGIN:VEVENT
DTSTART;TZID=America/New_York:20240615T090000
DTEND;TZID=America/New_York:20240615T140000
DTSTAMP:20260425T123444
CREATED:20240118T174109Z
LAST-MODIFIED:20240404T182759Z
UID:10003777-1718442000-1718460000@newcumberlandpa.org
SUMMARY:Farmers’ Market On 4th
DESCRIPTION:The New Cumberland Farmers’ Market On 4th returns! The farmers’ market operates each Saturday\, May 4 through October 26\, from 9 a.m. to 2 p.m. rain or shine at 4th and Bridge Streets\, New Cumberland\, in the parking lot of Olde Towne Commons. Elevate your taste buds with locally grown produce\, fresh meats\, homemade baked goods\, and more! NEW this year\, artisans and makers! Look for returning farms and several new vendors. \n  \nClick here for a vendor application.
URL:https://newcumberlandpa.org/event/farmers-market-on-4th-58/2024-06-15/
LOCATION:Kelly Financial Services\, 400 Bridge Street\, New Cumberland\, PA\, 17070\, United States
ATTACH;FMTTYPE=image/jpeg:https://newcumberlandpa.org/wp-content/uploads/2023/04/farmers-market-pics_general.jpg
ORGANIZER;CN="New Cumberland Business & Profesional Group":MAILTO:communicationschairNC@gmail.com
END:VEVENT
BEGIN:VEVENT
DTSTART;TZID=America/New_York:20240615T070000
DTEND;TZID=America/New_York:20240615T210000
DTSTAMP:20260425T123444
CREATED:20240118T172125Z
LAST-MODIFIED:20240424T161645Z
UID:10003671-1718434800-1718485200@newcumberlandpa.org
SUMMARY:Fairy Door Trail
DESCRIPTION:The 7th Annual Fairy Door Trail is set to begin June 10th! \nFollow the path of New Cumberland businesses to find the magical fairy doors and fill in the names of each resident fairy in the passport.
URL:https://newcumberlandpa.org/event/fairy-door-trail-4/2024-06-15/
LOCATION:New Cumberland\, New Cumberland\, PA\, 17070\, United States
CATEGORIES:Community
ORGANIZER;CN="New Cumberland Business & Profesional Group":MAILTO:communicationschairNC@gmail.com
END:VEVENT
BEGIN:VEVENT
DTSTART;TZID=America/New_York:20240614T170000
DTEND;TZID=America/New_York:20240614T210000
DTSTAMP:20260425T123444
CREATED:20240118T172749Z
LAST-MODIFIED:20240118T180053Z
UID:10003728-1718384400-1718398800@newcumberlandpa.org
SUMMARY:Iron Bridge Music Festival
DESCRIPTION:The Iron Bridge Music Festival is a great way to support and enjoy the talent of local musicians while bringing our community together! Not only do you get to experience the music of talented performers\, but you also get to meet other music lovers and make great memories. Plus\, by attending our annual event\, you’re helping to support the local music scene and our community! \nSo join us on Friday\, June 14th through Sunday\, June 16th at New Cumberland Borough Park to enjoy the music\, have fun\, and show your support for local musicians!
URL:https://newcumberlandpa.org/event/iron-bridge-music-festival-5/
LOCATION:New Cumberland Borough Park\, Front Street & Geary Avenue\, New Cumberland\, Pennsylvania\, 17070\, United States
CATEGORIES:Community
ATTACH;FMTTYPE=image/png:https://newcumberlandpa.org/wp-content/uploads/2024/01/iron-birdge.png
ORGANIZER;CN="New Cumberland Olde Towne Association":MAILTO:cvleukus@aol.com
END:VEVENT
BEGIN:VEVENT
DTSTART;TZID=America/New_York:20240614T070000
DTEND;TZID=America/New_York:20240614T210000
DTSTAMP:20260425T123444
CREATED:20240118T172125Z
LAST-MODIFIED:20240424T161645Z
UID:10003670-1718348400-1718398800@newcumberlandpa.org
SUMMARY:Fairy Door Trail
DESCRIPTION:The 7th Annual Fairy Door Trail is set to begin June 10th! \nFollow the path of New Cumberland businesses to find the magical fairy doors and fill in the names of each resident fairy in the passport.
URL:https://newcumberlandpa.org/event/fairy-door-trail-4/2024-06-14/
LOCATION:New Cumberland\, New Cumberland\, PA\, 17070\, United States
CATEGORIES:Community
ORGANIZER;CN="New Cumberland Business & Profesional Group":MAILTO:communicationschairNC@gmail.com
END:VEVENT
BEGIN:VEVENT
DTSTART;TZID=America/New_York:20240613T170000
DTEND;TZID=America/New_York:20240613T200000
DTSTAMP:20260425T123444
CREATED:20240118T153524Z
LAST-MODIFIED:20240118T153524Z
UID:10003598-1718298000-1718308800@newcumberlandpa.org
SUMMARY:Food Truck and Restaurant Rally
DESCRIPTION:
URL:https://newcumberlandpa.org/event/food-truck-and-restaurant-rally-18/2024-06-13/
LOCATION:Market Square\, 221-235 Market Street\, New Cumberland\, PA\, 17070\, United States
CATEGORIES:Community
ATTACH;FMTTYPE=image/jpeg:https://newcumberlandpa.org/wp-content/uploads/2020/05/food-truck-web-event-art-1.jpg
ORGANIZER;CN="New Cumberland Business & Profesional Group":MAILTO:communicationschairNC@gmail.com
END:VEVENT
BEGIN:VEVENT
DTSTART;TZID=America/New_York:20240613T070000
DTEND;TZID=America/New_York:20240613T210000
DTSTAMP:20260425T123444
CREATED:20240118T172125Z
LAST-MODIFIED:20240424T161645Z
UID:10003669-1718262000-1718312400@newcumberlandpa.org
SUMMARY:Fairy Door Trail
DESCRIPTION:The 7th Annual Fairy Door Trail is set to begin June 10th! \nFollow the path of New Cumberland businesses to find the magical fairy doors and fill in the names of each resident fairy in the passport.
URL:https://newcumberlandpa.org/event/fairy-door-trail-4/2024-06-13/
LOCATION:New Cumberland\, New Cumberland\, PA\, 17070\, United States
CATEGORIES:Community
ORGANIZER;CN="New Cumberland Business & Profesional Group":MAILTO:communicationschairNC@gmail.com
END:VEVENT
BEGIN:VEVENT
DTSTART;TZID=America/New_York:20240612T190000
DTEND;TZID=America/New_York:20240612T210000
DTSTAMP:20260425T123444
CREATED:20221026T154317Z
LAST-MODIFIED:20221026T154318Z
UID:10001467-1718218800-1718226000@newcumberlandpa.org
SUMMARY:Borough Council Meeting
DESCRIPTION:
URL:https://newcumberlandpa.org/event/borough-council-meeting-15-2/2024-06-12/
LOCATION:Borough Council Chambers\, 1120 Market Street\, New Cumberland\, PA\, 17070\, United States
CATEGORIES:Meetings
END:VEVENT
BEGIN:VEVENT
DTSTART;TZID=America/New_York:20240612T113000
DTEND;TZID=America/New_York:20240612T130000
DTSTAMP:20260425T123444
CREATED:20221026T154232Z
LAST-MODIFIED:20221026T154232Z
UID:10001537-1718191800-1718197200@newcumberlandpa.org
SUMMARY:New Cumberland Olde Towne Association Monthly Meeting
DESCRIPTION:The organization is always looking for new members and the public is invited to attend. Lunch is $10.00 for guests and $8.50 for members. Membership is $5.00 a year.  For more information contact Christine Leukus at 717-319-4421 or email her at cvleukus@aol.com.
URL:https://newcumberlandpa.org/event/new-cumberland-olde-towne-association-monthly-meeting-8-2/2024-06-12/
LOCATION:American Legion Post 143\, 214 Market Street\, New Cumberland\, PA\, 17070\, United States
CATEGORIES:Community,Meetings
ORGANIZER;CN="New Cumberland Olde Towne Association":MAILTO:cvleukus@aol.com
END:VEVENT
BEGIN:VEVENT
DTSTART;TZID=America/New_York:20240612T070000
DTEND;TZID=America/New_York:20240612T210000
DTSTAMP:20260425T123444
CREATED:20240118T172125Z
LAST-MODIFIED:20240424T161645Z
UID:10003668-1718175600-1718226000@newcumberlandpa.org
SUMMARY:Fairy Door Trail
DESCRIPTION:The 7th Annual Fairy Door Trail is set to begin June 10th! \nFollow the path of New Cumberland businesses to find the magical fairy doors and fill in the names of each resident fairy in the passport.
URL:https://newcumberlandpa.org/event/fairy-door-trail-4/2024-06-12/
LOCATION:New Cumberland\, New Cumberland\, PA\, 17070\, United States
CATEGORIES:Community
ORGANIZER;CN="New Cumberland Business & Profesional Group":MAILTO:communicationschairNC@gmail.com
END:VEVENT
BEGIN:VEVENT
DTSTART;TZID=America/New_York:20240611T070000
DTEND;TZID=America/New_York:20240611T210000
DTSTAMP:20260425T123444
CREATED:20240118T172125Z
LAST-MODIFIED:20240424T161645Z
UID:10003667-1718089200-1718139600@newcumberlandpa.org
SUMMARY:Fairy Door Trail
DESCRIPTION:The 7th Annual Fairy Door Trail is set to begin June 10th! \nFollow the path of New Cumberland businesses to find the magical fairy doors and fill in the names of each resident fairy in the passport.
URL:https://newcumberlandpa.org/event/fairy-door-trail-4/2024-06-11/
LOCATION:New Cumberland\, New Cumberland\, PA\, 17070\, United States
CATEGORIES:Community
ORGANIZER;CN="New Cumberland Business & Profesional Group":MAILTO:communicationschairNC@gmail.com
END:VEVENT
BEGIN:VEVENT
DTSTART;TZID=America/New_York:20240610T070000
DTEND;TZID=America/New_York:20240610T210000
DTSTAMP:20260425T123444
CREATED:20240118T172125Z
LAST-MODIFIED:20240424T161645Z
UID:10003666-1718002800-1718053200@newcumberlandpa.org
SUMMARY:Fairy Door Trail
DESCRIPTION:The 7th Annual Fairy Door Trail is set to begin June 10th! \nFollow the path of New Cumberland businesses to find the magical fairy doors and fill in the names of each resident fairy in the passport.
URL:https://newcumberlandpa.org/event/fairy-door-trail-4/2024-06-10/
LOCATION:New Cumberland\, New Cumberland\, PA\, 17070\, United States
CATEGORIES:Community
ORGANIZER;CN="New Cumberland Business & Profesional Group":MAILTO:communicationschairNC@gmail.com
END:VEVENT
BEGIN:VEVENT
DTSTART;TZID=America/New_York:20240608T090000
DTEND;TZID=America/New_York:20240608T140000
DTSTAMP:20260425T123444
CREATED:20240118T174109Z
LAST-MODIFIED:20240404T182759Z
UID:10003776-1717837200-1717855200@newcumberlandpa.org
SUMMARY:Farmers’ Market On 4th
DESCRIPTION:The New Cumberland Farmers’ Market On 4th returns! The farmers’ market operates each Saturday\, May 4 through October 26\, from 9 a.m. to 2 p.m. rain or shine at 4th and Bridge Streets\, New Cumberland\, in the parking lot of Olde Towne Commons. Elevate your taste buds with locally grown produce\, fresh meats\, homemade baked goods\, and more! NEW this year\, artisans and makers! Look for returning farms and several new vendors. \n  \nClick here for a vendor application.
URL:https://newcumberlandpa.org/event/farmers-market-on-4th-58/2024-06-08/
LOCATION:Kelly Financial Services\, 400 Bridge Street\, New Cumberland\, PA\, 17070\, United States
ATTACH;FMTTYPE=image/jpeg:https://newcumberlandpa.org/wp-content/uploads/2023/04/farmers-market-pics_general.jpg
ORGANIZER;CN="New Cumberland Business & Profesional Group":MAILTO:communicationschairNC@gmail.com
END:VEVENT
BEGIN:VEVENT
DTSTART;TZID=America/New_York:20240607T103000
DTEND;TZID=America/New_York:20240607T170000
DTSTAMP:20260425T123444
CREATED:20240422T144414Z
LAST-MODIFIED:20240422T144414Z
UID:10003900-1717756200-1717779600@newcumberlandpa.org
SUMMARY:Bob Craig Youth Foundation Memorial Golf Outing
DESCRIPTION:Join us at our 18th Annual Memorial Golf Classic on June 7\, 2024 at Armitage Golf Club! \nDownload registration brochure. \nRegister online.
URL:https://newcumberlandpa.org/event/bob-craig-youth-foundation-memorial-golf-outing/
LOCATION:Armitage Golf Club\, 800 Orrs Bridge Rd\, Mechanicsburg\, PA\, 17050\, United States
CATEGORIES:Community,Fundraiser
END:VEVENT
BEGIN:VEVENT
DTSTART;TZID=America/New_York:20240606T080000
DTEND;TZID=America/New_York:20240606T090000
DTSTAMP:20260425T123444
CREATED:20240311T152305Z
LAST-MODIFIED:20240311T152307Z
UID:10001994-1717660800-1717664400@newcumberlandpa.org
SUMMARY:B&PG Executive Team Meeting
DESCRIPTION:
URL:https://newcumberlandpa.org/event/bpg-executive-team-meeting-2/2024-06-06/
LOCATION:New Cumberland Fire Department\, 319 4th Street\, New Cumberland\, PA\, 17070\, United States
CATEGORIES:Meetings
ORGANIZER;CN="New Cumberland Business & Profesional Group":MAILTO:communicationschairNC@gmail.com
END:VEVENT
BEGIN:VEVENT
DTSTART;TZID=America/New_York:20240601T090000
DTEND;TZID=America/New_York:20240601T150000
DTSTAMP:20260425T123444
CREATED:20230331T180948Z
LAST-MODIFIED:20230808T161726Z
UID:10002086-1717232400-1717254000@newcumberlandpa.org
SUMMARY:Book Sale
DESCRIPTION:The Friends of the New Cumberland Public Library hold pre-owned book sales on the first and third Saturdays of each month from 9:00 am until 3:00 pm in the Foundation House located across the shared parking lot from the Library. Sales include: hardback and paperback books in fiction and non-fiction\, DVD’s\, music CD’s\, puzzles\, children’s books\, 331/3 rpm vinyl records\, tote bags\, and notecards. The Friends have large collections of all genres of books\, DVD movies\, a children’s book corner\, and “specials” during each sale.  A great selection of gently used and vintage jewelry will also be for sale.
URL:https://newcumberlandpa.org/event/book-sale-30/2024-06-01/
LOCATION:Foundation House at the New Cumberland Public Library\, 1 Benjamin Plaza\, New Cumberland\, PA\, 17070\, United States
ATTACH;FMTTYPE=image/jpeg:https://newcumberlandpa.org/wp-content/uploads/2022/12/book-sales-event.jpg
END:VEVENT
BEGIN:VEVENT
DTSTART;TZID=America/New_York:20240601T090000
DTEND;TZID=America/New_York:20240601T140000
DTSTAMP:20260425T123444
CREATED:20240118T174109Z
LAST-MODIFIED:20240404T182759Z
UID:10003775-1717232400-1717250400@newcumberlandpa.org
SUMMARY:Farmers’ Market On 4th
DESCRIPTION:The New Cumberland Farmers’ Market On 4th returns! The farmers’ market operates each Saturday\, May 4 through October 26\, from 9 a.m. to 2 p.m. rain or shine at 4th and Bridge Streets\, New Cumberland\, in the parking lot of Olde Towne Commons. Elevate your taste buds with locally grown produce\, fresh meats\, homemade baked goods\, and more! NEW this year\, artisans and makers! Look for returning farms and several new vendors. \n  \nClick here for a vendor application.
URL:https://newcumberlandpa.org/event/farmers-market-on-4th-58/2024-06-01/
LOCATION:Kelly Financial Services\, 400 Bridge Street\, New Cumberland\, PA\, 17070\, United States
ATTACH;FMTTYPE=image/jpeg:https://newcumberlandpa.org/wp-content/uploads/2023/04/farmers-market-pics_general.jpg
ORGANIZER;CN="New Cumberland Business & Profesional Group":MAILTO:communicationschairNC@gmail.com
END:VEVENT
BEGIN:VEVENT
DTSTART;TZID=America/New_York:20240527T113000
DTEND;TZID=America/New_York:20240527T140000
DTSTAMP:20260425T123444
CREATED:20240123T195052Z
LAST-MODIFIED:20240506T184601Z
UID:10003803-1716809400-1716818400@newcumberlandpa.org
SUMMARY:Memorial Day Parade
DESCRIPTION:The American Legions and the Veterans of Foreign Wars along with the New Cumberland Olde Towne Association will be presenting a Memorial Service honoring Veterans on Monday\, May 27th at 11:30 a.m. at Bridge Street and Park Avenue.  Following the service\, the annual Memorial Day Parade will begin at approximately 12:00 p.m.  The community is invited to attend the service at Bridge Street and Park Avenue honoring those that have given their life for our country.  The parade will begin at Park Avenue and will continue on Bridge Street to Third Street.  GOD BLESS AMERICA. \nLocation: New Cumberland Borough’s Veteran’s Park at Park Ave & Bridge St
URL:https://newcumberlandpa.org/event/memorial-day-parade-2/
CATEGORIES:Community
ORGANIZER;CN="New Cumberland Olde Towne Association":MAILTO:cvleukus@aol.com
END:VEVENT
BEGIN:VEVENT
DTSTART;TZID=America/New_York:20240525T090000
DTEND;TZID=America/New_York:20240525T140000
DTSTAMP:20260425T123444
CREATED:20240118T174109Z
LAST-MODIFIED:20240404T182759Z
UID:10003774-1716627600-1716645600@newcumberlandpa.org
SUMMARY:Farmers’ Market On 4th
DESCRIPTION:The New Cumberland Farmers’ Market On 4th returns! The farmers’ market operates each Saturday\, May 4 through October 26\, from 9 a.m. to 2 p.m. rain or shine at 4th and Bridge Streets\, New Cumberland\, in the parking lot of Olde Towne Commons. Elevate your taste buds with locally grown produce\, fresh meats\, homemade baked goods\, and more! NEW this year\, artisans and makers! Look for returning farms and several new vendors. \n  \nClick here for a vendor application.
URL:https://newcumberlandpa.org/event/farmers-market-on-4th-58/2024-05-25/
LOCATION:Kelly Financial Services\, 400 Bridge Street\, New Cumberland\, PA\, 17070\, United States
ATTACH;FMTTYPE=image/jpeg:https://newcumberlandpa.org/wp-content/uploads/2023/04/farmers-market-pics_general.jpg
ORGANIZER;CN="New Cumberland Business & Profesional Group":MAILTO:communicationschairNC@gmail.com
END:VEVENT
BEGIN:VEVENT
DTSTART;TZID=America/New_York:20240523T120000
DTEND;TZID=America/New_York:20240523T140000
DTSTAMP:20260425T123444
CREATED:20240506T195942Z
LAST-MODIFIED:20240506T200521Z
UID:10003908-1716465600-1716472800@newcumberlandpa.org
SUMMARY:U.S. Military Veterans Memorial Salute
DESCRIPTION:All are invited to honor our Veterans and the 500+ brave souls resting in peace at Mt. Olivet. Join families\, Cedar Cliff  JROTC Cadets\, American Legion Post #143\, and other friends of Mt. Olivet for any or all parts of the program: \n\n12 P.M. Enjoy lunch provided by cemetery donors\n12:30 P.M. Place U.S. Flags at Veteran graves throughout the cemetery\n1:15 P.M. Gather together at the Memorial Flagpole to honor our Veterans
URL:https://newcumberlandpa.org/event/u-s-military-veterans-memorial-salute-2/
LOCATION:Mt. Olivet Cemetery\, 198 Old York Road\, New Cumberland\, PA\, 17070\, United States
CATEGORIES:Community
ATTACH;FMTTYPE=image/jpeg:https://newcumberlandpa.org/wp-content/uploads/2023/03/Unknown.jpeg
END:VEVENT
BEGIN:VEVENT
DTSTART;TZID=America/New_York:20240522T183000
DTEND;TZID=America/New_York:20240522T193000
DTSTAMP:20260425T123444
CREATED:20240403T161432Z
LAST-MODIFIED:20240403T161525Z
UID:10003841-1716402600-1716406200@newcumberlandpa.org
SUMMARY:Lions Club Meeting
DESCRIPTION:
URL:https://newcumberlandpa.org/event/lions-club-meeting-2/2024-05-22/
LOCATION:American Legion Post 143\, 214 Market Street\, New Cumberland\, PA\, 17070\, United States
ORGANIZER;CN="Lion Club":MAILTO:hopplea@members1st.org
END:VEVENT
BEGIN:VEVENT
DTSTART;TZID=America/New_York:20240521T190000
DTEND;TZID=America/New_York:20240521T203000
DTSTAMP:20260425T123444
CREATED:20221026T154410Z
LAST-MODIFIED:20230920T144708Z
UID:10001603-1716318000-1716323400@newcumberlandpa.org
SUMMARY:Library Board Meeting
DESCRIPTION:
URL:https://newcumberlandpa.org/event/library-board-meeting-11-2/2024-05-21/
LOCATION:New Cumberland Public Library
CATEGORIES:Meetings
END:VEVENT
BEGIN:VEVENT
DTSTART;TZID=America/New_York:20240519T150000
DTEND;TZID=America/New_York:20240519T170000
DTSTAMP:20260425T123444
CREATED:20240507T123235Z
LAST-MODIFIED:20240507T123235Z
UID:10003912-1716130800-1716138000@newcumberlandpa.org
SUMMARY:Very Fine Gentlemen
DESCRIPTION:West Shore Theatre 2nd Anniversary Celebration! \nHailing from Harrisburg\, PA\, the Very Fine Gentlemen are a jazz/funk instrumental group. The five long time friends are a who’s who of their local music scene and formed VFG in the fall of 2019. The Gents quickly began to churn out material that would stump any self-respecting genre- classifying search engine algorithm. While the standard jazz/funk moniker certainly applies\, a quick listen to any of the group’s original selections quickly reveals intricate horn arrangements and lush keyboards that cross into any number of sub-genres. They are a musical box of chocolates for your ears.
URL:https://newcumberlandpa.org/event/very-fine-gentlemen/
LOCATION:West Shore Theatre\, 317 Bridge Street\, New Cumberland\, PA\, 17070\, United States
CATEGORIES:Community
END:VEVENT
BEGIN:VEVENT
DTSTART;TZID=America/New_York:20240518T190000
DTEND;TZID=America/New_York:20240518T210000
DTSTAMP:20260425T123444
CREATED:20240507T123106Z
LAST-MODIFIED:20240507T123106Z
UID:10003911-1716058800-1716066000@newcumberlandpa.org
SUMMARY:Crossfire Hurricane – Rolling Stones Tribute
DESCRIPTION:West Shore Theatre 2nd Anniversary Celebration! \nNew York’s Top Rolling Stones Tribute Band\, Crossfire Hurricane\, captures the essence of the iconic group with their authentic costumes\, spot-on musical arrangements\, and thrilling performances. They bring the timeless anthems of the Stone to life\, embodying their energy and spirit on stage. From the raw energy of “You Got Me Rockin” to the soulful melodies of “Angie”\, every song is faithfully recreated\, promising an unforgettable experience for fans old and new.
URL:https://newcumberlandpa.org/event/crossfire-hurricane-rolling-stones-tribute/
LOCATION:West Shore Theatre\, 317 Bridge Street\, New Cumberland\, PA\, 17070\, United States
CATEGORIES:Community
END:VEVENT
BEGIN:VEVENT
DTSTART;TZID=America/New_York:20240518T090000
DTEND;TZID=America/New_York:20240518T150000
DTSTAMP:20260425T123444
CREATED:20230331T181915Z
LAST-MODIFIED:20230808T161702Z
UID:10002205-1716022800-1716044400@newcumberlandpa.org
SUMMARY:Book Sale
DESCRIPTION:The Friends of the New Cumberland Public Library hold pre-owned book sales on the first and third Saturdays of each month from 9:00 am until 3:00 pm in the Foundation House located across the shared parking lot from the Library. Sales include: hardback and paperback books in fiction and non-fiction\, DVD’s\, music CD’s\, puzzles\, children’s books\, 331/3 rpm vinyl records\, tote bags\, and notecards. The Friends have large collections of all genres of books\, DVD movies\, a children’s book corner\, and “specials” during each sale.  A great selection of gently used and vintage jewelry will also be for sale.
URL:https://newcumberlandpa.org/event/book-sale-31/2024-05-18/
LOCATION:Foundation House at the New Cumberland Public Library\, 1 Benjamin Plaza\, New Cumberland\, PA\, 17070\, United States
ATTACH;FMTTYPE=image/jpeg:https://newcumberlandpa.org/wp-content/uploads/2022/12/book-sales-event.jpg
END:VEVENT
END:VCALENDAR