BEGIN:VCALENDAR
VERSION:2.0
PRODID:-//New Cumberland B&amp;PG - ECPv6.15.17.1//NONSGML v1.0//EN
CALSCALE:GREGORIAN
METHOD:PUBLISH
X-ORIGINAL-URL:https://newcumberlandpa.org
X-WR-CALDESC:Events for New Cumberland B&amp;PG
REFRESH-INTERVAL;VALUE=DURATION:PT1H
X-Robots-Tag:noindex
X-PUBLISHED-TTL:PT1H
BEGIN:VTIMEZONE
TZID:America/New_York
BEGIN:DAYLIGHT
TZOFFSETFROM:-0500
TZOFFSETTO:-0400
TZNAME:EDT
DTSTART:20260308T070000
END:DAYLIGHT
BEGIN:STANDARD
TZOFFSETFROM:-0400
TZOFFSETTO:-0500
TZNAME:EST
DTSTART:20261101T060000
END:STANDARD
BEGIN:DAYLIGHT
TZOFFSETFROM:-0500
TZOFFSETTO:-0400
TZNAME:EDT
DTSTART:20270314T070000
END:DAYLIGHT
BEGIN:STANDARD
TZOFFSETFROM:-0400
TZOFFSETTO:-0500
TZNAME:EST
DTSTART:20271107T060000
END:STANDARD
BEGIN:DAYLIGHT
TZOFFSETFROM:-0500
TZOFFSETTO:-0400
TZNAME:EDT
DTSTART:20280312T070000
END:DAYLIGHT
BEGIN:STANDARD
TZOFFSETFROM:-0400
TZOFFSETTO:-0500
TZNAME:EST
DTSTART:20281105T060000
END:STANDARD
END:VTIMEZONE
BEGIN:VEVENT
DTSTART;TZID=America/New_York:20270216T190000
DTEND;TZID=America/New_York:20270216T203000
DTSTAMP:20260424T055909
CREATED:20221026T154410Z
LAST-MODIFIED:20230920T144708Z
UID:10001636-1802804400-1802809800@newcumberlandpa.org
SUMMARY:Library Board Meeting
DESCRIPTION:
URL:https://newcumberlandpa.org/event/library-board-meeting-11-2/2027-02-16/
LOCATION:New Cumberland Public Library
CATEGORIES:Meetings
END:VEVENT
BEGIN:VEVENT
DTSTART;TZID=America/New_York:20270217T080000
DTEND;TZID=America/New_York:20270217T090000
DTSTAMP:20260424T055909
CREATED:20211213T210153Z
LAST-MODIFIED:20221026T153858Z
UID:10001362-1802851200-1802854800@newcumberlandpa.org
SUMMARY:B&PG Member Meeting
DESCRIPTION:
URL:https://newcumberlandpa.org/event/bpg-member-meeting-22/2027-02-17/
LOCATION:New Cumberland Fire Department\, 319 4th Street\, New Cumberland\, PA\, 17070\, United States
CATEGORIES:Meetings
ORGANIZER;CN="New Cumberland Business & Profesional Group":MAILTO:communicationschairNC@gmail.com
END:VEVENT
BEGIN:VEVENT
DTSTART;TZID=America/New_York:20270217T190000
DTEND;TZID=America/New_York:20270217T200000
DTSTAMP:20260424T055909
CREATED:20221026T154435Z
LAST-MODIFIED:20221026T154436Z
UID:10001704-1802890800-1802894400@newcumberlandpa.org
SUMMARY:Planning Commission Meeting
DESCRIPTION:
URL:https://newcumberlandpa.org/event/planning-commission-meeting-14-2/2027-02-17/
LOCATION:Borough Council Chambers\, 1120 Market Street\, New Cumberland\, PA\, 17070\, United States
CATEGORIES:Meetings
END:VEVENT
BEGIN:VEVENT
DTSTART;TZID=America/New_York:20270220T090000
DTEND;TZID=America/New_York:20270220T150000
DTSTAMP:20260424T055909
CREATED:20230331T181915Z
LAST-MODIFIED:20230808T161702Z
UID:10002238-1803114000-1803135600@newcumberlandpa.org
SUMMARY:Book Sale
DESCRIPTION:The Friends of the New Cumberland Public Library hold pre-owned book sales on the first and third Saturdays of each month from 9:00 am until 3:00 pm in the Foundation House located across the shared parking lot from the Library. Sales include: hardback and paperback books in fiction and non-fiction\, DVD’s\, music CD’s\, puzzles\, children’s books\, 331/3 rpm vinyl records\, tote bags\, and notecards. The Friends have large collections of all genres of books\, DVD movies\, a children’s book corner\, and “specials” during each sale.  A great selection of gently used and vintage jewelry will also be for sale.
URL:https://newcumberlandpa.org/event/book-sale-31/2027-02-20/
LOCATION:Foundation House at the New Cumberland Public Library\, 1 Benjamin Plaza\, New Cumberland\, PA\, 17070\, United States
ATTACH;FMTTYPE=image/jpeg:https://newcumberlandpa.org/wp-content/uploads/2022/12/book-sales-event.jpg
END:VEVENT
BEGIN:VEVENT
DTSTART;TZID=America/New_York:20270224T183000
DTEND;TZID=America/New_York:20270224T193000
DTSTAMP:20260424T055909
CREATED:20240403T161432Z
LAST-MODIFIED:20240403T161525Z
UID:10003874-1803493800-1803497400@newcumberlandpa.org
SUMMARY:Lions Club Meeting
DESCRIPTION:
URL:https://newcumberlandpa.org/event/lions-club-meeting-2/2027-02-24/
LOCATION:American Legion Post 143\, 214 Market Street\, New Cumberland\, PA\, 17070\, United States
ORGANIZER;CN="Lion Club":MAILTO:hopplea@members1st.org
END:VEVENT
BEGIN:VEVENT
DTSTART;TZID=America/New_York:20270304T080000
DTEND;TZID=America/New_York:20270304T090000
DTSTAMP:20260424T055909
CREATED:20240311T152305Z
LAST-MODIFIED:20240311T152307Z
UID:10002027-1804147200-1804150800@newcumberlandpa.org
SUMMARY:B&PG Executive Team Meeting
DESCRIPTION:
URL:https://newcumberlandpa.org/event/bpg-executive-team-meeting-2/2027-03-04/
LOCATION:New Cumberland Fire Department\, 319 4th Street\, New Cumberland\, PA\, 17070\, United States
CATEGORIES:Meetings
ORGANIZER;CN="New Cumberland Business & Profesional Group":MAILTO:communicationschairNC@gmail.com
END:VEVENT
BEGIN:VEVENT
DTSTART;TZID=America/New_York:20270306T090000
DTEND;TZID=America/New_York:20270306T150000
DTSTAMP:20260424T055909
CREATED:20230331T180948Z
LAST-MODIFIED:20230808T161726Z
UID:10002119-1804323600-1804345200@newcumberlandpa.org
SUMMARY:Book Sale
DESCRIPTION:The Friends of the New Cumberland Public Library hold pre-owned book sales on the first and third Saturdays of each month from 9:00 am until 3:00 pm in the Foundation House located across the shared parking lot from the Library. Sales include: hardback and paperback books in fiction and non-fiction\, DVD’s\, music CD’s\, puzzles\, children’s books\, 331/3 rpm vinyl records\, tote bags\, and notecards. The Friends have large collections of all genres of books\, DVD movies\, a children’s book corner\, and “specials” during each sale.  A great selection of gently used and vintage jewelry will also be for sale.
URL:https://newcumberlandpa.org/event/book-sale-30/2027-03-06/
LOCATION:Foundation House at the New Cumberland Public Library\, 1 Benjamin Plaza\, New Cumberland\, PA\, 17070\, United States
ATTACH;FMTTYPE=image/jpeg:https://newcumberlandpa.org/wp-content/uploads/2022/12/book-sales-event.jpg
END:VEVENT
BEGIN:VEVENT
DTSTART;TZID=America/New_York:20270310T113000
DTEND;TZID=America/New_York:20270310T130000
DTSTAMP:20260424T055909
CREATED:20221026T154232Z
LAST-MODIFIED:20221026T154232Z
UID:10001570-1804678200-1804683600@newcumberlandpa.org
SUMMARY:New Cumberland Olde Towne Association Monthly Meeting
DESCRIPTION:The organization is always looking for new members and the public is invited to attend. Lunch is $10.00 for guests and $8.50 for members. Membership is $5.00 a year.  For more information contact Christine Leukus at 717-319-4421 or email her at cvleukus@aol.com.
URL:https://newcumberlandpa.org/event/new-cumberland-olde-towne-association-monthly-meeting-8-2/2027-03-10/
LOCATION:American Legion Post 143\, 214 Market Street\, New Cumberland\, PA\, 17070\, United States
CATEGORIES:Community,Meetings
ORGANIZER;CN="New Cumberland Olde Towne Association":MAILTO:cvleukus@aol.com
END:VEVENT
BEGIN:VEVENT
DTSTART;TZID=America/New_York:20270310T190000
DTEND;TZID=America/New_York:20270310T210000
DTSTAMP:20260424T055909
CREATED:20221026T154317Z
LAST-MODIFIED:20221026T154318Z
UID:10001500-1804705200-1804712400@newcumberlandpa.org
SUMMARY:Borough Council Meeting
DESCRIPTION:
URL:https://newcumberlandpa.org/event/borough-council-meeting-15-2/2027-03-10/
LOCATION:Borough Council Chambers\, 1120 Market Street\, New Cumberland\, PA\, 17070\, United States
CATEGORIES:Meetings
END:VEVENT
BEGIN:VEVENT
DTSTART;TZID=America/New_York:20270316T190000
DTEND;TZID=America/New_York:20270316T203000
DTSTAMP:20260424T055909
CREATED:20221026T154410Z
LAST-MODIFIED:20230920T144708Z
UID:10001637-1805223600-1805229000@newcumberlandpa.org
SUMMARY:Library Board Meeting
DESCRIPTION:
URL:https://newcumberlandpa.org/event/library-board-meeting-11-2/2027-03-16/
LOCATION:New Cumberland Public Library
CATEGORIES:Meetings
END:VEVENT
BEGIN:VEVENT
DTSTART;TZID=America/New_York:20270317T080000
DTEND;TZID=America/New_York:20270317T090000
DTSTAMP:20260424T055909
CREATED:20211213T210153Z
LAST-MODIFIED:20221026T153858Z
UID:10001363-1805270400-1805274000@newcumberlandpa.org
SUMMARY:B&PG Member Meeting
DESCRIPTION:
URL:https://newcumberlandpa.org/event/bpg-member-meeting-22/2027-03-17/
LOCATION:New Cumberland Fire Department\, 319 4th Street\, New Cumberland\, PA\, 17070\, United States
CATEGORIES:Meetings
ORGANIZER;CN="New Cumberland Business & Profesional Group":MAILTO:communicationschairNC@gmail.com
END:VEVENT
BEGIN:VEVENT
DTSTART;TZID=America/New_York:20270317T190000
DTEND;TZID=America/New_York:20270317T200000
DTSTAMP:20260424T055909
CREATED:20221026T154435Z
LAST-MODIFIED:20221026T154436Z
UID:10001705-1805310000-1805313600@newcumberlandpa.org
SUMMARY:Planning Commission Meeting
DESCRIPTION:
URL:https://newcumberlandpa.org/event/planning-commission-meeting-14-2/2027-03-17/
LOCATION:Borough Council Chambers\, 1120 Market Street\, New Cumberland\, PA\, 17070\, United States
CATEGORIES:Meetings
END:VEVENT
BEGIN:VEVENT
DTSTART;TZID=America/New_York:20270320T090000
DTEND;TZID=America/New_York:20270320T150000
DTSTAMP:20260424T055909
CREATED:20230331T181915Z
LAST-MODIFIED:20230808T161702Z
UID:10002239-1805533200-1805554800@newcumberlandpa.org
SUMMARY:Book Sale
DESCRIPTION:The Friends of the New Cumberland Public Library hold pre-owned book sales on the first and third Saturdays of each month from 9:00 am until 3:00 pm in the Foundation House located across the shared parking lot from the Library. Sales include: hardback and paperback books in fiction and non-fiction\, DVD’s\, music CD’s\, puzzles\, children’s books\, 331/3 rpm vinyl records\, tote bags\, and notecards. The Friends have large collections of all genres of books\, DVD movies\, a children’s book corner\, and “specials” during each sale.  A great selection of gently used and vintage jewelry will also be for sale.
URL:https://newcumberlandpa.org/event/book-sale-31/2027-03-20/
LOCATION:Foundation House at the New Cumberland Public Library\, 1 Benjamin Plaza\, New Cumberland\, PA\, 17070\, United States
ATTACH;FMTTYPE=image/jpeg:https://newcumberlandpa.org/wp-content/uploads/2022/12/book-sales-event.jpg
END:VEVENT
BEGIN:VEVENT
DTSTART;TZID=America/New_York:20270324T183000
DTEND;TZID=America/New_York:20270324T193000
DTSTAMP:20260424T055909
CREATED:20240403T161432Z
LAST-MODIFIED:20240403T161525Z
UID:10003875-1805913000-1805916600@newcumberlandpa.org
SUMMARY:Lions Club Meeting
DESCRIPTION:
URL:https://newcumberlandpa.org/event/lions-club-meeting-2/2027-03-24/
LOCATION:American Legion Post 143\, 214 Market Street\, New Cumberland\, PA\, 17070\, United States
ORGANIZER;CN="Lion Club":MAILTO:hopplea@members1st.org
END:VEVENT
BEGIN:VEVENT
DTSTART;TZID=America/New_York:20270401T080000
DTEND;TZID=America/New_York:20270401T090000
DTSTAMP:20260424T055909
CREATED:20240311T152305Z
LAST-MODIFIED:20240311T152307Z
UID:10002028-1806566400-1806570000@newcumberlandpa.org
SUMMARY:B&PG Executive Team Meeting
DESCRIPTION:
URL:https://newcumberlandpa.org/event/bpg-executive-team-meeting-2/2027-04-01/
LOCATION:New Cumberland Fire Department\, 319 4th Street\, New Cumberland\, PA\, 17070\, United States
CATEGORIES:Meetings
ORGANIZER;CN="New Cumberland Business & Profesional Group":MAILTO:communicationschairNC@gmail.com
END:VEVENT
BEGIN:VEVENT
DTSTART;TZID=America/New_York:20270403T090000
DTEND;TZID=America/New_York:20270403T150000
DTSTAMP:20260424T055909
CREATED:20230331T180948Z
LAST-MODIFIED:20230808T161726Z
UID:10002120-1806742800-1806764400@newcumberlandpa.org
SUMMARY:Book Sale
DESCRIPTION:The Friends of the New Cumberland Public Library hold pre-owned book sales on the first and third Saturdays of each month from 9:00 am until 3:00 pm in the Foundation House located across the shared parking lot from the Library. Sales include: hardback and paperback books in fiction and non-fiction\, DVD’s\, music CD’s\, puzzles\, children’s books\, 331/3 rpm vinyl records\, tote bags\, and notecards. The Friends have large collections of all genres of books\, DVD movies\, a children’s book corner\, and “specials” during each sale.  A great selection of gently used and vintage jewelry will also be for sale.
URL:https://newcumberlandpa.org/event/book-sale-30/2027-04-03/
LOCATION:Foundation House at the New Cumberland Public Library\, 1 Benjamin Plaza\, New Cumberland\, PA\, 17070\, United States
ATTACH;FMTTYPE=image/jpeg:https://newcumberlandpa.org/wp-content/uploads/2022/12/book-sales-event.jpg
END:VEVENT
BEGIN:VEVENT
DTSTART;TZID=America/New_York:20270414T113000
DTEND;TZID=America/New_York:20270414T130000
DTSTAMP:20260424T055909
CREATED:20221026T154232Z
LAST-MODIFIED:20221026T154232Z
UID:10001571-1807702200-1807707600@newcumberlandpa.org
SUMMARY:New Cumberland Olde Towne Association Monthly Meeting
DESCRIPTION:The organization is always looking for new members and the public is invited to attend. Lunch is $10.00 for guests and $8.50 for members. Membership is $5.00 a year.  For more information contact Christine Leukus at 717-319-4421 or email her at cvleukus@aol.com.
URL:https://newcumberlandpa.org/event/new-cumberland-olde-towne-association-monthly-meeting-8-2/2027-04-14/
LOCATION:American Legion Post 143\, 214 Market Street\, New Cumberland\, PA\, 17070\, United States
CATEGORIES:Community,Meetings
ORGANIZER;CN="New Cumberland Olde Towne Association":MAILTO:cvleukus@aol.com
END:VEVENT
BEGIN:VEVENT
DTSTART;TZID=America/New_York:20270414T190000
DTEND;TZID=America/New_York:20270414T210000
DTSTAMP:20260424T055909
CREATED:20221026T154317Z
LAST-MODIFIED:20221026T154318Z
UID:10001501-1807729200-1807736400@newcumberlandpa.org
SUMMARY:Borough Council Meeting
DESCRIPTION:
URL:https://newcumberlandpa.org/event/borough-council-meeting-15-2/2027-04-14/
LOCATION:Borough Council Chambers\, 1120 Market Street\, New Cumberland\, PA\, 17070\, United States
CATEGORIES:Meetings
END:VEVENT
BEGIN:VEVENT
DTSTART;TZID=America/New_York:20270417T090000
DTEND;TZID=America/New_York:20270417T150000
DTSTAMP:20260424T055909
CREATED:20230331T181915Z
LAST-MODIFIED:20230808T161702Z
UID:10002240-1807952400-1807974000@newcumberlandpa.org
SUMMARY:Book Sale
DESCRIPTION:The Friends of the New Cumberland Public Library hold pre-owned book sales on the first and third Saturdays of each month from 9:00 am until 3:00 pm in the Foundation House located across the shared parking lot from the Library. Sales include: hardback and paperback books in fiction and non-fiction\, DVD’s\, music CD’s\, puzzles\, children’s books\, 331/3 rpm vinyl records\, tote bags\, and notecards. The Friends have large collections of all genres of books\, DVD movies\, a children’s book corner\, and “specials” during each sale.  A great selection of gently used and vintage jewelry will also be for sale.
URL:https://newcumberlandpa.org/event/book-sale-31/2027-04-17/
LOCATION:Foundation House at the New Cumberland Public Library\, 1 Benjamin Plaza\, New Cumberland\, PA\, 17070\, United States
ATTACH;FMTTYPE=image/jpeg:https://newcumberlandpa.org/wp-content/uploads/2022/12/book-sales-event.jpg
END:VEVENT
BEGIN:VEVENT
DTSTART;TZID=America/New_York:20270420T190000
DTEND;TZID=America/New_York:20270420T203000
DTSTAMP:20260424T055909
CREATED:20221026T154410Z
LAST-MODIFIED:20230920T144708Z
UID:10001638-1808247600-1808253000@newcumberlandpa.org
SUMMARY:Library Board Meeting
DESCRIPTION:
URL:https://newcumberlandpa.org/event/library-board-meeting-11-2/2027-04-20/
LOCATION:New Cumberland Public Library
CATEGORIES:Meetings
END:VEVENT
BEGIN:VEVENT
DTSTART;TZID=America/New_York:20270421T080000
DTEND;TZID=America/New_York:20270421T090000
DTSTAMP:20260424T055909
CREATED:20211213T210153Z
LAST-MODIFIED:20221026T153858Z
UID:10001364-1808294400-1808298000@newcumberlandpa.org
SUMMARY:B&PG Member Meeting
DESCRIPTION:
URL:https://newcumberlandpa.org/event/bpg-member-meeting-22/2027-04-21/
LOCATION:New Cumberland Fire Department\, 319 4th Street\, New Cumberland\, PA\, 17070\, United States
CATEGORIES:Meetings
ORGANIZER;CN="New Cumberland Business & Profesional Group":MAILTO:communicationschairNC@gmail.com
END:VEVENT
BEGIN:VEVENT
DTSTART;TZID=America/New_York:20270421T190000
DTEND;TZID=America/New_York:20270421T200000
DTSTAMP:20260424T055909
CREATED:20221026T154435Z
LAST-MODIFIED:20221026T154436Z
UID:10001706-1808334000-1808337600@newcumberlandpa.org
SUMMARY:Planning Commission Meeting
DESCRIPTION:
URL:https://newcumberlandpa.org/event/planning-commission-meeting-14-2/2027-04-21/
LOCATION:Borough Council Chambers\, 1120 Market Street\, New Cumberland\, PA\, 17070\, United States
CATEGORIES:Meetings
END:VEVENT
BEGIN:VEVENT
DTSTART;TZID=America/New_York:20270428T183000
DTEND;TZID=America/New_York:20270428T193000
DTSTAMP:20260424T055909
CREATED:20240403T161432Z
LAST-MODIFIED:20240403T161525Z
UID:10003876-1808937000-1808940600@newcumberlandpa.org
SUMMARY:Lions Club Meeting
DESCRIPTION:
URL:https://newcumberlandpa.org/event/lions-club-meeting-2/2027-04-28/
LOCATION:American Legion Post 143\, 214 Market Street\, New Cumberland\, PA\, 17070\, United States
ORGANIZER;CN="Lion Club":MAILTO:hopplea@members1st.org
END:VEVENT
BEGIN:VEVENT
DTSTART;TZID=America/New_York:20270501T090000
DTEND;TZID=America/New_York:20270501T150000
DTSTAMP:20260424T055909
CREATED:20230331T180948Z
LAST-MODIFIED:20230808T161726Z
UID:10002121-1809162000-1809183600@newcumberlandpa.org
SUMMARY:Book Sale
DESCRIPTION:The Friends of the New Cumberland Public Library hold pre-owned book sales on the first and third Saturdays of each month from 9:00 am until 3:00 pm in the Foundation House located across the shared parking lot from the Library. Sales include: hardback and paperback books in fiction and non-fiction\, DVD’s\, music CD’s\, puzzles\, children’s books\, 331/3 rpm vinyl records\, tote bags\, and notecards. The Friends have large collections of all genres of books\, DVD movies\, a children’s book corner\, and “specials” during each sale.  A great selection of gently used and vintage jewelry will also be for sale.
URL:https://newcumberlandpa.org/event/book-sale-30/2027-05-01/
LOCATION:Foundation House at the New Cumberland Public Library\, 1 Benjamin Plaza\, New Cumberland\, PA\, 17070\, United States
ATTACH;FMTTYPE=image/jpeg:https://newcumberlandpa.org/wp-content/uploads/2022/12/book-sales-event.jpg
END:VEVENT
BEGIN:VEVENT
DTSTART;TZID=America/New_York:20270506T080000
DTEND;TZID=America/New_York:20270506T090000
DTSTAMP:20260424T055909
CREATED:20240311T152305Z
LAST-MODIFIED:20240311T152307Z
UID:10002029-1809590400-1809594000@newcumberlandpa.org
SUMMARY:B&PG Executive Team Meeting
DESCRIPTION:
URL:https://newcumberlandpa.org/event/bpg-executive-team-meeting-2/2027-05-06/
LOCATION:New Cumberland Fire Department\, 319 4th Street\, New Cumberland\, PA\, 17070\, United States
CATEGORIES:Meetings
ORGANIZER;CN="New Cumberland Business & Profesional Group":MAILTO:communicationschairNC@gmail.com
END:VEVENT
BEGIN:VEVENT
DTSTART;TZID=America/New_York:20270512T113000
DTEND;TZID=America/New_York:20270512T130000
DTSTAMP:20260424T055909
CREATED:20221026T154232Z
LAST-MODIFIED:20221026T154232Z
UID:10001572-1810121400-1810126800@newcumberlandpa.org
SUMMARY:New Cumberland Olde Towne Association Monthly Meeting
DESCRIPTION:The organization is always looking for new members and the public is invited to attend. Lunch is $10.00 for guests and $8.50 for members. Membership is $5.00 a year.  For more information contact Christine Leukus at 717-319-4421 or email her at cvleukus@aol.com.
URL:https://newcumberlandpa.org/event/new-cumberland-olde-towne-association-monthly-meeting-8-2/2027-05-12/
LOCATION:American Legion Post 143\, 214 Market Street\, New Cumberland\, PA\, 17070\, United States
CATEGORIES:Community,Meetings
ORGANIZER;CN="New Cumberland Olde Towne Association":MAILTO:cvleukus@aol.com
END:VEVENT
BEGIN:VEVENT
DTSTART;TZID=America/New_York:20270512T190000
DTEND;TZID=America/New_York:20270512T210000
DTSTAMP:20260424T055909
CREATED:20221026T154317Z
LAST-MODIFIED:20221026T154318Z
UID:10001502-1810148400-1810155600@newcumberlandpa.org
SUMMARY:Borough Council Meeting
DESCRIPTION:
URL:https://newcumberlandpa.org/event/borough-council-meeting-15-2/2027-05-12/
LOCATION:Borough Council Chambers\, 1120 Market Street\, New Cumberland\, PA\, 17070\, United States
CATEGORIES:Meetings
END:VEVENT
BEGIN:VEVENT
DTSTART;TZID=America/New_York:20270515T090000
DTEND;TZID=America/New_York:20270515T150000
DTSTAMP:20260424T055909
CREATED:20230331T181915Z
LAST-MODIFIED:20230808T161702Z
UID:10002241-1810371600-1810393200@newcumberlandpa.org
SUMMARY:Book Sale
DESCRIPTION:The Friends of the New Cumberland Public Library hold pre-owned book sales on the first and third Saturdays of each month from 9:00 am until 3:00 pm in the Foundation House located across the shared parking lot from the Library. Sales include: hardback and paperback books in fiction and non-fiction\, DVD’s\, music CD’s\, puzzles\, children’s books\, 331/3 rpm vinyl records\, tote bags\, and notecards. The Friends have large collections of all genres of books\, DVD movies\, a children’s book corner\, and “specials” during each sale.  A great selection of gently used and vintage jewelry will also be for sale.
URL:https://newcumberlandpa.org/event/book-sale-31/2027-05-15/
LOCATION:Foundation House at the New Cumberland Public Library\, 1 Benjamin Plaza\, New Cumberland\, PA\, 17070\, United States
ATTACH;FMTTYPE=image/jpeg:https://newcumberlandpa.org/wp-content/uploads/2022/12/book-sales-event.jpg
END:VEVENT
BEGIN:VEVENT
DTSTART;TZID=America/New_York:20270518T190000
DTEND;TZID=America/New_York:20270518T203000
DTSTAMP:20260424T055909
CREATED:20221026T154410Z
LAST-MODIFIED:20230920T144708Z
UID:10001639-1810666800-1810672200@newcumberlandpa.org
SUMMARY:Library Board Meeting
DESCRIPTION:
URL:https://newcumberlandpa.org/event/library-board-meeting-11-2/2027-05-18/
LOCATION:New Cumberland Public Library
CATEGORIES:Meetings
END:VEVENT
BEGIN:VEVENT
DTSTART;TZID=America/New_York:20270519T080000
DTEND;TZID=America/New_York:20270519T090000
DTSTAMP:20260424T055909
CREATED:20211213T210153Z
LAST-MODIFIED:20221026T153858Z
UID:10001365-1810713600-1810717200@newcumberlandpa.org
SUMMARY:B&PG Member Meeting
DESCRIPTION:
URL:https://newcumberlandpa.org/event/bpg-member-meeting-22/2027-05-19/
LOCATION:New Cumberland Fire Department\, 319 4th Street\, New Cumberland\, PA\, 17070\, United States
CATEGORIES:Meetings
ORGANIZER;CN="New Cumberland Business & Profesional Group":MAILTO:communicationschairNC@gmail.com
END:VEVENT
END:VCALENDAR