BEGIN:VCALENDAR
VERSION:2.0
PRODID:-//New Cumberland B&amp;PG - ECPv6.15.17.1//NONSGML v1.0//EN
CALSCALE:GREGORIAN
METHOD:PUBLISH
X-ORIGINAL-URL:https://newcumberlandpa.org
X-WR-CALDESC:Events for New Cumberland B&amp;PG
REFRESH-INTERVAL;VALUE=DURATION:PT1H
X-Robots-Tag:noindex
X-PUBLISHED-TTL:PT1H
BEGIN:VTIMEZONE
TZID:America/New_York
BEGIN:DAYLIGHT
TZOFFSETFROM:-0500
TZOFFSETTO:-0400
TZNAME:EDT
DTSTART:20220313T070000
END:DAYLIGHT
BEGIN:STANDARD
TZOFFSETFROM:-0400
TZOFFSETTO:-0500
TZNAME:EST
DTSTART:20221106T060000
END:STANDARD
BEGIN:DAYLIGHT
TZOFFSETFROM:-0500
TZOFFSETTO:-0400
TZNAME:EDT
DTSTART:20230312T070000
END:DAYLIGHT
BEGIN:STANDARD
TZOFFSETFROM:-0400
TZOFFSETTO:-0500
TZNAME:EST
DTSTART:20231105T060000
END:STANDARD
BEGIN:DAYLIGHT
TZOFFSETFROM:-0500
TZOFFSETTO:-0400
TZNAME:EDT
DTSTART:20240310T070000
END:DAYLIGHT
BEGIN:STANDARD
TZOFFSETFROM:-0400
TZOFFSETTO:-0500
TZNAME:EST
DTSTART:20241103T060000
END:STANDARD
END:VTIMEZONE
BEGIN:VEVENT
DTSTART;TZID=America/New_York:20230513T110000
DTEND;TZID=America/New_York:20230513T190000
DTSTAMP:20260425T230042
CREATED:20230428T164101Z
LAST-MODIFIED:20230428T164139Z
UID:10002320-1683975600-1684004400@newcumberlandpa.org
SUMMARY:Retro & Rad Monthly Free Toy Weekend
DESCRIPTION:Customers of all ages are encouraged to grab one toy from the designated bin\, no purchase necessary
URL:https://newcumberlandpa.org/event/retro-rad-monthly-free-toy-weekend-2/2023-05-13/
LOCATION:Retro & Rad\, 308 Market Street\, New Cumberland\, PA\, 17070
CATEGORIES:Community
END:VEVENT
BEGIN:VEVENT
DTSTART;TZID=America/New_York:20230514T110000
DTEND;TZID=America/New_York:20230514T180000
DTSTAMP:20260425T230042
CREATED:20230428T164214Z
LAST-MODIFIED:20230428T164214Z
UID:10002687-1684062000-1684087200@newcumberlandpa.org
SUMMARY:Retro & Rad Monthly Free Toy Weekend
DESCRIPTION:Customers of all ages are encouraged to grab one toy from the designated bin\, no purchase necessary
URL:https://newcumberlandpa.org/event/retro-rad-monthly-free-toy-weekend-3/
LOCATION:Retro & Rad\, 308 Market Street\, New Cumberland\, PA\, 17070
CATEGORIES:Community
END:VEVENT
BEGIN:VEVENT
DTSTART;TZID=America/New_York:20230516T190000
DTEND;TZID=America/New_York:20230516T203000
DTSTAMP:20260425T230042
CREATED:20221026T154410Z
LAST-MODIFIED:20230920T144708Z
UID:10001591-1684263600-1684269000@newcumberlandpa.org
SUMMARY:Library Board Meeting
DESCRIPTION:
URL:https://newcumberlandpa.org/event/library-board-meeting-11-2/2023-05-16/
LOCATION:New Cumberland Public Library
CATEGORIES:Meetings
END:VEVENT
BEGIN:VEVENT
DTSTART;TZID=America/New_York:20230517T080000
DTEND;TZID=America/New_York:20230517T090000
DTSTAMP:20260425T230042
CREATED:20211213T210153Z
LAST-MODIFIED:20221026T153858Z
UID:10001317-1684310400-1684314000@newcumberlandpa.org
SUMMARY:B&PG Member Meeting
DESCRIPTION:
URL:https://newcumberlandpa.org/event/bpg-member-meeting-22/2023-05-17/
LOCATION:New Cumberland Fire Department\, 319 4th Street\, New Cumberland\, PA\, 17070\, United States
CATEGORIES:Meetings
ORGANIZER;CN="New Cumberland Business & Profesional Group":MAILTO:communicationschairNC@gmail.com
END:VEVENT
BEGIN:VEVENT
DTSTART;TZID=America/New_York:20230517T190000
DTEND;TZID=America/New_York:20230517T200000
DTSTAMP:20260425T230042
CREATED:20221026T154435Z
LAST-MODIFIED:20221026T154436Z
UID:10001659-1684350000-1684353600@newcumberlandpa.org
SUMMARY:Planning Commission Meeting
DESCRIPTION:
URL:https://newcumberlandpa.org/event/planning-commission-meeting-14-2/2023-05-17/
LOCATION:Borough Council Chambers\, 1120 Market Street\, New Cumberland\, PA\, 17070\, United States
CATEGORIES:Meetings
END:VEVENT
BEGIN:VEVENT
DTSTART;TZID=America/New_York:20230520T090000
DTEND;TZID=America/New_York:20230520T150000
DTSTAMP:20260425T230042
CREATED:20230331T181915Z
LAST-MODIFIED:20230808T161702Z
UID:10002193-1684573200-1684594800@newcumberlandpa.org
SUMMARY:Book Sale
DESCRIPTION:The Friends of the New Cumberland Public Library hold pre-owned book sales on the first and third Saturdays of each month from 9:00 am until 3:00 pm in the Foundation House located across the shared parking lot from the Library. Sales include: hardback and paperback books in fiction and non-fiction\, DVD’s\, music CD’s\, puzzles\, children’s books\, 331/3 rpm vinyl records\, tote bags\, and notecards. The Friends have large collections of all genres of books\, DVD movies\, a children’s book corner\, and “specials” during each sale.  A great selection of gently used and vintage jewelry will also be for sale.
URL:https://newcumberlandpa.org/event/book-sale-31/2023-05-20/
LOCATION:Foundation House at the New Cumberland Public Library\, 1 Benjamin Plaza\, New Cumberland\, PA\, 17070\, United States
ATTACH;FMTTYPE=image/jpeg:https://newcumberlandpa.org/wp-content/uploads/2022/12/book-sales-event.jpg
END:VEVENT
BEGIN:VEVENT
DTSTART;TZID=America/New_York:20230525T120000
DTEND;TZID=America/New_York:20230525T140000
DTSTAMP:20260425T230042
CREATED:20230321T155010Z
LAST-MODIFIED:20230414T194526Z
UID:10002060-1685016000-1685023200@newcumberlandpa.org
SUMMARY:U.S. Military Veterans Memorial Salute
DESCRIPTION:All are invited to honor our Veterans and the 500 brave souls resting in peace at Mt. Olivet. Join families\, Cedar Cliff and Red Land JROTC Cadets\, American Legion Post #143\, and other friends of Mt. Olivet for any or all parts of the program: \n\n12 P.M. – 2 P.M.\n12 P.M. Enjoy grilled hot dogs and burgers\n12:30 P.M. Place U.S. Flags at Veteran graves throughout the cemetery\n1:15 P.M. Gather together at the Memorial Flagpole to honor our Veterans
URL:https://newcumberlandpa.org/event/u-s-military-veterans-memorial-salute/
LOCATION:Mt. Olivet Cemetery\, 198 Old York Road\, New Cumberland\, PA\, 17070\, United States
CATEGORIES:Community
ATTACH;FMTTYPE=image/jpeg:https://newcumberlandpa.org/wp-content/uploads/2023/03/Unknown.jpeg
END:VEVENT
BEGIN:VEVENT
DTSTART;TZID=America/New_York:20230527T160000
DTEND;TZID=America/New_York:20230527T180000
DTSTAMP:20260425T230042
CREATED:20230428T162413Z
LAST-MODIFIED:20230428T162413Z
UID:10002313-1685203200-1685210400@newcumberlandpa.org
SUMMARY:Trinity UMC 150th Anniversary Street Party
DESCRIPTION:Join Trinity in celebrating their 150th anniversary! Enjoy free food\, face-painting\, games for all ages\, and prizes galore!
URL:https://newcumberlandpa.org/event/trinity-umc-150th-anniversary-street-party/
LOCATION:Trinity United Methodist Church\, 415 Bridge Street\, New Cumberland\, PA\, 17070\, United States
CATEGORIES:Community
ORGANIZER;CN="Trinity United Methodist Church":MAILTO:office@trinityumnc.com
END:VEVENT
BEGIN:VEVENT
DTSTART;TZID=America/New_York:20230529T113000
DTEND;TZID=America/New_York:20230529T120000
DTSTAMP:20260425T230042
CREATED:20230522T133002Z
LAST-MODIFIED:20230522T133022Z
UID:10002688-1685359800-1685361600@newcumberlandpa.org
SUMMARY:Memorial Service
DESCRIPTION:The American Legions and the Veterans of Foreign Wars along with the New Cumberland Olde Towne Association will be presenting a Memorial Service honoring Veterans on Monday\, May 29th at 11:30 a.m. at Bridge Street and Park Avenue.  Following the service\, the annual Memorial Day Parade will begin at approximately 12:00 p.m.  The community is invited to attend the service at Bridge Street and Park Avenue honoring those that have given their life for our country.  The parade will begin at Park Avenue and will continue on Bridge Street to Third Street.
URL:https://newcumberlandpa.org/event/memorial-service/
LOCATION:Memorial Park\, Bridge Street & Park Avenue\, New Cumberland\, PA\, 17070\, United States
END:VEVENT
BEGIN:VEVENT
DTSTART;TZID=America/New_York:20230529T120000
DTEND;TZID=America/New_York:20230529T140000
DTSTAMP:20260425T230042
CREATED:20230331T194759Z
LAST-MODIFIED:20230522T133057Z
UID:10002264-1685361600-1685368800@newcumberlandpa.org
SUMMARY:Memorial Day Parade
DESCRIPTION:Please join us in the American spirit of paying our respects to those who gave up their lives so we could remain free. A brief Memorial Ceremony will be held at 11:30 a.m. at the VFW Memorial located in Veteran’s Park at Park Avenue and Bridge Street in New Cumberland Borough. The parade will begin immediately following the Memorial Ceremony (approximately 12:00 p.m.) and proceed down Bridge Street to Third Street turning left and ending at Market Square. \nLocation: New Cumberland Borough’s Veteran’s Park at Park Ave & Bridge St
URL:https://newcumberlandpa.org/event/memorial-day-parade/
END:VEVENT
BEGIN:VEVENT
DTSTART;TZID=America/New_York:20230530T170000
DTEND;TZID=America/New_York:20230530T200000
DTSTAMP:20260425T230042
CREATED:20230428T162718Z
LAST-MODIFIED:20230428T162805Z
UID:10002314-1685466000-1685476800@newcumberlandpa.org
SUMMARY:Need a Hand\, Lend a Hand Resource Fair
DESCRIPTION:A resource fair for many resources in South Central PA \nLocation: Fairview Fire Hall\n340 Lewisberry Road\,\nNew Cumberland
URL:https://newcumberlandpa.org/event/need-a-hand-lend-a-hand-resource-fair/
CATEGORIES:Community
END:VEVENT
BEGIN:VEVENT
DTSTART;TZID=America/New_York:20230601T080000
DTEND;TZID=America/New_York:20230601T090000
DTSTAMP:20260425T230042
CREATED:20221026T154840Z
LAST-MODIFIED:20221026T154840Z
UID:10001982-1685606400-1685610000@newcumberlandpa.org
SUMMARY:B&PG Executive Team Meeting
DESCRIPTION:
URL:https://newcumberlandpa.org/event/bpg-executive-team-meeting/2023-06-01/
LOCATION:New Cumberland Fire Department\, 319 4th Street\, New Cumberland\, PA\, 17070\, United States
CATEGORIES:Meetings
ORGANIZER;CN="New Cumberland Business & Profesional Group":MAILTO:communicationschairNC@gmail.com
END:VEVENT
BEGIN:VEVENT
DTSTART;TZID=America/New_York:20230603T090000
DTEND;TZID=America/New_York:20230603T150000
DTSTAMP:20260425T230042
CREATED:20230331T180948Z
LAST-MODIFIED:20230808T161726Z
UID:10002074-1685782800-1685804400@newcumberlandpa.org
SUMMARY:Book Sale
DESCRIPTION:The Friends of the New Cumberland Public Library hold pre-owned book sales on the first and third Saturdays of each month from 9:00 am until 3:00 pm in the Foundation House located across the shared parking lot from the Library. Sales include: hardback and paperback books in fiction and non-fiction\, DVD’s\, music CD’s\, puzzles\, children’s books\, 331/3 rpm vinyl records\, tote bags\, and notecards. The Friends have large collections of all genres of books\, DVD movies\, a children’s book corner\, and “specials” during each sale.  A great selection of gently used and vintage jewelry will also be for sale.
URL:https://newcumberlandpa.org/event/book-sale-30/2023-06-03/
LOCATION:Foundation House at the New Cumberland Public Library\, 1 Benjamin Plaza\, New Cumberland\, PA\, 17070\, United States
ATTACH;FMTTYPE=image/jpeg:https://newcumberlandpa.org/wp-content/uploads/2022/12/book-sales-event.jpg
END:VEVENT
BEGIN:VEVENT
DTSTART;TZID=America/New_York:20230608T170000
DTEND;TZID=America/New_York:20230608T200000
DTSTAMP:20260425T230042
CREATED:20221229T182658Z
LAST-MODIFIED:20221229T182658Z
UID:10002045-1686243600-1686254400@newcumberlandpa.org
SUMMARY:Food Truck and Restaurant Rally
DESCRIPTION:
URL:https://newcumberlandpa.org/event/food-truck-and-restaurant-rally-17/2023-06-08/
LOCATION:Market Square\, 221-235 Market Street\, New Cumberland\, PA\, 17070\, United States
CATEGORIES:Community
ATTACH;FMTTYPE=image/jpeg:https://newcumberlandpa.org/wp-content/uploads/2020/05/food-truck-web-event-art-1.jpg
ORGANIZER;CN="New Cumberland Business & Profesional Group":MAILTO:communicationschairNC@gmail.com
END:VEVENT
BEGIN:VEVENT
DTSTART;TZID=America/New_York:20230612T070000
DTEND;TZID=America/New_York:20230612T210000
DTSTAMP:20260425T230042
CREATED:20230505T132651Z
LAST-MODIFIED:20230623T193927Z
UID:10003115-1686553200-1686603600@newcumberlandpa.org
SUMMARY:Fairy Door Trail
DESCRIPTION:The 6th Annual Fairy Door Trail is set to begin June 12th! \nFollow the path of New Cumberland businesses to find the magical fairy doors and fill in the names of each resident fairy in the passport. Turn in your completed passport at Oxford Hall Celtic Shop and Café and receive a Fairy Certificate\, Harry Potter and fairy treats\, and be entered into a drawing to win prizes. Let’s find those resident fairies! Thank you to our sponsor: New Cumberland Federal Credit Union. \nPick up Fairy Door Passports at: \n\nWeist Hardware\nS&T Bank\nOxford Hall Celtic Shop\nNew Cumberland Public Library\nNew Cumberland Federal Credit Union\, Main Office\n\nClick here to download a Passport.
URL:https://newcumberlandpa.org/event/fairy-door-trail-3-2/2023-06-12/
LOCATION:New Cumberland\, New Cumberland\, PA\, 17070\, United States
CATEGORIES:Community
ORGANIZER;CN="New Cumberland Business & Profesional Group":MAILTO:communicationschairNC@gmail.com
END:VEVENT
BEGIN:VEVENT
DTSTART;TZID=America/New_York:20230613T070000
DTEND;TZID=America/New_York:20230613T210000
DTSTAMP:20260425T230042
CREATED:20230505T132651Z
LAST-MODIFIED:20230623T193927Z
UID:10003116-1686639600-1686690000@newcumberlandpa.org
SUMMARY:Fairy Door Trail
DESCRIPTION:The 6th Annual Fairy Door Trail is set to begin June 12th! \nFollow the path of New Cumberland businesses to find the magical fairy doors and fill in the names of each resident fairy in the passport. Turn in your completed passport at Oxford Hall Celtic Shop and Café and receive a Fairy Certificate\, Harry Potter and fairy treats\, and be entered into a drawing to win prizes. Let’s find those resident fairies! Thank you to our sponsor: New Cumberland Federal Credit Union. \nPick up Fairy Door Passports at: \n\nWeist Hardware\nS&T Bank\nOxford Hall Celtic Shop\nNew Cumberland Public Library\nNew Cumberland Federal Credit Union\, Main Office\n\nClick here to download a Passport.
URL:https://newcumberlandpa.org/event/fairy-door-trail-3-2/2023-06-13/
LOCATION:New Cumberland\, New Cumberland\, PA\, 17070\, United States
CATEGORIES:Community
ORGANIZER;CN="New Cumberland Business & Profesional Group":MAILTO:communicationschairNC@gmail.com
END:VEVENT
BEGIN:VEVENT
DTSTART;TZID=America/New_York:20230614T070000
DTEND;TZID=America/New_York:20230614T210000
DTSTAMP:20260425T230042
CREATED:20230505T132651Z
LAST-MODIFIED:20230623T193927Z
UID:10003117-1686726000-1686776400@newcumberlandpa.org
SUMMARY:Fairy Door Trail
DESCRIPTION:The 6th Annual Fairy Door Trail is set to begin June 12th! \nFollow the path of New Cumberland businesses to find the magical fairy doors and fill in the names of each resident fairy in the passport. Turn in your completed passport at Oxford Hall Celtic Shop and Café and receive a Fairy Certificate\, Harry Potter and fairy treats\, and be entered into a drawing to win prizes. Let’s find those resident fairies! Thank you to our sponsor: New Cumberland Federal Credit Union. \nPick up Fairy Door Passports at: \n\nWeist Hardware\nS&T Bank\nOxford Hall Celtic Shop\nNew Cumberland Public Library\nNew Cumberland Federal Credit Union\, Main Office\n\nClick here to download a Passport.
URL:https://newcumberlandpa.org/event/fairy-door-trail-3-2/2023-06-14/
LOCATION:New Cumberland\, New Cumberland\, PA\, 17070\, United States
CATEGORIES:Community
ORGANIZER;CN="New Cumberland Business & Profesional Group":MAILTO:communicationschairNC@gmail.com
END:VEVENT
BEGIN:VEVENT
DTSTART;TZID=America/New_York:20230614T113000
DTEND;TZID=America/New_York:20230614T130000
DTSTAMP:20260425T230042
CREATED:20221026T154232Z
LAST-MODIFIED:20221026T154232Z
UID:10001525-1686742200-1686747600@newcumberlandpa.org
SUMMARY:New Cumberland Olde Towne Association Monthly Meeting
DESCRIPTION:The organization is always looking for new members and the public is invited to attend. Lunch is $10.00 for guests and $8.50 for members. Membership is $5.00 a year.  For more information contact Christine Leukus at 717-319-4421 or email her at cvleukus@aol.com.
URL:https://newcumberlandpa.org/event/new-cumberland-olde-towne-association-monthly-meeting-8-2/2023-06-14/
LOCATION:American Legion Post 143\, 214 Market Street\, New Cumberland\, PA\, 17070\, United States
CATEGORIES:Community,Meetings
ORGANIZER;CN="New Cumberland Olde Towne Association":MAILTO:cvleukus@aol.com
END:VEVENT
BEGIN:VEVENT
DTSTART;TZID=America/New_York:20230614T190000
DTEND;TZID=America/New_York:20230614T210000
DTSTAMP:20260425T230042
CREATED:20221026T154317Z
LAST-MODIFIED:20221026T154318Z
UID:10001455-1686769200-1686776400@newcumberlandpa.org
SUMMARY:Borough Council Meeting
DESCRIPTION:
URL:https://newcumberlandpa.org/event/borough-council-meeting-15-2/2023-06-14/
LOCATION:Borough Council Chambers\, 1120 Market Street\, New Cumberland\, PA\, 17070\, United States
CATEGORIES:Meetings
END:VEVENT
BEGIN:VEVENT
DTSTART;TZID=America/New_York:20230615T070000
DTEND;TZID=America/New_York:20230615T210000
DTSTAMP:20260425T230042
CREATED:20230505T132651Z
LAST-MODIFIED:20230623T193927Z
UID:10003118-1686812400-1686862800@newcumberlandpa.org
SUMMARY:Fairy Door Trail
DESCRIPTION:The 6th Annual Fairy Door Trail is set to begin June 12th! \nFollow the path of New Cumberland businesses to find the magical fairy doors and fill in the names of each resident fairy in the passport. Turn in your completed passport at Oxford Hall Celtic Shop and Café and receive a Fairy Certificate\, Harry Potter and fairy treats\, and be entered into a drawing to win prizes. Let’s find those resident fairies! Thank you to our sponsor: New Cumberland Federal Credit Union. \nPick up Fairy Door Passports at: \n\nWeist Hardware\nS&T Bank\nOxford Hall Celtic Shop\nNew Cumberland Public Library\nNew Cumberland Federal Credit Union\, Main Office\n\nClick here to download a Passport.
URL:https://newcumberlandpa.org/event/fairy-door-trail-3-2/2023-06-15/
LOCATION:New Cumberland\, New Cumberland\, PA\, 17070\, United States
CATEGORIES:Community
ORGANIZER;CN="New Cumberland Business & Profesional Group":MAILTO:communicationschairNC@gmail.com
END:VEVENT
BEGIN:VEVENT
DTSTART;TZID=America/New_York:20230616T070000
DTEND;TZID=America/New_York:20230616T210000
DTSTAMP:20260425T230042
CREATED:20230505T132651Z
LAST-MODIFIED:20230623T193927Z
UID:10003119-1686898800-1686949200@newcumberlandpa.org
SUMMARY:Fairy Door Trail
DESCRIPTION:The 6th Annual Fairy Door Trail is set to begin June 12th! \nFollow the path of New Cumberland businesses to find the magical fairy doors and fill in the names of each resident fairy in the passport. Turn in your completed passport at Oxford Hall Celtic Shop and Café and receive a Fairy Certificate\, Harry Potter and fairy treats\, and be entered into a drawing to win prizes. Let’s find those resident fairies! Thank you to our sponsor: New Cumberland Federal Credit Union. \nPick up Fairy Door Passports at: \n\nWeist Hardware\nS&T Bank\nOxford Hall Celtic Shop\nNew Cumberland Public Library\nNew Cumberland Federal Credit Union\, Main Office\n\nClick here to download a Passport.
URL:https://newcumberlandpa.org/event/fairy-door-trail-3-2/2023-06-16/
LOCATION:New Cumberland\, New Cumberland\, PA\, 17070\, United States
CATEGORIES:Community
ORGANIZER;CN="New Cumberland Business & Profesional Group":MAILTO:communicationschairNC@gmail.com
END:VEVENT
BEGIN:VEVENT
DTSTART;TZID=America/New_York:20230617T070000
DTEND;TZID=America/New_York:20230617T210000
DTSTAMP:20260425T230042
CREATED:20230505T132651Z
LAST-MODIFIED:20230623T193927Z
UID:10003120-1686985200-1687035600@newcumberlandpa.org
SUMMARY:Fairy Door Trail
DESCRIPTION:The 6th Annual Fairy Door Trail is set to begin June 12th! \nFollow the path of New Cumberland businesses to find the magical fairy doors and fill in the names of each resident fairy in the passport. Turn in your completed passport at Oxford Hall Celtic Shop and Café and receive a Fairy Certificate\, Harry Potter and fairy treats\, and be entered into a drawing to win prizes. Let’s find those resident fairies! Thank you to our sponsor: New Cumberland Federal Credit Union. \nPick up Fairy Door Passports at: \n\nWeist Hardware\nS&T Bank\nOxford Hall Celtic Shop\nNew Cumberland Public Library\nNew Cumberland Federal Credit Union\, Main Office\n\nClick here to download a Passport.
URL:https://newcumberlandpa.org/event/fairy-door-trail-3-2/2023-06-17/
LOCATION:New Cumberland\, New Cumberland\, PA\, 17070\, United States
CATEGORIES:Community
ORGANIZER;CN="New Cumberland Business & Profesional Group":MAILTO:communicationschairNC@gmail.com
END:VEVENT
BEGIN:VEVENT
DTSTART;TZID=America/New_York:20230617T090000
DTEND;TZID=America/New_York:20230617T150000
DTSTAMP:20260425T230042
CREATED:20230331T181915Z
LAST-MODIFIED:20230808T161702Z
UID:10002194-1686992400-1687014000@newcumberlandpa.org
SUMMARY:Book Sale
DESCRIPTION:The Friends of the New Cumberland Public Library hold pre-owned book sales on the first and third Saturdays of each month from 9:00 am until 3:00 pm in the Foundation House located across the shared parking lot from the Library. Sales include: hardback and paperback books in fiction and non-fiction\, DVD’s\, music CD’s\, puzzles\, children’s books\, 331/3 rpm vinyl records\, tote bags\, and notecards. The Friends have large collections of all genres of books\, DVD movies\, a children’s book corner\, and “specials” during each sale.  A great selection of gently used and vintage jewelry will also be for sale.
URL:https://newcumberlandpa.org/event/book-sale-31/2023-06-17/
LOCATION:Foundation House at the New Cumberland Public Library\, 1 Benjamin Plaza\, New Cumberland\, PA\, 17070\, United States
ATTACH;FMTTYPE=image/jpeg:https://newcumberlandpa.org/wp-content/uploads/2022/12/book-sales-event.jpg
END:VEVENT
BEGIN:VEVENT
DTSTART;TZID=America/New_York:20230618T070000
DTEND;TZID=America/New_York:20230618T210000
DTSTAMP:20260425T230042
CREATED:20230505T132651Z
LAST-MODIFIED:20230623T193927Z
UID:10003121-1687071600-1687122000@newcumberlandpa.org
SUMMARY:Fairy Door Trail
DESCRIPTION:The 6th Annual Fairy Door Trail is set to begin June 12th! \nFollow the path of New Cumberland businesses to find the magical fairy doors and fill in the names of each resident fairy in the passport. Turn in your completed passport at Oxford Hall Celtic Shop and Café and receive a Fairy Certificate\, Harry Potter and fairy treats\, and be entered into a drawing to win prizes. Let’s find those resident fairies! Thank you to our sponsor: New Cumberland Federal Credit Union. \nPick up Fairy Door Passports at: \n\nWeist Hardware\nS&T Bank\nOxford Hall Celtic Shop\nNew Cumberland Public Library\nNew Cumberland Federal Credit Union\, Main Office\n\nClick here to download a Passport.
URL:https://newcumberlandpa.org/event/fairy-door-trail-3-2/2023-06-18/
LOCATION:New Cumberland\, New Cumberland\, PA\, 17070\, United States
CATEGORIES:Community
ORGANIZER;CN="New Cumberland Business & Profesional Group":MAILTO:communicationschairNC@gmail.com
END:VEVENT
BEGIN:VEVENT
DTSTART;TZID=America/New_York:20230619T070000
DTEND;TZID=America/New_York:20230619T210000
DTSTAMP:20260425T230042
CREATED:20230505T132651Z
LAST-MODIFIED:20230623T193927Z
UID:10003122-1687158000-1687208400@newcumberlandpa.org
SUMMARY:Fairy Door Trail
DESCRIPTION:The 6th Annual Fairy Door Trail is set to begin June 12th! \nFollow the path of New Cumberland businesses to find the magical fairy doors and fill in the names of each resident fairy in the passport. Turn in your completed passport at Oxford Hall Celtic Shop and Café and receive a Fairy Certificate\, Harry Potter and fairy treats\, and be entered into a drawing to win prizes. Let’s find those resident fairies! Thank you to our sponsor: New Cumberland Federal Credit Union. \nPick up Fairy Door Passports at: \n\nWeist Hardware\nS&T Bank\nOxford Hall Celtic Shop\nNew Cumberland Public Library\nNew Cumberland Federal Credit Union\, Main Office\n\nClick here to download a Passport.
URL:https://newcumberlandpa.org/event/fairy-door-trail-3-2/2023-06-19/
LOCATION:New Cumberland\, New Cumberland\, PA\, 17070\, United States
CATEGORIES:Community
ORGANIZER;CN="New Cumberland Business & Profesional Group":MAILTO:communicationschairNC@gmail.com
END:VEVENT
BEGIN:VEVENT
DTSTART;TZID=America/New_York:20230620T070000
DTEND;TZID=America/New_York:20230620T210000
DTSTAMP:20260425T230042
CREATED:20230505T132651Z
LAST-MODIFIED:20230623T193927Z
UID:10003123-1687244400-1687294800@newcumberlandpa.org
SUMMARY:Fairy Door Trail
DESCRIPTION:The 6th Annual Fairy Door Trail is set to begin June 12th! \nFollow the path of New Cumberland businesses to find the magical fairy doors and fill in the names of each resident fairy in the passport. Turn in your completed passport at Oxford Hall Celtic Shop and Café and receive a Fairy Certificate\, Harry Potter and fairy treats\, and be entered into a drawing to win prizes. Let’s find those resident fairies! Thank you to our sponsor: New Cumberland Federal Credit Union. \nPick up Fairy Door Passports at: \n\nWeist Hardware\nS&T Bank\nOxford Hall Celtic Shop\nNew Cumberland Public Library\nNew Cumberland Federal Credit Union\, Main Office\n\nClick here to download a Passport.
URL:https://newcumberlandpa.org/event/fairy-door-trail-3-2/2023-06-20/
LOCATION:New Cumberland\, New Cumberland\, PA\, 17070\, United States
CATEGORIES:Community
ORGANIZER;CN="New Cumberland Business & Profesional Group":MAILTO:communicationschairNC@gmail.com
END:VEVENT
BEGIN:VEVENT
DTSTART;TZID=America/New_York:20230620T190000
DTEND;TZID=America/New_York:20230620T203000
DTSTAMP:20260425T230042
CREATED:20221026T154410Z
LAST-MODIFIED:20230920T144708Z
UID:10001592-1687287600-1687293000@newcumberlandpa.org
SUMMARY:Library Board Meeting
DESCRIPTION:
URL:https://newcumberlandpa.org/event/library-board-meeting-11-2/2023-06-20/
LOCATION:New Cumberland Public Library
CATEGORIES:Meetings
END:VEVENT
BEGIN:VEVENT
DTSTART;TZID=America/New_York:20230621T070000
DTEND;TZID=America/New_York:20230621T210000
DTSTAMP:20260425T230042
CREATED:20230505T132651Z
LAST-MODIFIED:20230623T193927Z
UID:10003124-1687330800-1687381200@newcumberlandpa.org
SUMMARY:Fairy Door Trail
DESCRIPTION:The 6th Annual Fairy Door Trail is set to begin June 12th! \nFollow the path of New Cumberland businesses to find the magical fairy doors and fill in the names of each resident fairy in the passport. Turn in your completed passport at Oxford Hall Celtic Shop and Café and receive a Fairy Certificate\, Harry Potter and fairy treats\, and be entered into a drawing to win prizes. Let’s find those resident fairies! Thank you to our sponsor: New Cumberland Federal Credit Union. \nPick up Fairy Door Passports at: \n\nWeist Hardware\nS&T Bank\nOxford Hall Celtic Shop\nNew Cumberland Public Library\nNew Cumberland Federal Credit Union\, Main Office\n\nClick here to download a Passport.
URL:https://newcumberlandpa.org/event/fairy-door-trail-3-2/2023-06-21/
LOCATION:New Cumberland\, New Cumberland\, PA\, 17070\, United States
CATEGORIES:Community
ORGANIZER;CN="New Cumberland Business & Profesional Group":MAILTO:communicationschairNC@gmail.com
END:VEVENT
BEGIN:VEVENT
DTSTART;TZID=America/New_York:20230621T080000
DTEND;TZID=America/New_York:20230621T090000
DTSTAMP:20260425T230042
CREATED:20211213T210153Z
LAST-MODIFIED:20221026T153858Z
UID:10001318-1687334400-1687338000@newcumberlandpa.org
SUMMARY:B&PG Member Meeting
DESCRIPTION:
URL:https://newcumberlandpa.org/event/bpg-member-meeting-22/2023-06-21/
LOCATION:New Cumberland Fire Department\, 319 4th Street\, New Cumberland\, PA\, 17070\, United States
CATEGORIES:Meetings
ORGANIZER;CN="New Cumberland Business & Profesional Group":MAILTO:communicationschairNC@gmail.com
END:VEVENT
BEGIN:VEVENT
DTSTART;TZID=America/New_York:20230621T170000
DTEND;TZID=America/New_York:20230621T190000
DTSTAMP:20260425T230042
CREATED:20230616T153732Z
LAST-MODIFIED:20230616T153732Z
UID:10003547-1687366800-1687374000@newcumberlandpa.org
SUMMARY:B&PG Member Mixer
DESCRIPTION:
URL:https://newcumberlandpa.org/event/bpg-member-mixer-9/
END:VEVENT
END:VCALENDAR