BEGIN:VCALENDAR
VERSION:2.0
PRODID:-//New Cumberland B&amp;PG - ECPv6.15.17.1//NONSGML v1.0//EN
CALSCALE:GREGORIAN
METHOD:PUBLISH
X-WR-CALNAME:New Cumberland B&amp;PG
X-ORIGINAL-URL:https://newcumberlandpa.org
X-WR-CALDESC:Events for New Cumberland B&amp;PG
REFRESH-INTERVAL;VALUE=DURATION:PT1H
X-Robots-Tag:noindex
X-PUBLISHED-TTL:PT1H
BEGIN:VTIMEZONE
TZID:America/New_York
BEGIN:DAYLIGHT
TZOFFSETFROM:-0500
TZOFFSETTO:-0400
TZNAME:EDT
DTSTART:20230312T070000
END:DAYLIGHT
BEGIN:STANDARD
TZOFFSETFROM:-0400
TZOFFSETTO:-0500
TZNAME:EST
DTSTART:20231105T060000
END:STANDARD
BEGIN:DAYLIGHT
TZOFFSETFROM:-0500
TZOFFSETTO:-0400
TZNAME:EDT
DTSTART:20240310T070000
END:DAYLIGHT
BEGIN:STANDARD
TZOFFSETFROM:-0400
TZOFFSETTO:-0500
TZNAME:EST
DTSTART:20241103T060000
END:STANDARD
BEGIN:DAYLIGHT
TZOFFSETFROM:-0500
TZOFFSETTO:-0400
TZNAME:EDT
DTSTART:20250309T070000
END:DAYLIGHT
BEGIN:STANDARD
TZOFFSETFROM:-0400
TZOFFSETTO:-0500
TZNAME:EST
DTSTART:20251102T060000
END:STANDARD
END:VTIMEZONE
BEGIN:VEVENT
DTSTART;TZID=America/New_York:20240313T113000
DTEND;TZID=America/New_York:20240313T130000
DTSTAMP:20260425T070909
CREATED:20221026T154232Z
LAST-MODIFIED:20221026T154232Z
UID:10001534-1710329400-1710334800@newcumberlandpa.org
SUMMARY:New Cumberland Olde Towne Association Monthly Meeting
DESCRIPTION:The organization is always looking for new members and the public is invited to attend. Lunch is $10.00 for guests and $8.50 for members. Membership is $5.00 a year.  For more information contact Christine Leukus at 717-319-4421 or email her at cvleukus@aol.com.
URL:https://newcumberlandpa.org/event/new-cumberland-olde-towne-association-monthly-meeting-8-2/2024-03-13/
LOCATION:American Legion Post 143\, 214 Market Street\, New Cumberland\, PA\, 17070\, United States
CATEGORIES:Community,Meetings
ORGANIZER;CN="New Cumberland Olde Towne Association":MAILTO:cvleukus@aol.com
END:VEVENT
BEGIN:VEVENT
DTSTART;TZID=America/New_York:20240313T190000
DTEND;TZID=America/New_York:20240313T210000
DTSTAMP:20260425T070909
CREATED:20221026T154317Z
LAST-MODIFIED:20221026T154318Z
UID:10001464-1710356400-1710363600@newcumberlandpa.org
SUMMARY:Borough Council Meeting
DESCRIPTION:
URL:https://newcumberlandpa.org/event/borough-council-meeting-15-2/2024-03-13/
LOCATION:Borough Council Chambers\, 1120 Market Street\, New Cumberland\, PA\, 17070\, United States
CATEGORIES:Meetings
END:VEVENT
BEGIN:VEVENT
DTSTART;TZID=America/New_York:20240314T170000
DTEND;TZID=America/New_York:20240314T200000
DTSTAMP:20260425T070909
CREATED:20240118T153524Z
LAST-MODIFIED:20240118T153524Z
UID:10003595-1710435600-1710446400@newcumberlandpa.org
SUMMARY:Food Truck and Restaurant Rally
DESCRIPTION:
URL:https://newcumberlandpa.org/event/food-truck-and-restaurant-rally-18/2024-03-14/
LOCATION:Market Square\, 221-235 Market Street\, New Cumberland\, PA\, 17070\, United States
CATEGORIES:Community
ATTACH;FMTTYPE=image/jpeg:https://newcumberlandpa.org/wp-content/uploads/2020/05/food-truck-web-event-art-1.jpg
ORGANIZER;CN="New Cumberland Business & Profesional Group":MAILTO:communicationschairNC@gmail.com
END:VEVENT
BEGIN:VEVENT
DTSTART;TZID=America/New_York:20240316T090000
DTEND;TZID=America/New_York:20240316T150000
DTSTAMP:20260425T070909
CREATED:20230331T181915Z
LAST-MODIFIED:20230808T161702Z
UID:10002203-1710579600-1710601200@newcumberlandpa.org
SUMMARY:Book Sale
DESCRIPTION:The Friends of the New Cumberland Public Library hold pre-owned book sales on the first and third Saturdays of each month from 9:00 am until 3:00 pm in the Foundation House located across the shared parking lot from the Library. Sales include: hardback and paperback books in fiction and non-fiction\, DVD’s\, music CD’s\, puzzles\, children’s books\, 331/3 rpm vinyl records\, tote bags\, and notecards. The Friends have large collections of all genres of books\, DVD movies\, a children’s book corner\, and “specials” during each sale.  A great selection of gently used and vintage jewelry will also be for sale.
URL:https://newcumberlandpa.org/event/book-sale-31/2024-03-16/
LOCATION:Foundation House at the New Cumberland Public Library\, 1 Benjamin Plaza\, New Cumberland\, PA\, 17070\, United States
ATTACH;FMTTYPE=image/jpeg:https://newcumberlandpa.org/wp-content/uploads/2022/12/book-sales-event.jpg
END:VEVENT
BEGIN:VEVENT
DTSTART;TZID=America/New_York:20240316T140000
DTEND;TZID=America/New_York:20240316T200000
DTSTAMP:20260425T070909
CREATED:20240122T173228Z
LAST-MODIFIED:20240122T173229Z
UID:10003800-1710597600-1710619200@newcumberlandpa.org
SUMMARY:The Best St. Patrick's Day Party Ever
DESCRIPTION:Join us for the ultimate St. Patrick’s Day celebration! We will be closing down Bridge Street from 4th to 3rd Street. Our party guarantees an unforgettable experience with live music that will get you on your feet and dancing all night long. Don’t miss the chance to kiss the Blarney Stone for good luck\, or take a shot at our thrilling ice luge. Explore a variety of crafters and food vendors\, offering the finest selection of goods and delectable treats. \nThe 1st Ever St Patrick’s Day Pet Parade\nCalling all pet lovers! Join us for the first-ever New Cumberland Saint Patrick’s Day Pet Parade. Dress up your furry friend in their finest St. Patrick’s Day attire and be a part of this fantastic event that is fun for everyone. If you’re interested in bringing your pet to this exciting parade contact Cathie Heika at cathieheika@gmail.com to register and secure your spot and get more details. Don’t miss out on this wonderful opportunity to celebrate the holiday with your beloved four-legged companion! Prizes awarded for best costumes. \nLive Music and Irish Dancers throughout the Day\nTo host an unforgettable party\, live entertainment is a must. We have a fantastic lineup which includes exceptional bagpipers\, Irish dancers\, and bands such as the Martini Brothers and Crippled\, but Free. Additionally\, the Swisher Sweets will be performing and their full schedule will be posted here in the coming days.  \nFood and Craft Vendors\nThe Best St. Patrick’s Day Party Ever will showcase Irish food along with other food vendors and many craft vendors as well plus support from local businesses to make it an extraordinary celebration.If you are interested in bringing your food truck or crafts to this event just click here and fill out the form on the vendor page and follow the instructions.\nSaintPatricksNC.com\n*must be 21 years of age to consume alcohol and have a wristband provided upon entry.
URL:https://newcumberlandpa.org/event/the-best-st-patricks-day-party-ever/
LOCATION:Downtown New Cumberland\, Bridge Street\, New Cumberland\, PA\, 17070\, United States
ATTACH;FMTTYPE=image/jpeg:https://newcumberlandpa.org/wp-content/uploads/2024/01/best-st-patty-day-party-ever.jpg
ORGANIZER;CN="New Cumberland Olde Towne Association":MAILTO:cvleukus@aol.com
END:VEVENT
BEGIN:VEVENT
DTSTART;TZID=America/New_York:20240319T190000
DTEND;TZID=America/New_York:20240319T203000
DTSTAMP:20260425T070909
CREATED:20221026T154410Z
LAST-MODIFIED:20230920T144708Z
UID:10001601-1710874800-1710880200@newcumberlandpa.org
SUMMARY:Library Board Meeting
DESCRIPTION:
URL:https://newcumberlandpa.org/event/library-board-meeting-11-2/2024-03-19/
LOCATION:New Cumberland Public Library
CATEGORIES:Meetings
END:VEVENT
BEGIN:VEVENT
DTSTART;TZID=America/New_York:20240320T080000
DTEND;TZID=America/New_York:20240320T090000
DTSTAMP:20260425T070909
CREATED:20211213T210153Z
LAST-MODIFIED:20221026T153858Z
UID:10001327-1710921600-1710925200@newcumberlandpa.org
SUMMARY:B&PG Member Meeting
DESCRIPTION:
URL:https://newcumberlandpa.org/event/bpg-member-meeting-22/2024-03-20/
LOCATION:New Cumberland Fire Department\, 319 4th Street\, New Cumberland\, PA\, 17070\, United States
CATEGORIES:Meetings
ORGANIZER;CN="New Cumberland Business & Profesional Group":MAILTO:communicationschairNC@gmail.com
END:VEVENT
BEGIN:VEVENT
DTSTART;TZID=America/New_York:20240320T183000
DTEND;TZID=America/New_York:20240320T203000
DTSTAMP:20260425T070909
CREATED:20240201T175656Z
LAST-MODIFIED:20240201T175729Z
UID:10003808-1710959400-1710966600@newcumberlandpa.org
SUMMARY:New Cumberland Collective Meeting
DESCRIPTION:
URL:https://newcumberlandpa.org/event/new-cumberland-collective-monthly-meeting/2024-03-20/
LOCATION:New Cumberland Fire Department\, 319 4th Street\, New Cumberland\, PA\, 17070\, United States
ATTACH;FMTTYPE=image/png:https://newcumberlandpa.org/wp-content/uploads/2024/02/MONTHLYORGANIZATIONMEETING.png
END:VEVENT
BEGIN:VEVENT
DTSTART;TZID=America/New_York:20240320T190000
DTEND;TZID=America/New_York:20240320T200000
DTSTAMP:20260425T070909
CREATED:20221026T154435Z
LAST-MODIFIED:20221026T154436Z
UID:10001669-1710961200-1710964800@newcumberlandpa.org
SUMMARY:Planning Commission Meeting
DESCRIPTION:
URL:https://newcumberlandpa.org/event/planning-commission-meeting-14-2/2024-03-20/
LOCATION:Borough Council Chambers\, 1120 Market Street\, New Cumberland\, PA\, 17070\, United States
CATEGORIES:Meetings
END:VEVENT
BEGIN:VEVENT
DTSTART;TZID=America/New_York:20240327T183000
DTEND;TZID=America/New_York:20240327T193000
DTSTAMP:20260425T070909
CREATED:20240403T161432Z
LAST-MODIFIED:20240403T161525Z
UID:10003839-1711564200-1711567800@newcumberlandpa.org
SUMMARY:Lions Club Meeting
DESCRIPTION:
URL:https://newcumberlandpa.org/event/lions-club-meeting-2/2024-03-27/
LOCATION:American Legion Post 143\, 214 Market Street\, New Cumberland\, PA\, 17070\, United States
ORGANIZER;CN="Lion Club":MAILTO:hopplea@members1st.org
END:VEVENT
BEGIN:VEVENT
DTSTART;TZID=America/New_York:20240404T080000
DTEND;TZID=America/New_York:20240404T090000
DTSTAMP:20260425T070909
CREATED:20240311T152305Z
LAST-MODIFIED:20240311T152307Z
UID:10001992-1712217600-1712221200@newcumberlandpa.org
SUMMARY:B&PG Executive Team Meeting
DESCRIPTION:
URL:https://newcumberlandpa.org/event/bpg-executive-team-meeting-2/2024-04-04/
LOCATION:New Cumberland Fire Department\, 319 4th Street\, New Cumberland\, PA\, 17070\, United States
CATEGORIES:Meetings
ORGANIZER;CN="New Cumberland Business & Profesional Group":MAILTO:communicationschairNC@gmail.com
END:VEVENT
BEGIN:VEVENT
DTSTART;TZID=America/New_York:20240406T090000
DTEND;TZID=America/New_York:20240406T150000
DTSTAMP:20260425T070909
CREATED:20230331T180948Z
LAST-MODIFIED:20230808T161726Z
UID:10002084-1712394000-1712415600@newcumberlandpa.org
SUMMARY:Book Sale
DESCRIPTION:The Friends of the New Cumberland Public Library hold pre-owned book sales on the first and third Saturdays of each month from 9:00 am until 3:00 pm in the Foundation House located across the shared parking lot from the Library. Sales include: hardback and paperback books in fiction and non-fiction\, DVD’s\, music CD’s\, puzzles\, children’s books\, 331/3 rpm vinyl records\, tote bags\, and notecards. The Friends have large collections of all genres of books\, DVD movies\, a children’s book corner\, and “specials” during each sale.  A great selection of gently used and vintage jewelry will also be for sale.
URL:https://newcumberlandpa.org/event/book-sale-30/2024-04-06/
LOCATION:Foundation House at the New Cumberland Public Library\, 1 Benjamin Plaza\, New Cumberland\, PA\, 17070\, United States
ATTACH;FMTTYPE=image/jpeg:https://newcumberlandpa.org/wp-content/uploads/2022/12/book-sales-event.jpg
END:VEVENT
BEGIN:VEVENT
DTSTART;TZID=America/New_York:20240410T113000
DTEND;TZID=America/New_York:20240410T130000
DTSTAMP:20260425T070909
CREATED:20221026T154232Z
LAST-MODIFIED:20221026T154232Z
UID:10001535-1712748600-1712754000@newcumberlandpa.org
SUMMARY:New Cumberland Olde Towne Association Monthly Meeting
DESCRIPTION:The organization is always looking for new members and the public is invited to attend. Lunch is $10.00 for guests and $8.50 for members. Membership is $5.00 a year.  For more information contact Christine Leukus at 717-319-4421 or email her at cvleukus@aol.com.
URL:https://newcumberlandpa.org/event/new-cumberland-olde-towne-association-monthly-meeting-8-2/2024-04-10/
LOCATION:American Legion Post 143\, 214 Market Street\, New Cumberland\, PA\, 17070\, United States
CATEGORIES:Community,Meetings
ORGANIZER;CN="New Cumberland Olde Towne Association":MAILTO:cvleukus@aol.com
END:VEVENT
BEGIN:VEVENT
DTSTART;TZID=America/New_York:20240410T190000
DTEND;TZID=America/New_York:20240410T210000
DTSTAMP:20260425T070909
CREATED:20221026T154317Z
LAST-MODIFIED:20221026T154318Z
UID:10001465-1712775600-1712782800@newcumberlandpa.org
SUMMARY:Borough Council Meeting
DESCRIPTION:
URL:https://newcumberlandpa.org/event/borough-council-meeting-15-2/2024-04-10/
LOCATION:Borough Council Chambers\, 1120 Market Street\, New Cumberland\, PA\, 17070\, United States
CATEGORIES:Meetings
END:VEVENT
BEGIN:VEVENT
DTSTART;TZID=America/New_York:20240411T170000
DTEND;TZID=America/New_York:20240411T200000
DTSTAMP:20260425T070909
CREATED:20240118T153524Z
LAST-MODIFIED:20240118T153524Z
UID:10003596-1712854800-1712865600@newcumberlandpa.org
SUMMARY:Food Truck and Restaurant Rally
DESCRIPTION:
URL:https://newcumberlandpa.org/event/food-truck-and-restaurant-rally-18/2024-04-11/
LOCATION:Market Square\, 221-235 Market Street\, New Cumberland\, PA\, 17070\, United States
CATEGORIES:Community
ATTACH;FMTTYPE=image/jpeg:https://newcumberlandpa.org/wp-content/uploads/2020/05/food-truck-web-event-art-1.jpg
ORGANIZER;CN="New Cumberland Business & Profesional Group":MAILTO:communicationschairNC@gmail.com
END:VEVENT
BEGIN:VEVENT
DTSTART;TZID=America/New_York:20240414T100000
DTEND;TZID=America/New_York:20240414T160000
DTSTAMP:20260425T070909
CREATED:20240201T180229Z
LAST-MODIFIED:20240201T180229Z
UID:10003818-1713088800-1713110400@newcumberlandpa.org
SUMMARY:New Cumberland Earth & Arts Festival
DESCRIPTION:Join the New Cumberland Public Library as they host the New Cumberland Earth & Arts Festival in partnership with The New Cumberland Collective! The 2nd Annual New Cumberland Earth & Arts Festival is a place to celebrate\, learn\, grow and create\, with environmental advocates\, sustainable fashion\, community art projects\, live music\, food trucks\, Library tours\, a student art exhibit with the Capital Area School for the Arts and much\, much more. There is a full day of family-friendly activities and experiences. We hope to see you there!
URL:https://newcumberlandpa.org/event/new-cumberland-earth-arts-festival-2/
LOCATION:New Cumberland Public Library
ATTACH;FMTTYPE=image/jpeg:https://newcumberlandpa.org/wp-content/uploads/2024/02/404918749_395899459767714_9060916233909776864_n.jpg
END:VEVENT
BEGIN:VEVENT
DTSTART;TZID=America/New_York:20240416T190000
DTEND;TZID=America/New_York:20240416T203000
DTSTAMP:20260425T070909
CREATED:20221026T154410Z
LAST-MODIFIED:20230920T144708Z
UID:10001602-1713294000-1713299400@newcumberlandpa.org
SUMMARY:Library Board Meeting
DESCRIPTION:
URL:https://newcumberlandpa.org/event/library-board-meeting-11-2/2024-04-16/
LOCATION:New Cumberland Public Library
CATEGORIES:Meetings
END:VEVENT
BEGIN:VEVENT
DTSTART;TZID=America/New_York:20240417T080000
DTEND;TZID=America/New_York:20240417T090000
DTSTAMP:20260425T070909
CREATED:20211213T210153Z
LAST-MODIFIED:20221026T153858Z
UID:10001328-1713340800-1713344400@newcumberlandpa.org
SUMMARY:B&PG Member Meeting
DESCRIPTION:
URL:https://newcumberlandpa.org/event/bpg-member-meeting-22/2024-04-17/
LOCATION:New Cumberland Fire Department\, 319 4th Street\, New Cumberland\, PA\, 17070\, United States
CATEGORIES:Meetings
ORGANIZER;CN="New Cumberland Business & Profesional Group":MAILTO:communicationschairNC@gmail.com
END:VEVENT
BEGIN:VEVENT
DTSTART;TZID=America/New_York:20240417T183000
DTEND;TZID=America/New_York:20240417T203000
DTSTAMP:20260425T070909
CREATED:20240201T175656Z
LAST-MODIFIED:20240201T175729Z
UID:10003809-1713378600-1713385800@newcumberlandpa.org
SUMMARY:New Cumberland Collective Meeting
DESCRIPTION:
URL:https://newcumberlandpa.org/event/new-cumberland-collective-monthly-meeting/2024-04-17/
LOCATION:New Cumberland Fire Department\, 319 4th Street\, New Cumberland\, PA\, 17070\, United States
ATTACH;FMTTYPE=image/png:https://newcumberlandpa.org/wp-content/uploads/2024/02/MONTHLYORGANIZATIONMEETING.png
END:VEVENT
BEGIN:VEVENT
DTSTART;TZID=America/New_York:20240417T190000
DTEND;TZID=America/New_York:20240417T200000
DTSTAMP:20260425T070909
CREATED:20221026T154435Z
LAST-MODIFIED:20221026T154436Z
UID:10001670-1713380400-1713384000@newcumberlandpa.org
SUMMARY:Planning Commission Meeting
DESCRIPTION:
URL:https://newcumberlandpa.org/event/planning-commission-meeting-14-2/2024-04-17/
LOCATION:Borough Council Chambers\, 1120 Market Street\, New Cumberland\, PA\, 17070\, United States
CATEGORIES:Meetings
END:VEVENT
BEGIN:VEVENT
DTSTART;TZID=America/New_York:20240420T090000
DTEND;TZID=America/New_York:20240420T150000
DTSTAMP:20260425T070909
CREATED:20230331T181915Z
LAST-MODIFIED:20230808T161702Z
UID:10002204-1713603600-1713625200@newcumberlandpa.org
SUMMARY:Book Sale
DESCRIPTION:The Friends of the New Cumberland Public Library hold pre-owned book sales on the first and third Saturdays of each month from 9:00 am until 3:00 pm in the Foundation House located across the shared parking lot from the Library. Sales include: hardback and paperback books in fiction and non-fiction\, DVD’s\, music CD’s\, puzzles\, children’s books\, 331/3 rpm vinyl records\, tote bags\, and notecards. The Friends have large collections of all genres of books\, DVD movies\, a children’s book corner\, and “specials” during each sale.  A great selection of gently used and vintage jewelry will also be for sale.
URL:https://newcumberlandpa.org/event/book-sale-31/2024-04-20/
LOCATION:Foundation House at the New Cumberland Public Library\, 1 Benjamin Plaza\, New Cumberland\, PA\, 17070\, United States
ATTACH;FMTTYPE=image/jpeg:https://newcumberlandpa.org/wp-content/uploads/2022/12/book-sales-event.jpg
END:VEVENT
BEGIN:VEVENT
DTSTART;TZID=America/New_York:20240424T183000
DTEND;TZID=America/New_York:20240424T193000
DTSTAMP:20260425T070909
CREATED:20240403T161432Z
LAST-MODIFIED:20240403T161525Z
UID:10003840-1713983400-1713987000@newcumberlandpa.org
SUMMARY:Lions Club Meeting
DESCRIPTION:
URL:https://newcumberlandpa.org/event/lions-club-meeting-2/2024-04-24/
LOCATION:American Legion Post 143\, 214 Market Street\, New Cumberland\, PA\, 17070\, United States
ORGANIZER;CN="Lion Club":MAILTO:hopplea@members1st.org
END:VEVENT
BEGIN:VEVENT
DTSTART;TZID=America/New_York:20240502T080000
DTEND;TZID=America/New_York:20240502T090000
DTSTAMP:20260425T070909
CREATED:20240311T152305Z
LAST-MODIFIED:20240311T152307Z
UID:10001993-1714636800-1714640400@newcumberlandpa.org
SUMMARY:B&PG Executive Team Meeting
DESCRIPTION:
URL:https://newcumberlandpa.org/event/bpg-executive-team-meeting-2/2024-05-02/
LOCATION:New Cumberland Fire Department\, 319 4th Street\, New Cumberland\, PA\, 17070\, United States
CATEGORIES:Meetings
ORGANIZER;CN="New Cumberland Business & Profesional Group":MAILTO:communicationschairNC@gmail.com
END:VEVENT
BEGIN:VEVENT
DTSTART;TZID=America/New_York:20240504T090000
DTEND;TZID=America/New_York:20240504T140000
DTSTAMP:20260425T070909
CREATED:20240118T174109Z
LAST-MODIFIED:20240404T182759Z
UID:10003771-1714813200-1714831200@newcumberlandpa.org
SUMMARY:Farmers’ Market On 4th
DESCRIPTION:The New Cumberland Farmers’ Market On 4th returns! The farmers’ market operates each Saturday\, May 4 through October 26\, from 9 a.m. to 2 p.m. rain or shine at 4th and Bridge Streets\, New Cumberland\, in the parking lot of Olde Towne Commons. Elevate your taste buds with locally grown produce\, fresh meats\, homemade baked goods\, and more! NEW this year\, artisans and makers! Look for returning farms and several new vendors. \n  \nClick here for a vendor application.
URL:https://newcumberlandpa.org/event/farmers-market-on-4th-58/2024-05-04/
LOCATION:Kelly Financial Services\, 400 Bridge Street\, New Cumberland\, PA\, 17070\, United States
ATTACH;FMTTYPE=image/jpeg:https://newcumberlandpa.org/wp-content/uploads/2023/04/farmers-market-pics_general.jpg
ORGANIZER;CN="New Cumberland Business & Profesional Group":MAILTO:communicationschairNC@gmail.com
END:VEVENT
BEGIN:VEVENT
DTSTART;TZID=America/New_York:20240504T090000
DTEND;TZID=America/New_York:20240504T150000
DTSTAMP:20260425T070909
CREATED:20230331T180948Z
LAST-MODIFIED:20230808T161726Z
UID:10002085-1714813200-1714834800@newcumberlandpa.org
SUMMARY:Book Sale
DESCRIPTION:The Friends of the New Cumberland Public Library hold pre-owned book sales on the first and third Saturdays of each month from 9:00 am until 3:00 pm in the Foundation House located across the shared parking lot from the Library. Sales include: hardback and paperback books in fiction and non-fiction\, DVD’s\, music CD’s\, puzzles\, children’s books\, 331/3 rpm vinyl records\, tote bags\, and notecards. The Friends have large collections of all genres of books\, DVD movies\, a children’s book corner\, and “specials” during each sale.  A great selection of gently used and vintage jewelry will also be for sale.
URL:https://newcumberlandpa.org/event/book-sale-30/2024-05-04/
LOCATION:Foundation House at the New Cumberland Public Library\, 1 Benjamin Plaza\, New Cumberland\, PA\, 17070\, United States
ATTACH;FMTTYPE=image/jpeg:https://newcumberlandpa.org/wp-content/uploads/2022/12/book-sales-event.jpg
END:VEVENT
BEGIN:VEVENT
DTSTART;TZID=America/New_York:20240504T100000
DTEND;TZID=America/New_York:20240504T160000
DTSTAMP:20260425T070909
CREATED:20240122T175826Z
LAST-MODIFIED:20240122T190042Z
UID:10003802-1714816800-1714838400@newcumberlandpa.org
SUMMARY:Vickie’s Angel Motorcycle Ride
DESCRIPTION:Vickie’s Angel Motorcycle Ride is a community event that is designed to benefit Vickie’s Angel Foundation and the many active cancer treatment patients is serves across 9 counties in Pennsylvania and New Cumberland Borough. It is a family-friendly event that will benefit all with fun and awareness. \nSCHEDULE \n10 a.m. – Registration\, donuts\, and coffee\n11:30 a.m. – Opening Ceremony\n12 p.m. – KSU\n1 p.m. – 4 p.m. – Food\, music\, vendors\, raffles\, and fun \nFor more information contact Doc at (717) 802-0669 or brad@bowerins.com\, brad@bowerins.com or Stephanie at stephanieh@vawalk.org. \nRAIN DATE: May 5\, 2024
URL:https://newcumberlandpa.org/event/vickies-angel-motorcycle-ride-2/
LOCATION:New Cumberland Borough Park\, Front Street & Geary Avenue\, New Cumberland\, Pennsylvania\, 17070\, United States
ATTACH;FMTTYPE=image/png:https://newcumberlandpa.org/wp-content/uploads/2023/03/VAF-Ride-T-shirt-2023-v8.png
END:VEVENT
BEGIN:VEVENT
DTSTART;TZID=America/New_York:20240508T113000
DTEND;TZID=America/New_York:20240508T130000
DTSTAMP:20260425T070909
CREATED:20221026T154232Z
LAST-MODIFIED:20221026T154232Z
UID:10001536-1715167800-1715173200@newcumberlandpa.org
SUMMARY:New Cumberland Olde Towne Association Monthly Meeting
DESCRIPTION:The organization is always looking for new members and the public is invited to attend. Lunch is $10.00 for guests and $8.50 for members. Membership is $5.00 a year.  For more information contact Christine Leukus at 717-319-4421 or email her at cvleukus@aol.com.
URL:https://newcumberlandpa.org/event/new-cumberland-olde-towne-association-monthly-meeting-8-2/2024-05-08/
LOCATION:American Legion Post 143\, 214 Market Street\, New Cumberland\, PA\, 17070\, United States
CATEGORIES:Community,Meetings
ORGANIZER;CN="New Cumberland Olde Towne Association":MAILTO:cvleukus@aol.com
END:VEVENT
BEGIN:VEVENT
DTSTART;TZID=America/New_York:20240508T190000
DTEND;TZID=America/New_York:20240508T210000
DTSTAMP:20260425T070909
CREATED:20221026T154317Z
LAST-MODIFIED:20221026T154318Z
UID:10001466-1715194800-1715202000@newcumberlandpa.org
SUMMARY:Borough Council Meeting
DESCRIPTION:
URL:https://newcumberlandpa.org/event/borough-council-meeting-15-2/2024-05-08/
LOCATION:Borough Council Chambers\, 1120 Market Street\, New Cumberland\, PA\, 17070\, United States
CATEGORIES:Meetings
END:VEVENT
BEGIN:VEVENT
DTSTART;TZID=America/New_York:20240509T170000
DTEND;TZID=America/New_York:20240509T200000
DTSTAMP:20260425T070909
CREATED:20240118T153524Z
LAST-MODIFIED:20240118T153524Z
UID:10003597-1715274000-1715284800@newcumberlandpa.org
SUMMARY:Food Truck and Restaurant Rally
DESCRIPTION:
URL:https://newcumberlandpa.org/event/food-truck-and-restaurant-rally-18/2024-05-09/
LOCATION:Market Square\, 221-235 Market Street\, New Cumberland\, PA\, 17070\, United States
CATEGORIES:Community
ATTACH;FMTTYPE=image/jpeg:https://newcumberlandpa.org/wp-content/uploads/2020/05/food-truck-web-event-art-1.jpg
ORGANIZER;CN="New Cumberland Business & Profesional Group":MAILTO:communicationschairNC@gmail.com
END:VEVENT
BEGIN:VEVENT
DTSTART;TZID=America/New_York:20240511T090000
DTEND;TZID=America/New_York:20240511T140000
DTSTAMP:20260425T070909
CREATED:20240118T174109Z
LAST-MODIFIED:20240404T182759Z
UID:10003772-1715418000-1715436000@newcumberlandpa.org
SUMMARY:Farmers’ Market On 4th
DESCRIPTION:The New Cumberland Farmers’ Market On 4th returns! The farmers’ market operates each Saturday\, May 4 through October 26\, from 9 a.m. to 2 p.m. rain or shine at 4th and Bridge Streets\, New Cumberland\, in the parking lot of Olde Towne Commons. Elevate your taste buds with locally grown produce\, fresh meats\, homemade baked goods\, and more! NEW this year\, artisans and makers! Look for returning farms and several new vendors. \n  \nClick here for a vendor application.
URL:https://newcumberlandpa.org/event/farmers-market-on-4th-58/2024-05-11/
LOCATION:Kelly Financial Services\, 400 Bridge Street\, New Cumberland\, PA\, 17070\, United States
ATTACH;FMTTYPE=image/jpeg:https://newcumberlandpa.org/wp-content/uploads/2023/04/farmers-market-pics_general.jpg
ORGANIZER;CN="New Cumberland Business & Profesional Group":MAILTO:communicationschairNC@gmail.com
END:VEVENT
END:VCALENDAR