BEGIN:VCALENDAR
VERSION:2.0
PRODID:-//New Cumberland B&amp;PG - ECPv6.15.17.1//NONSGML v1.0//EN
CALSCALE:GREGORIAN
METHOD:PUBLISH
X-WR-CALNAME:New Cumberland B&amp;PG
X-ORIGINAL-URL:https://newcumberlandpa.org
X-WR-CALDESC:Events for New Cumberland B&amp;PG
REFRESH-INTERVAL;VALUE=DURATION:PT1H
X-Robots-Tag:noindex
X-PUBLISHED-TTL:PT1H
BEGIN:VTIMEZONE
TZID:America/New_York
BEGIN:DAYLIGHT
TZOFFSETFROM:-0500
TZOFFSETTO:-0400
TZNAME:EDT
DTSTART:20220313T070000
END:DAYLIGHT
BEGIN:STANDARD
TZOFFSETFROM:-0400
TZOFFSETTO:-0500
TZNAME:EST
DTSTART:20221106T060000
END:STANDARD
BEGIN:DAYLIGHT
TZOFFSETFROM:-0500
TZOFFSETTO:-0400
TZNAME:EDT
DTSTART:20230312T070000
END:DAYLIGHT
BEGIN:STANDARD
TZOFFSETFROM:-0400
TZOFFSETTO:-0500
TZNAME:EST
DTSTART:20231105T060000
END:STANDARD
BEGIN:DAYLIGHT
TZOFFSETFROM:-0500
TZOFFSETTO:-0400
TZNAME:EDT
DTSTART:20240310T070000
END:DAYLIGHT
BEGIN:STANDARD
TZOFFSETFROM:-0400
TZOFFSETTO:-0500
TZNAME:EST
DTSTART:20241103T060000
END:STANDARD
END:VTIMEZONE
BEGIN:VEVENT
DTSTART;TZID=America/New_York:20230513T110000
DTEND;TZID=America/New_York:20230513T190000
DTSTAMP:20260426T003939
CREATED:20230428T164101Z
LAST-MODIFIED:20230428T164139Z
UID:10002320-1683975600-1684004400@newcumberlandpa.org
SUMMARY:Retro & Rad Monthly Free Toy Weekend
DESCRIPTION:Customers of all ages are encouraged to grab one toy from the designated bin\, no purchase necessary
URL:https://newcumberlandpa.org/event/retro-rad-monthly-free-toy-weekend-2/2023-05-13/
LOCATION:Retro & Rad\, 308 Market Street\, New Cumberland\, PA\, 17070
CATEGORIES:Community
END:VEVENT
BEGIN:VEVENT
DTSTART;TZID=America/New_York:20230512T110000
DTEND;TZID=America/New_York:20230512T190000
DTSTAMP:20260426T003939
CREATED:20230428T164101Z
LAST-MODIFIED:20230428T164139Z
UID:10002319-1683889200-1683918000@newcumberlandpa.org
SUMMARY:Retro & Rad Monthly Free Toy Weekend
DESCRIPTION:Customers of all ages are encouraged to grab one toy from the designated bin\, no purchase necessary
URL:https://newcumberlandpa.org/event/retro-rad-monthly-free-toy-weekend-2/2023-05-12/
LOCATION:Retro & Rad\, 308 Market Street\, New Cumberland\, PA\, 17070
CATEGORIES:Community
END:VEVENT
BEGIN:VEVENT
DTSTART;TZID=America/New_York:20230511T170000
DTEND;TZID=America/New_York:20230511T200000
DTSTAMP:20260426T003939
CREATED:20221229T182658Z
LAST-MODIFIED:20221229T182658Z
UID:10002044-1683824400-1683835200@newcumberlandpa.org
SUMMARY:Food Truck and Restaurant Rally
DESCRIPTION:
URL:https://newcumberlandpa.org/event/food-truck-and-restaurant-rally-17/2023-05-11/
LOCATION:Market Square\, 221-235 Market Street\, New Cumberland\, PA\, 17070\, United States
CATEGORIES:Community
ATTACH;FMTTYPE=image/jpeg:https://newcumberlandpa.org/wp-content/uploads/2020/05/food-truck-web-event-art-1.jpg
ORGANIZER;CN="New Cumberland Business & Profesional Group":MAILTO:communicationschairNC@gmail.com
END:VEVENT
BEGIN:VEVENT
DTSTART;TZID=America/New_York:20230511T110000
DTEND;TZID=America/New_York:20230511T200000
DTSTAMP:20260426T003939
CREATED:20230428T163953Z
LAST-MODIFIED:20230428T163953Z
UID:10002317-1683802800-1683835200@newcumberlandpa.org
SUMMARY:Retro & Rad Monthly Free Toy Weekend
DESCRIPTION:Customers of all ages are encouraged to grab one toy from the designated bin\, no purchase necessary
URL:https://newcumberlandpa.org/event/retro-rad-monthly-free-toy-weekend/
LOCATION:Retro & Rad\, 308 Market Street\, New Cumberland\, PA\, 17070
CATEGORIES:Community
END:VEVENT
BEGIN:VEVENT
DTSTART;TZID=America/New_York:20230510T190000
DTEND;TZID=America/New_York:20230510T210000
DTSTAMP:20260426T003939
CREATED:20221026T154317Z
LAST-MODIFIED:20221026T154318Z
UID:10001454-1683745200-1683752400@newcumberlandpa.org
SUMMARY:Borough Council Meeting
DESCRIPTION:
URL:https://newcumberlandpa.org/event/borough-council-meeting-15-2/2023-05-10/
LOCATION:Borough Council Chambers\, 1120 Market Street\, New Cumberland\, PA\, 17070\, United States
CATEGORIES:Meetings
END:VEVENT
BEGIN:VEVENT
DTSTART;TZID=America/New_York:20230510T113000
DTEND;TZID=America/New_York:20230510T130000
DTSTAMP:20260426T003939
CREATED:20221026T154232Z
LAST-MODIFIED:20221026T154232Z
UID:10001524-1683718200-1683723600@newcumberlandpa.org
SUMMARY:New Cumberland Olde Towne Association Monthly Meeting
DESCRIPTION:The organization is always looking for new members and the public is invited to attend. Lunch is $10.00 for guests and $8.50 for members. Membership is $5.00 a year.  For more information contact Christine Leukus at 717-319-4421 or email her at cvleukus@aol.com.
URL:https://newcumberlandpa.org/event/new-cumberland-olde-towne-association-monthly-meeting-8-2/2023-05-10/
LOCATION:American Legion Post 143\, 214 Market Street\, New Cumberland\, PA\, 17070\, United States
CATEGORIES:Community,Meetings
ORGANIZER;CN="New Cumberland Olde Towne Association":MAILTO:cvleukus@aol.com
END:VEVENT
BEGIN:VEVENT
DTSTART;TZID=America/New_York:20230507T110000
DTEND;TZID=America/New_York:20230507T170000
DTSTAMP:20260426T003939
CREATED:20230428T163626Z
LAST-MODIFIED:20230428T163627Z
UID:10002316-1683457200-1683478800@newcumberlandpa.org
SUMMARY:Star Wars Sunday: New Cumberland Awakens
DESCRIPTION:Join us on May 7th for Star Wars Sunday: New Cumberland Awakens! The Chris Timmons Team\, Retro and Rad\, and the West Shore Theater are excited to bring you a day filled with all things Star Wars. Meet Chris Timmons at his office at 11:00 am for autographs of the Kenner Death Star Play station for only $10.00. Don’t have anything to sign? No worries\, bring something with you or just come to say hello.\n\nAt 5:00 pm\, head over to the West Shore Movie Theater for an unforgettable concert by the Galactic Empire! General seating tickets are only $20.00\, or you can reserve a booth for $100.00 or a hightop for $45.00.\nTicket Link: https://787694.formovietickets.com:2235/T.ASP?WCI=BT…\n\nThroughout the day\, meet Jedi\, Sith\, and Stormtroopers and check out the amazing Star Wars collections and merchandise from our vendors. If you’re interested in being a vendor\, reserve your space now for only $20.00. May the Force be with you!
URL:https://newcumberlandpa.org/event/star-wars-sunday-new-cumberland-awakens/
LOCATION:Downtown New Cumberland\, Bridge Street\, New Cumberland\, PA\, 17070\, United States
CATEGORIES:Community
ATTACH;FMTTYPE=image/jpeg:https://newcumberlandpa.org/wp-content/uploads/2023/04/340612141_1567560120406139_1557836116317124445_n.jpg
END:VEVENT
BEGIN:VEVENT
DTSTART;TZID=America/New_York:20230507T090000
DTEND;TZID=America/New_York:20230507T130000
DTSTAMP:20260426T003939
CREATED:20230417T190208Z
LAST-MODIFIED:20230417T190208Z
UID:10002308-1683450000-1683464400@newcumberlandpa.org
SUMMARY:Yellow Breeches Riparian Buffer Maintenance
DESCRIPTION:Check back for more information.
URL:https://newcumberlandpa.org/event/yellow-breeches-riparian-buffer-maintenance/
LOCATION:New Cumberland Borough Park\, Front Street & Geary Avenue\, New Cumberland\, Pennsylvania\, 17070\, United States
END:VEVENT
BEGIN:VEVENT
DTSTART;TZID=America/New_York:20230507T090000
DTEND;TZID=America/New_York:20230507T120000
DTSTAMP:20260426T003939
CREATED:20230428T161847Z
LAST-MODIFIED:20230428T161847Z
UID:10002310-1683450000-1683460800@newcumberlandpa.org
SUMMARY:Cars and Coffee Event
DESCRIPTION:Join us at Rippin’ Rides in a new or old cool car or just be a spectator! Donuts and coffee available while supplies last.
URL:https://newcumberlandpa.org/event/cars-and-coffee-event/
LOCATION:Rippin’ Rides\, 1537 Bridge Street\, New Cumberland\, PA\, 17070\, United States
CATEGORIES:Community
END:VEVENT
BEGIN:VEVENT
DTSTART;TZID=America/New_York:20230506T100000
DTEND;TZID=America/New_York:20230506T160000
DTSTAMP:20260426T003939
CREATED:20230331T194600Z
LAST-MODIFIED:20230331T194600Z
UID:10002263-1683367200-1683388800@newcumberlandpa.org
SUMMARY:Vickie’s Angel Motorcycle Ride
DESCRIPTION:Vickie’s Angel Motorcycle Ride is a community event that is designed to benefit Vickie’s Angel Foundation and the many active cancer treatment patients is serves across 9 counties in Pennsylvania and New Cumberland Borough. It is a family-friendly event that will benefit all with fun and awareness. \nCost: $20/rider – $5/passenger \nFor more information contact Doc at (717) 802-0669 or brad@bowerins.com or Stephanie at stephanieh@vawalk.org.
URL:https://newcumberlandpa.org/event/vickies-angel-motorcycle-ride/
LOCATION:New Cumberland Borough Park\, Front Street & Geary Avenue\, New Cumberland\, Pennsylvania\, 17070\, United States
ATTACH;FMTTYPE=image/png:https://newcumberlandpa.org/wp-content/uploads/2023/03/VAF-Ride-T-shirt-2023-v8.png
END:VEVENT
BEGIN:VEVENT
DTSTART;TZID=America/New_York:20230506T090000
DTEND;TZID=America/New_York:20230506T180000
DTSTAMP:20260426T003939
CREATED:20230417T185910Z
LAST-MODIFIED:20230417T190013Z
UID:10002307-1683363600-1683396000@newcumberlandpa.org
SUMMARY:Spring Flower Sale
DESCRIPTION:New Cumberland Volunteer Fire Department’s Spring Flower Sale\nThursday\, May 4th – Sunday\, May 7th (or until sold out)\n9am – 6pm
URL:https://newcumberlandpa.org/event/spring-flower-sale/2023-05-06/
LOCATION:Kelly Financial Services\, 400 Bridge Street\, New Cumberland\, PA\, 17070\, United States
END:VEVENT
BEGIN:VEVENT
DTSTART;TZID=America/New_York:20230506T090000
DTEND;TZID=America/New_York:20230506T150000
DTSTAMP:20260426T003939
CREATED:20230331T180948Z
LAST-MODIFIED:20230808T161726Z
UID:10002073-1683363600-1683385200@newcumberlandpa.org
SUMMARY:Book Sale
DESCRIPTION:The Friends of the New Cumberland Public Library hold pre-owned book sales on the first and third Saturdays of each month from 9:00 am until 3:00 pm in the Foundation House located across the shared parking lot from the Library. Sales include: hardback and paperback books in fiction and non-fiction\, DVD’s\, music CD’s\, puzzles\, children’s books\, 331/3 rpm vinyl records\, tote bags\, and notecards. The Friends have large collections of all genres of books\, DVD movies\, a children’s book corner\, and “specials” during each sale.  A great selection of gently used and vintage jewelry will also be for sale.
URL:https://newcumberlandpa.org/event/book-sale-30/2023-05-06/
LOCATION:Foundation House at the New Cumberland Public Library\, 1 Benjamin Plaza\, New Cumberland\, PA\, 17070\, United States
ATTACH;FMTTYPE=image/jpeg:https://newcumberlandpa.org/wp-content/uploads/2022/12/book-sales-event.jpg
END:VEVENT
BEGIN:VEVENT
DTSTART;TZID=America/New_York:20230505T120000
DTEND;TZID=America/New_York:20230505T140000
DTSTAMP:20260426T003939
CREATED:20230428T161447Z
LAST-MODIFIED:20230428T161523Z
UID:10002309-1683288000-1683295200@newcumberlandpa.org
SUMMARY:First Friday Lunch Event
DESCRIPTION:Join us for lunch! Get to know the Rippin’ Rides team\, tour the shop and talk about any auto service or repair.
URL:https://newcumberlandpa.org/event/first-friday-lunch-event/
LOCATION:Rippin’ Rides\, 1537 Bridge Street\, New Cumberland\, PA\, 17070\, United States
CATEGORIES:Community
END:VEVENT
BEGIN:VEVENT
DTSTART;TZID=America/New_York:20230505T090000
DTEND;TZID=America/New_York:20230505T180000
DTSTAMP:20260426T003939
CREATED:20230417T185910Z
LAST-MODIFIED:20230417T190013Z
UID:10002306-1683277200-1683309600@newcumberlandpa.org
SUMMARY:Spring Flower Sale
DESCRIPTION:New Cumberland Volunteer Fire Department’s Spring Flower Sale\nThursday\, May 4th – Sunday\, May 7th (or until sold out)\n9am – 6pm
URL:https://newcumberlandpa.org/event/spring-flower-sale/2023-05-05/
LOCATION:Kelly Financial Services\, 400 Bridge Street\, New Cumberland\, PA\, 17070\, United States
END:VEVENT
BEGIN:VEVENT
DTSTART;TZID=America/New_York:20230504T180000
DTEND;TZID=America/New_York:20230504T210000
DTSTAMP:20260426T003939
CREATED:20230428T162944Z
LAST-MODIFIED:20230428T162944Z
UID:10002315-1683223200-1683234000@newcumberlandpa.org
SUMMARY:National Day of Prayer
DESCRIPTION:The community is welcome to gather at the stairs of Trinity Church in New Cumberland and enjoy live music from the town band and corporate prayer as we lift up the needs of our town\, our nation\, the world\, and God’s kingdom.
URL:https://newcumberlandpa.org/event/national-day-of-prayer-2/
LOCATION:Trinity United Methodist Church\, 415 Bridge Street\, New Cumberland\, PA\, 17070\, United States
CATEGORIES:Community
ORGANIZER;CN="Trinity United Methodist Church":MAILTO:office@trinityumnc.com
END:VEVENT
BEGIN:VEVENT
DTSTART;TZID=America/New_York:20230504T090000
DTEND;TZID=America/New_York:20230504T180000
DTSTAMP:20260426T003939
CREATED:20230417T185910Z
LAST-MODIFIED:20230417T190013Z
UID:10002305-1683190800-1683223200@newcumberlandpa.org
SUMMARY:Spring Flower Sale
DESCRIPTION:New Cumberland Volunteer Fire Department’s Spring Flower Sale\nThursday\, May 4th – Sunday\, May 7th (or until sold out)\n9am – 6pm
URL:https://newcumberlandpa.org/event/spring-flower-sale/2023-05-04/
LOCATION:Kelly Financial Services\, 400 Bridge Street\, New Cumberland\, PA\, 17070\, United States
END:VEVENT
BEGIN:VEVENT
DTSTART;TZID=America/New_York:20230504T080000
DTEND;TZID=America/New_York:20230504T090000
DTSTAMP:20260426T003939
CREATED:20221026T154840Z
LAST-MODIFIED:20221026T154840Z
UID:10001981-1683187200-1683190800@newcumberlandpa.org
SUMMARY:B&PG Executive Team Meeting
DESCRIPTION:
URL:https://newcumberlandpa.org/event/bpg-executive-team-meeting/2023-05-04/
LOCATION:New Cumberland Fire Department\, 319 4th Street\, New Cumberland\, PA\, 17070\, United States
CATEGORIES:Meetings
ORGANIZER;CN="New Cumberland Business & Profesional Group":MAILTO:communicationschairNC@gmail.com
END:VEVENT
BEGIN:VEVENT
DTSTART;TZID=America/New_York:20230430T160000
DTEND;TZID=America/New_York:20230430T190000
DTSTAMP:20260426T003939
CREATED:20230331T195546Z
LAST-MODIFIED:20230331T195546Z
UID:10002266-1682870400-1682881200@newcumberlandpa.org
SUMMARY:The Wind Down @ West Shore Theatre
DESCRIPTION:Nobody’s Pen presents House of Poetry – An Intimate and Poetic Open Mic Experience \nCelebrate the final day of National Poetry Month by joining New Cumberland Collective for a poetry open mic experience. Tiger Rose\, a spoken word poet from Harrisburg\, will be the featured artist.
URL:https://newcumberlandpa.org/event/the-wind-down-west-shore-theatre-2/
LOCATION:West Shore Theatre\, 317 Bridge Street\, New Cumberland\, PA\, 17070\, United States
ATTACH;FMTTYPE=image/jpeg:https://newcumberlandpa.org/wp-content/uploads/2023/03/338744914_898851204709784_2043601232704801418_n.jpg
END:VEVENT
BEGIN:VEVENT
DTSTART;TZID=America/New_York:20230429T080000
DTEND;TZID=America/New_York:20230429T140000
DTSTAMP:20260426T003939
CREATED:20230331T192134Z
LAST-MODIFIED:20230331T192134Z
UID:10002261-1682755200-1682776800@newcumberlandpa.org
SUMMARY:The Friends of the New Cumberland Public Library Plant Sale
DESCRIPTION:The Friends of the New Cumberland Public Library will hold their annual plant sale on Saturday\, April 29 from 8:00 AM until 2:00 PM on the lawn area of Foundation House. The plant sale will feature annuals\, vegetables\, herbs\, perennials\, and hanging baskets at bargain basement prices! Concessions will be available.
URL:https://newcumberlandpa.org/event/the-friends-of-the-new-cumberland-public-library-plant-sale/
LOCATION:Foundation House at the New Cumberland Public Library\, 1 Benjamin Plaza\, New Cumberland\, PA\, 17070\, United States
ATTACH;FMTTYPE=image/png:https://newcumberlandpa.org/wp-content/uploads/2023/03/plant-sale-widget_opt.png
END:VEVENT
BEGIN:VEVENT
DTSTART;TZID=America/New_York:20230423T183000
DTEND;TZID=America/New_York:20230423T210000
DTSTAMP:20260426T003939
CREATED:20230331T195312Z
LAST-MODIFIED:20230331T195312Z
UID:10002265-1682274600-1682283600@newcumberlandpa.org
SUMMARY:The Wind Down @ West Shore Theatre
DESCRIPTION:The Wind Down at the West Shore Theatre is a local indie music series.\nIn April they’re welcoming York PA’s Public Disco Porch with opening acts from Autumn Sky Hall and the Barrelmen.\nTickets start at $10 and can be purchased at bit.ly/pdporch
URL:https://newcumberlandpa.org/event/the-wind-down-west-shore-theatre/
LOCATION:West Shore Theatre\, 317 Bridge Street\, New Cumberland\, PA\, 17070\, United States
END:VEVENT
BEGIN:VEVENT
DTSTART;TZID=America/New_York:20230419T190000
DTEND;TZID=America/New_York:20230419T200000
DTSTAMP:20260426T003939
CREATED:20221026T154435Z
LAST-MODIFIED:20221026T154436Z
UID:10001658-1681930800-1681934400@newcumberlandpa.org
SUMMARY:Planning Commission Meeting
DESCRIPTION:
URL:https://newcumberlandpa.org/event/planning-commission-meeting-14-2/2023-04-19/
LOCATION:Borough Council Chambers\, 1120 Market Street\, New Cumberland\, PA\, 17070\, United States
CATEGORIES:Meetings
END:VEVENT
BEGIN:VEVENT
DTSTART;TZID=America/New_York:20230419T080000
DTEND;TZID=America/New_York:20230419T090000
DTSTAMP:20260426T003939
CREATED:20211213T210153Z
LAST-MODIFIED:20221026T153858Z
UID:10001316-1681891200-1681894800@newcumberlandpa.org
SUMMARY:B&PG Member Meeting
DESCRIPTION:
URL:https://newcumberlandpa.org/event/bpg-member-meeting-22/2023-04-19/
LOCATION:New Cumberland Fire Department\, 319 4th Street\, New Cumberland\, PA\, 17070\, United States
CATEGORIES:Meetings
ORGANIZER;CN="New Cumberland Business & Profesional Group":MAILTO:communicationschairNC@gmail.com
END:VEVENT
BEGIN:VEVENT
DTSTART;TZID=America/New_York:20230418T190000
DTEND;TZID=America/New_York:20230418T203000
DTSTAMP:20260426T003939
CREATED:20221026T154410Z
LAST-MODIFIED:20230920T144708Z
UID:10001590-1681844400-1681849800@newcumberlandpa.org
SUMMARY:Library Board Meeting
DESCRIPTION:
URL:https://newcumberlandpa.org/event/library-board-meeting-11-2/2023-04-18/
LOCATION:New Cumberland Public Library
CATEGORIES:Meetings
END:VEVENT
BEGIN:VEVENT
DTSTART;TZID=America/New_York:20230416T110000
DTEND;TZID=America/New_York:20230416T180000
DTSTAMP:20260426T003939
CREATED:20230331T191651Z
LAST-MODIFIED:20230331T191828Z
UID:10002259-1681642800-1681668000@newcumberlandpa.org
SUMMARY:Retro & Rad 2nd Anniversary Sale
DESCRIPTION:Celebrate Retro & Rad’s 2nd Anniversary in New Cumberland! The entire store will be on sale! Spend up to $149.99 and get 10% off your total purchase\, or spend $150 or more and get 20% off your total purchase!!\nValid 4/15/23 and 4/16/23 only\, cannot be combined with any other offer.
URL:https://newcumberlandpa.org/event/retro-rad-2nd-anniversary-sale/2023-04-16/
LOCATION:Retro & Rad\, 308 Market Street\, New Cumberland\, PA\, 17070
END:VEVENT
BEGIN:VEVENT
DTSTART;TZID=America/New_York:20230416T100000
DTEND;TZID=America/New_York:20230416T150000
DTSTAMP:20260426T003939
CREATED:20230331T192839Z
LAST-MODIFIED:20230331T192840Z
UID:10002262-1681639200-1681657200@newcumberlandpa.org
SUMMARY:New Cumberland Earth & Arts Festival
DESCRIPTION:Join the New Cumberland Public Library as they host the New Cumberland Earth & Arts Festival in partnership with The New Cumberland Collective and the Longwood Gardens Community Read Program! The New Cumberland Earth & Arts Festival is a place to celebrate\, learn\, grow and create\, with environmental advocates\, sustainable fashion\, community art projects\, live music\, food trucks\, Library tours\, a student art exhibit with the Capital Area School for the Arts and much\, much more. There is a full day of family-friendly activities and experiences. For a complete schedule and more information visit the event website. Special thanks to festival sponsors Pennsylvania American Water\, Highland Gardens\, and Korealicious\, as well to our volunteer partners at The Collective. We hope to see you there!
URL:https://newcumberlandpa.org/event/new-cumberland-earth-arts-festival/
LOCATION:New Cumberland Public Library
ATTACH;FMTTYPE=image/png:https://newcumberlandpa.org/wp-content/uploads/2023/03/338882786_914895429628275_8746840290300984549_n.png
END:VEVENT
BEGIN:VEVENT
DTSTART;TZID=America/New_York:20230415T110000
DTEND;TZID=America/New_York:20230415T180000
DTSTAMP:20260426T003939
CREATED:20230331T191651Z
LAST-MODIFIED:20230331T191828Z
UID:10002258-1681556400-1681581600@newcumberlandpa.org
SUMMARY:Retro & Rad 2nd Anniversary Sale
DESCRIPTION:Celebrate Retro & Rad’s 2nd Anniversary in New Cumberland! The entire store will be on sale! Spend up to $149.99 and get 10% off your total purchase\, or spend $150 or more and get 20% off your total purchase!!\nValid 4/15/23 and 4/16/23 only\, cannot be combined with any other offer.
URL:https://newcumberlandpa.org/event/retro-rad-2nd-anniversary-sale/2023-04-15/2/
LOCATION:Retro & Rad\, 308 Market Street\, New Cumberland\, PA\, 17070
END:VEVENT
BEGIN:VEVENT
DTSTART;TZID=America/New_York:20230415T090000
DTEND;TZID=America/New_York:20230415T150000
DTSTAMP:20260426T003939
CREATED:20230331T181915Z
LAST-MODIFIED:20230808T161702Z
UID:10002192-1681549200-1681570800@newcumberlandpa.org
SUMMARY:Book Sale
DESCRIPTION:The Friends of the New Cumberland Public Library hold pre-owned book sales on the first and third Saturdays of each month from 9:00 am until 3:00 pm in the Foundation House located across the shared parking lot from the Library. Sales include: hardback and paperback books in fiction and non-fiction\, DVD’s\, music CD’s\, puzzles\, children’s books\, 331/3 rpm vinyl records\, tote bags\, and notecards. The Friends have large collections of all genres of books\, DVD movies\, a children’s book corner\, and “specials” during each sale.  A great selection of gently used and vintage jewelry will also be for sale.
URL:https://newcumberlandpa.org/event/book-sale-31/2023-04-15/
LOCATION:Foundation House at the New Cumberland Public Library\, 1 Benjamin Plaza\, New Cumberland\, PA\, 17070\, United States
ATTACH;FMTTYPE=image/jpeg:https://newcumberlandpa.org/wp-content/uploads/2022/12/book-sales-event.jpg
END:VEVENT
BEGIN:VEVENT
DTSTART;TZID=America/New_York:20230415T080000
DTEND;TZID=America/New_York:20230415T170000
DTSTAMP:20260426T003939
CREATED:20230331T191651Z
LAST-MODIFIED:20230331T191828Z
UID:10002260-1681545600-1681578000@newcumberlandpa.org
SUMMARY:Retro & Rad 2nd Anniversary Sale
DESCRIPTION:Celebrate Retro & Rad’s 2nd Anniversary in New Cumberland! The entire store will be on sale! Spend up to $149.99 and get 10% off your total purchase\, or spend $150 or more and get 20% off your total purchase!!\nValid 4/15/23 and 4/16/23 only\, cannot be combined with any other offer.
URL:https://newcumberlandpa.org/event/retro-rad-2nd-anniversary-sale/2023-04-15/1/
LOCATION:Retro & Rad\, 308 Market Street\, New Cumberland\, PA\, 17070
END:VEVENT
BEGIN:VEVENT
DTSTART;TZID=America/New_York:20230413T170000
DTEND;TZID=America/New_York:20230413T200000
DTSTAMP:20260426T003939
CREATED:20221229T182658Z
LAST-MODIFIED:20221229T182658Z
UID:10002043-1681405200-1681416000@newcumberlandpa.org
SUMMARY:Food Truck and Restaurant Rally
DESCRIPTION:
URL:https://newcumberlandpa.org/event/food-truck-and-restaurant-rally-17/2023-04-13/
LOCATION:Market Square\, 221-235 Market Street\, New Cumberland\, PA\, 17070\, United States
CATEGORIES:Community
ATTACH;FMTTYPE=image/jpeg:https://newcumberlandpa.org/wp-content/uploads/2020/05/food-truck-web-event-art-1.jpg
ORGANIZER;CN="New Cumberland Business & Profesional Group":MAILTO:communicationschairNC@gmail.com
END:VEVENT
BEGIN:VEVENT
DTSTART;TZID=America/New_York:20230412T190000
DTEND;TZID=America/New_York:20230412T210000
DTSTAMP:20260426T003939
CREATED:20221026T154317Z
LAST-MODIFIED:20221026T154318Z
UID:10001453-1681326000-1681333200@newcumberlandpa.org
SUMMARY:Borough Council Meeting
DESCRIPTION:
URL:https://newcumberlandpa.org/event/borough-council-meeting-15-2/2023-04-12/
LOCATION:Borough Council Chambers\, 1120 Market Street\, New Cumberland\, PA\, 17070\, United States
CATEGORIES:Meetings
END:VEVENT
END:VCALENDAR