BEGIN:VCALENDAR
VERSION:2.0
PRODID:-//New Cumberland B&amp;PG - ECPv6.15.17.1//NONSGML v1.0//EN
CALSCALE:GREGORIAN
METHOD:PUBLISH
X-WR-CALNAME:New Cumberland B&amp;PG
X-ORIGINAL-URL:https://newcumberlandpa.org
X-WR-CALDESC:Events for New Cumberland B&amp;PG
REFRESH-INTERVAL;VALUE=DURATION:PT1H
X-Robots-Tag:noindex
X-PUBLISHED-TTL:PT1H
BEGIN:VTIMEZONE
TZID:America/New_York
BEGIN:DAYLIGHT
TZOFFSETFROM:-0500
TZOFFSETTO:-0400
TZNAME:EDT
DTSTART:20190310T070000
END:DAYLIGHT
BEGIN:STANDARD
TZOFFSETFROM:-0400
TZOFFSETTO:-0500
TZNAME:EST
DTSTART:20191103T060000
END:STANDARD
BEGIN:DAYLIGHT
TZOFFSETFROM:-0500
TZOFFSETTO:-0400
TZNAME:EDT
DTSTART:20200308T070000
END:DAYLIGHT
BEGIN:STANDARD
TZOFFSETFROM:-0400
TZOFFSETTO:-0500
TZNAME:EST
DTSTART:20201101T060000
END:STANDARD
BEGIN:DAYLIGHT
TZOFFSETFROM:-0500
TZOFFSETTO:-0400
TZNAME:EDT
DTSTART:20210314T070000
END:DAYLIGHT
BEGIN:STANDARD
TZOFFSETFROM:-0400
TZOFFSETTO:-0500
TZNAME:EST
DTSTART:20211107T060000
END:STANDARD
END:VTIMEZONE
BEGIN:VEVENT
DTSTART;TZID=America/New_York:20200923T170000
DTEND;TZID=America/New_York:20200923T190000
DTSTAMP:20260423T222257
CREATED:20200915T135037Z
LAST-MODIFIED:20201005T193434Z
UID:10001092-1600880400-1600887600@newcumberlandpa.org
SUMMARY:B&PG Member Mixer
DESCRIPTION:
URL:https://newcumberlandpa.org/event/bpg-member-mixer-5/
LOCATION:Parthemore Funeral Home & Cremation Services\, Inc.\, 1303 Bridge Street\, New Cumberland\, PA\, 17070\, United States
CATEGORIES:Member Mixer
ATTACH;FMTTYPE=image/jpeg:https://newcumberlandpa.org/wp-content/uploads/2020/09/member-mixer-flyer_september-20_1.jpg
ORGANIZER;CN="New Cumberland Business & Profesional Group":MAILTO:communicationschairNC@gmail.com
END:VEVENT
BEGIN:VEVENT
DTSTART;TZID=America/New_York:20200819T180000
DTEND;TZID=America/New_York:20200819T210000
DTSTAMP:20260423T222257
CREATED:20200812T153221Z
LAST-MODIFIED:20200812T153321Z
UID:10001085-1597860000-1597870800@newcumberlandpa.org
SUMMARY:B&PG Steakout
DESCRIPTION:
URL:https://newcumberlandpa.org/event/bpg-steakout/
LOCATION:Pleasant View Farm Bed & Breakfast\, 315 Pleasant View Road\, New Cumberland\, PA\, 17070\, United States
CATEGORIES:Member Mixer
ATTACH;FMTTYPE=image/jpeg:https://newcumberlandpa.org/wp-content/uploads/2020/08/BPG-steak-out-20_final.jpg
ORGANIZER;CN="New Cumberland Business & Profesional Group":MAILTO:communicationschairNC@gmail.com
END:VEVENT
BEGIN:VEVENT
DTSTART;TZID=America/New_York:20200729T180000
DTEND;TZID=America/New_York:20200729T200000
DTSTAMP:20260423T222257
CREATED:20200716T190144Z
LAST-MODIFIED:20200716T190225Z
UID:10001080-1596045600-1596052800@newcumberlandpa.org
SUMMARY:B&PG Member Mixer
DESCRIPTION:Good vibes. Good eats.\nJoin us at Good Vibes Deli for an evening of networking and community spirit. Enjoy good vibes\, good food\, and good conversation. D’Angelo Realty Group will graciously underwrite $7 for each B&PG member in attendance who purchases a meal. We hope to see you there! Special thanks to D’Angelo Realty Group for sponsoring and Good Vibes Deli for hosting July’s Member Mixer! \nRSVP by July 24 to Stephanie Franklin via email at CommunicationsChairNC@gmail.com or by calling 717-421-6173.
URL:https://newcumberlandpa.org/event/bpg-member-mixer-4/
LOCATION:Good Vibes Deli\, 701 Bridge Street\, New Cumberland\, PA\, 17070\, United States
CATEGORIES:Member Mixer
ATTACH;FMTTYPE=image/jpeg:https://newcumberlandpa.org/wp-content/uploads/2020/07/member-mixer-flyer_july-20_final.jpg
ORGANIZER;CN="New Cumberland Business & Profesional Group":MAILTO:communicationschairNC@gmail.com
END:VEVENT
BEGIN:VEVENT
DTSTART;TZID=America/New_York:20200623T180000
DTEND;TZID=America/New_York:20200623T200000
DTSTAMP:20260423T222257
CREATED:20200610T192555Z
LAST-MODIFIED:20200610T192633Z
UID:10001075-1592935200-1592942400@newcumberlandpa.org
SUMMARY:B&PG Member Mixer
DESCRIPTION:We are excited to be able to get back together and catch up!\nCome meet and connect with fellow New Cumberland B&PG members at the park for a casual cookout. Our hosts\, Weist Hardware and Coldwell Banker\, will have a grill ready with burgers and hotdogs\, but please bring a side dish to share. We look forward to seeing everyone and getting back to business! \nThank you Jolynn Weist Mascaro and Stephanie Franklin for hosting June’s Member Mixer! \nRSVP by June 19 to Stephanie Franklin via email at CommunicationsChairNC@gmail.com or by calling 717-421-6173.
URL:https://newcumberlandpa.org/event/bpg-member-mixer-3/
LOCATION:New Cumberland Borough Park\, Front Street & Geary Avenue\, New Cumberland\, Pennsylvania\, 17070\, United States
CATEGORIES:Member Mixer
ATTACH;FMTTYPE=image/jpeg:https://newcumberlandpa.org/wp-content/uploads/2020/06/member-mixer-flyer_june-20.jpg
ORGANIZER;CN="New Cumberland Business & Profesional Group":MAILTO:communicationschairNC@gmail.com
END:VEVENT
BEGIN:VEVENT
DTSTART;TZID=America/New_York:20200314T170000
DTEND;TZID=America/New_York:20200314T190000
DTSTAMP:20260423T222257
CREATED:20200308T182110Z
LAST-MODIFIED:20200312T225149Z
UID:10001065-1584205200-1584212400@newcumberlandpa.org
SUMMARY:POSTPONED-B&PG Member Mixer
DESCRIPTION:NEW DATE TBD\nThe Show Must Go On…\nJoin us at the historic West Shore Theatre for an evening of networking and community spirit. Enjoy refreshments\, build relationships with area professionals\, and learn about the Theatre’s exciting future. We encourage you to stay for a free showing of “Woodlawn” at 7 p.m. \nRSVP by March 10 to Stephanie Franklin via email at CommunicationsChairNC@gmail.com or by calling 717-421-6173.
URL:https://newcumberlandpa.org/event/member-mixer/
LOCATION:West Shore Theatre\, 317 Bridge Street\, New Cumberland\, PA\, 17070\, United States
CATEGORIES:Member Mixer
ATTACH;FMTTYPE=image/png:https://newcumberlandpa.org/wp-content/uploads/2020/03/march-member-mixer.png
ORGANIZER;CN="New Cumberland Business & Profesional Group":MAILTO:communicationschairNC@gmail.com
END:VEVENT
END:VCALENDAR