BEGIN:VCALENDAR
VERSION:2.0
PRODID:-//New Cumberland B&amp;PG - ECPv6.15.17.1//NONSGML v1.0//EN
CALSCALE:GREGORIAN
METHOD:PUBLISH
X-ORIGINAL-URL:https://newcumberlandpa.org
X-WR-CALDESC:Events for New Cumberland B&amp;PG
REFRESH-INTERVAL;VALUE=DURATION:PT1H
X-Robots-Tag:noindex
X-PUBLISHED-TTL:PT1H
BEGIN:VTIMEZONE
TZID:America/New_York
BEGIN:DAYLIGHT
TZOFFSETFROM:-0500
TZOFFSETTO:-0400
TZNAME:EDT
DTSTART:20190310T070000
END:DAYLIGHT
BEGIN:STANDARD
TZOFFSETFROM:-0400
TZOFFSETTO:-0500
TZNAME:EST
DTSTART:20191103T060000
END:STANDARD
BEGIN:DAYLIGHT
TZOFFSETFROM:-0500
TZOFFSETTO:-0400
TZNAME:EDT
DTSTART:20200308T070000
END:DAYLIGHT
BEGIN:STANDARD
TZOFFSETFROM:-0400
TZOFFSETTO:-0500
TZNAME:EST
DTSTART:20201101T060000
END:STANDARD
BEGIN:DAYLIGHT
TZOFFSETFROM:-0500
TZOFFSETTO:-0400
TZNAME:EDT
DTSTART:20210314T070000
END:DAYLIGHT
BEGIN:STANDARD
TZOFFSETFROM:-0400
TZOFFSETTO:-0500
TZNAME:EST
DTSTART:20211107T060000
END:STANDARD
BEGIN:DAYLIGHT
TZOFFSETFROM:-0500
TZOFFSETTO:-0400
TZNAME:EDT
DTSTART:20220313T070000
END:DAYLIGHT
BEGIN:STANDARD
TZOFFSETFROM:-0400
TZOFFSETTO:-0500
TZNAME:EST
DTSTART:20221106T060000
END:STANDARD
END:VTIMEZONE
BEGIN:VEVENT
DTSTART;TZID=America/New_York:20210204T080000
DTEND;TZID=America/New_York:20210204T090000
DTSTAMP:20260425T210358
CREATED:20210115T154717Z
LAST-MODIFIED:20210115T154717Z
UID:10001127-1612425600-1612429200@newcumberlandpa.org
SUMMARY:B&PG Board Meeting
DESCRIPTION:
URL:https://newcumberlandpa.org/event/bpg-board-meeting-5/
LOCATION:New Cumberland Fire Department\, 319 4th Street\, New Cumberland\, PA\, 17070\, United States
CATEGORIES:Meetings
ORGANIZER;CN="New Cumberland Business & Profesional Group":MAILTO:communicationschairNC@gmail.com
END:VEVENT
BEGIN:VEVENT
DTSTART;TZID=America/New_York:20210125T180000
DTEND;TZID=America/New_York:20210125T190000
DTSTAMP:20260425T210358
CREATED:20210115T154548Z
LAST-MODIFIED:20210115T154548Z
UID:10001125-1611597600-1611601200@newcumberlandpa.org
SUMMARY:Codes Enforcement Renewal Committee Meeting
DESCRIPTION:
URL:https://newcumberlandpa.org/event/codes-enforcement-renewal-committee-meeting-4/
LOCATION:Borough Council Chambers\, 1120 Market Street\, New Cumberland\, PA\, 17070\, United States
CATEGORIES:Meetings
END:VEVENT
BEGIN:VEVENT
DTSTART;TZID=America/New_York:20210120T190000
DTEND;TZID=America/New_York:20210120T200000
DTSTAMP:20260425T210358
CREATED:20210115T154615Z
LAST-MODIFIED:20210115T154615Z
UID:10001126-1611169200-1611172800@newcumberlandpa.org
SUMMARY:Planning Commission Meeting
DESCRIPTION:
URL:https://newcumberlandpa.org/event/planning-commission-meeting-2/
LOCATION:Borough Council Chambers\, 1120 Market Street\, New Cumberland\, PA\, 17070\, United States
CATEGORIES:Meetings
END:VEVENT
BEGIN:VEVENT
DTSTART;TZID=America/New_York:20210120T080000
DTEND;TZID=America/New_York:20210120T090000
DTSTAMP:20260425T210358
CREATED:20201201T221452Z
LAST-MODIFIED:20201201T221452Z
UID:10001119-1611129600-1611133200@newcumberlandpa.org
SUMMARY:B&PG Member Meeting
DESCRIPTION:
URL:https://newcumberlandpa.org/event/bpg-member-meeting-10/
LOCATION:New Cumberland Fire Department\, 319 4th Street\, New Cumberland\, PA\, 17070\, United States
CATEGORIES:Meetings
ORGANIZER;CN="New Cumberland Business & Profesional Group":MAILTO:communicationschairNC@gmail.com
END:VEVENT
BEGIN:VEVENT
DTSTART;TZID=America/New_York:20210113T190000
DTEND;TZID=America/New_York:20210113T210000
DTSTAMP:20260425T210358
CREATED:20201201T220150Z
LAST-MODIFIED:20201201T220150Z
UID:10001113-1610564400-1610571600@newcumberlandpa.org
SUMMARY:Borough Council Meeting
DESCRIPTION:
URL:https://newcumberlandpa.org/event/borough-council-meeting-3/
LOCATION:Borough Council Chambers\, 1120 Market Street\, New Cumberland\, PA\, 17070\, United States
CATEGORIES:Meetings
END:VEVENT
BEGIN:VEVENT
DTSTART;TZID=America/New_York:20210111T180000
DTEND;TZID=America/New_York:20210111T190000
DTSTAMP:20260425T210358
CREATED:20210115T154516Z
LAST-MODIFIED:20210115T154516Z
UID:10001124-1610388000-1610391600@newcumberlandpa.org
SUMMARY:Codes Enforcement Renewal Committee Meeting
DESCRIPTION:
URL:https://newcumberlandpa.org/event/codes-enforcement-renewal-committee-meeting-3/
LOCATION:Borough Council Chambers\, 1120 Market Street\, New Cumberland\, PA\, 17070\, United States
CATEGORIES:Meetings
END:VEVENT
BEGIN:VEVENT
DTSTART;TZID=America/New_York:20210107T080000
DTEND;TZID=America/New_York:20210107T090000
DTSTAMP:20260425T210358
CREATED:20201201T221421Z
LAST-MODIFIED:20201201T221421Z
UID:10001118-1610006400-1610010000@newcumberlandpa.org
SUMMARY:B&PG Board Meeting
DESCRIPTION:
URL:https://newcumberlandpa.org/event/bpg-board-meeting-4/
LOCATION:New Cumberland Fire Department\, 319 4th Street\, New Cumberland\, PA\, 17070\, United States
CATEGORIES:Meetings
ORGANIZER;CN="New Cumberland Business & Profesional Group":MAILTO:communicationschairNC@gmail.com
END:VEVENT
BEGIN:VEVENT
DTSTART;TZID=America/New_York:20201228T180000
DTEND;TZID=America/New_York:20201228T190000
DTSTAMP:20260425T210358
CREATED:20201201T220610Z
LAST-MODIFIED:20201201T220610Z
UID:10001116-1609178400-1609182000@newcumberlandpa.org
SUMMARY:Codes Enforcement Renewal Committee Meeting
DESCRIPTION:
URL:https://newcumberlandpa.org/event/codes-enforcement-renewal-committee-meeting-2/
LOCATION:Borough Council Chambers\, 1120 Market Street\, New Cumberland\, PA\, 17070\, United States
CATEGORIES:Meetings
END:VEVENT
BEGIN:VEVENT
DTSTART;TZID=America/New_York:20201216T190000
DTEND;TZID=America/New_York:20201216T200000
DTSTAMP:20260425T210358
CREATED:20201201T220533Z
LAST-MODIFIED:20201201T220533Z
UID:10001115-1608145200-1608148800@newcumberlandpa.org
SUMMARY:Planning Commission Meeting
DESCRIPTION:
URL:https://newcumberlandpa.org/event/planning-commission-meeting/
LOCATION:Borough Council Chambers\, 1120 Market Street\, New Cumberland\, PA\, 17070\, United States
CATEGORIES:Meetings
END:VEVENT
BEGIN:VEVENT
DTSTART;TZID=America/New_York:20201214T130000
DTEND;TZID=America/New_York:20201214T140000
DTSTAMP:20260425T210358
CREATED:20201201T220500Z
LAST-MODIFIED:20201201T220500Z
UID:10001114-1607950800-1607954400@newcumberlandpa.org
SUMMARY:Codes Enforcement Renewal Committee Meeting
DESCRIPTION:
URL:https://newcumberlandpa.org/event/codes-enforcement-renewal-committee-meeting/
LOCATION:Borough Council Chambers\, 1120 Market Street\, New Cumberland\, PA\, 17070\, United States
CATEGORIES:Meetings
END:VEVENT
BEGIN:VEVENT
DTSTART;TZID=America/New_York:20201203T080000
DTEND;TZID=America/New_York:20201203T090000
DTSTAMP:20260425T210358
CREATED:20201201T220040Z
LAST-MODIFIED:20201201T220040Z
UID:10001111-1606982400-1606986000@newcumberlandpa.org
SUMMARY:B&PG Board Meeting
DESCRIPTION:
URL:https://newcumberlandpa.org/event/bpg-board-meeting-3/
LOCATION:New Cumberland Fire Department\, 319 4th Street\, New Cumberland\, PA\, 17070\, United States
CATEGORIES:Meetings
ORGANIZER;CN="New Cumberland Business & Profesional Group":MAILTO:communicationschairNC@gmail.com
END:VEVENT
BEGIN:VEVENT
DTSTART;TZID=America/New_York:20201202T190000
DTEND;TZID=America/New_York:20201202T210000
DTSTAMP:20260425T210358
CREATED:20201201T220123Z
LAST-MODIFIED:20201201T220123Z
UID:10001112-1606935600-1606942800@newcumberlandpa.org
SUMMARY:Borough Council Meeting
DESCRIPTION:
URL:https://newcumberlandpa.org/event/borough-council-meeting-2/
LOCATION:Borough Council Chambers\, 1120 Market Street\, New Cumberland\, PA\, 17070\, United States
CATEGORIES:Meetings
END:VEVENT
BEGIN:VEVENT
DTSTART;TZID=America/New_York:20201118T080000
DTEND;TZID=America/New_York:20201118T090000
DTSTAMP:20260425T210358
CREATED:20201027T131358Z
LAST-MODIFIED:20201027T131358Z
UID:10001104-1605686400-1605690000@newcumberlandpa.org
SUMMARY:B&PG Member Meeting
DESCRIPTION:
URL:https://newcumberlandpa.org/event/bpg-member-meeting-9/
LOCATION:New Cumberland Fire Department\, 319 4th Street\, New Cumberland\, PA\, 17070\, United States
CATEGORIES:Meetings
ORGANIZER;CN="New Cumberland Business & Profesional Group":MAILTO:communicationschairNC@gmail.com
END:VEVENT
BEGIN:VEVENT
DTSTART;TZID=America/New_York:20201105T080000
DTEND;TZID=America/New_York:20201105T090000
DTSTAMP:20260425T210358
CREATED:20201027T131513Z
LAST-MODIFIED:20201027T131513Z
UID:10001105-1604563200-1604566800@newcumberlandpa.org
SUMMARY:B&PG Board Meeting
DESCRIPTION:
URL:https://newcumberlandpa.org/event/bpg-board-meeting-2/
LOCATION:New Cumberland Fire Department\, 319 4th Street\, New Cumberland\, PA\, 17070\, United States
CATEGORIES:Meetings
ORGANIZER;CN="New Cumberland Business & Profesional Group":MAILTO:communicationschairNC@gmail.com
END:VEVENT
BEGIN:VEVENT
DTSTART;TZID=America/New_York:20201021T080000
DTEND;TZID=America/New_York:20201021T090000
DTSTAMP:20260425T210358
CREATED:20200917T210313Z
LAST-MODIFIED:20200917T210313Z
UID:10001096-1603267200-1603270800@newcumberlandpa.org
SUMMARY:B&PG Member Meeting
DESCRIPTION:
URL:https://newcumberlandpa.org/event/bpg-member-meeting-6/
LOCATION:New Cumberland Borough Park\, Front Street & Geary Avenue\, New Cumberland\, Pennsylvania\, 17070\, United States
CATEGORIES:Meetings
ORGANIZER;CN="New Cumberland Business & Profesional Group":MAILTO:communicationschairNC@gmail.com
END:VEVENT
BEGIN:VEVENT
DTSTART;TZID=America/New_York:20200916T080000
DTEND;TZID=America/New_York:20200916T090000
DTSTAMP:20260425T210358
CREATED:20200828T165029Z
LAST-MODIFIED:20200915T135501Z
UID:10001088-1600243200-1600246800@newcumberlandpa.org
SUMMARY:B&PG Member Meeting–Coffee with Cops
DESCRIPTION:Join us for Coffee with Cops.
URL:https://newcumberlandpa.org/event/bpg-member-meeting-5/
LOCATION:New Cumberland Borough Park\, Front Street & Geary Avenue\, New Cumberland\, Pennsylvania\, 17070\, United States
CATEGORIES:Meetings
ORGANIZER;CN="New Cumberland Business & Profesional Group":MAILTO:communicationschairNC@gmail.com
END:VEVENT
BEGIN:VEVENT
DTSTART;TZID=America/New_York:20200903T080000
DTEND;TZID=America/New_York:20200903T090000
DTSTAMP:20260425T210358
CREATED:20200828T165117Z
LAST-MODIFIED:20200828T165117Z
UID:10001089-1599120000-1599123600@newcumberlandpa.org
SUMMARY:B&PG Board Meeting
DESCRIPTION:
URL:https://newcumberlandpa.org/event/bpg-board-meeting/
LOCATION:New Cumberland Borough Park\, Front Street & Geary Avenue\, New Cumberland\, Pennsylvania\, 17070\, United States
CATEGORIES:Meetings
ORGANIZER;CN="New Cumberland Business & Profesional Group":MAILTO:communicationschairNC@gmail.com
END:VEVENT
BEGIN:VEVENT
DTSTART;TZID=America/New_York:20200831T113000
DTEND;TZID=America/New_York:20200831T123000
DTSTAMP:20260425T210358
CREATED:20200828T164608Z
LAST-MODIFIED:20200828T164705Z
UID:10001087-1598873400-1598877000@newcumberlandpa.org
SUMMARY:Food Truck Rally Planning Meeting
DESCRIPTION:All are welcome to join us to help plan the last Food Truck and Restaurant Rally of 2020!
URL:https://newcumberlandpa.org/event/food-truck-rally-planning-meeting/
LOCATION:New Cumberland Borough Park\, Front Street & Geary Avenue\, New Cumberland\, Pennsylvania\, 17070\, United States
CATEGORIES:Meetings
ORGANIZER;CN="New Cumberland Business & Profesional Group":MAILTO:communicationschairNC@gmail.com
END:VEVENT
BEGIN:VEVENT
DTSTART;TZID=America/New_York:20200819T080000
DTEND;TZID=America/New_York:20200819T090000
DTSTAMP:20260425T210358
CREATED:20200812T152147Z
LAST-MODIFIED:20200812T152147Z
UID:10001084-1597824000-1597827600@newcumberlandpa.org
SUMMARY:B&PG Member Meeting
DESCRIPTION:
URL:https://newcumberlandpa.org/event/bpg-member-meeting-4/
LOCATION:New Cumberland Borough Park\, Front Street & Geary Avenue\, New Cumberland\, Pennsylvania\, 17070\, United States
CATEGORIES:Meetings
ORGANIZER;CN="New Cumberland Business & Profesional Group":MAILTO:communicationschairNC@gmail.com
END:VEVENT
BEGIN:VEVENT
DTSTART;TZID=America/New_York:20200715T080000
DTEND;TZID=America/New_York:20200715T090000
DTSTAMP:20260425T210358
CREATED:20200308T183205Z
LAST-MODIFIED:20200702T151314Z
UID:10001069-1594800000-1594803600@newcumberlandpa.org
SUMMARY:B&PG Member Meeting
DESCRIPTION:
URL:https://newcumberlandpa.org/event/bpg-member-meeting-8/
LOCATION:New Cumberland Borough Park\, Front Street & Geary Avenue\, New Cumberland\, Pennsylvania\, 17070\, United States
CATEGORIES:Meetings
ORGANIZER;CN="New Cumberland Business & Profesional Group":MAILTO:communicationschairNC@gmail.com
END:VEVENT
BEGIN:VEVENT
DTSTART;TZID=America/New_York:20200708T113000
DTEND;TZID=America/New_York:20200708T130000
DTSTAMP:20260425T210358
CREATED:20200308T183128Z
LAST-MODIFIED:20200308T183128Z
UID:10001068-1594207800-1594213200@newcumberlandpa.org
SUMMARY:New Cumberland Olde Towne Association Meeting
DESCRIPTION:
URL:https://newcumberlandpa.org/event/new-cumberland-olde-towne-association-meeting-3/
LOCATION:American Legion Post 143\, 214 Market Street\, New Cumberland\, PA\, 17070\, United States
CATEGORIES:Meetings
ORGANIZER;CN="New Cumberland Olde Towne Association":MAILTO:cvleukus@aol.com
END:VEVENT
BEGIN:VEVENT
DTSTART;TZID=America/New_York:20200617T080000
DTEND;TZID=America/New_York:20200617T090000
DTSTAMP:20260425T210358
CREATED:20200308T183004Z
LAST-MODIFIED:20200610T191917Z
UID:10001067-1592380800-1592384400@newcumberlandpa.org
SUMMARY:B&PG Member Meeting
DESCRIPTION:
URL:https://newcumberlandpa.org/event/bpg-member-meeting-7/
LOCATION:New Cumberland Borough Park\, Front Street & Geary Avenue\, New Cumberland\, Pennsylvania\, 17070\, United States
CATEGORIES:Meetings
ORGANIZER;CN="New Cumberland Business & Profesional Group":MAILTO:communicationschairNC@gmail.com
END:VEVENT
BEGIN:VEVENT
DTSTART;TZID=America/New_York:20200610T113000
DTEND;TZID=America/New_York:20200610T130000
DTSTAMP:20260425T210358
CREATED:20200308T182923Z
LAST-MODIFIED:20200308T182923Z
UID:10001066-1591788600-1591794000@newcumberlandpa.org
SUMMARY:New Cumberland Olde Towne Association Meeting
DESCRIPTION:
URL:https://newcumberlandpa.org/event/new-cumberland-olde-towne-association-meeting-2/
LOCATION:American Legion Post 143\, 214 Market Street\, New Cumberland\, PA\, 17070\, United States
CATEGORIES:Meetings
ORGANIZER;CN="New Cumberland Olde Towne Association":MAILTO:cvleukus@aol.com
END:VEVENT
BEGIN:VEVENT
DTSTART;TZID=America/New_York:20200302T183000
DTEND;TZID=America/New_York:20200302T200000
DTSTAMP:20260425T210358
CREATED:20200219T175902Z
LAST-MODIFIED:20200219T175902Z
UID:10001029-1583173800-1583179200@newcumberlandpa.org
SUMMARY:National Day of Prayer Planning Meeting
DESCRIPTION:
URL:https://newcumberlandpa.org/event/national-day-of-prayer-planning-meeting/
LOCATION:Trinity United Methodist Church\, 415 Bridge Street\, New Cumberland\, PA\, 17070\, United States
CATEGORIES:Meetings
END:VEVENT
END:VCALENDAR