BEGIN:VCALENDAR
VERSION:2.0
PRODID:-//New Cumberland B&amp;PG - ECPv6.15.17.1//NONSGML v1.0//EN
CALSCALE:GREGORIAN
METHOD:PUBLISH
X-ORIGINAL-URL:https://newcumberlandpa.org
X-WR-CALDESC:Events for New Cumberland B&amp;PG
REFRESH-INTERVAL;VALUE=DURATION:PT1H
X-Robots-Tag:noindex
X-PUBLISHED-TTL:PT1H
BEGIN:VTIMEZONE
TZID:America/New_York
BEGIN:DAYLIGHT
TZOFFSETFROM:-0500
TZOFFSETTO:-0400
TZNAME:EDT
DTSTART:20200308T070000
END:DAYLIGHT
BEGIN:STANDARD
TZOFFSETFROM:-0400
TZOFFSETTO:-0500
TZNAME:EST
DTSTART:20201101T060000
END:STANDARD
BEGIN:DAYLIGHT
TZOFFSETFROM:-0500
TZOFFSETTO:-0400
TZNAME:EDT
DTSTART:20210314T070000
END:DAYLIGHT
BEGIN:STANDARD
TZOFFSETFROM:-0400
TZOFFSETTO:-0500
TZNAME:EST
DTSTART:20211107T060000
END:STANDARD
BEGIN:DAYLIGHT
TZOFFSETFROM:-0500
TZOFFSETTO:-0400
TZNAME:EDT
DTSTART:20220313T070000
END:DAYLIGHT
BEGIN:STANDARD
TZOFFSETFROM:-0400
TZOFFSETTO:-0500
TZNAME:EST
DTSTART:20221106T060000
END:STANDARD
END:VTIMEZONE
BEGIN:VEVENT
DTSTART;TZID=America/New_York:20210921T193000
DTEND;TZID=America/New_York:20210921T203000
DTSTAMP:20260425T144334
CREATED:20210607T210429Z
LAST-MODIFIED:20210607T210429Z
UID:10001208-1632252600-1632256200@newcumberlandpa.org
SUMMARY:Library Board Meeting
DESCRIPTION:
URL:https://newcumberlandpa.org/event/library-board-meeting-8/
LOCATION:New Cumberland Public Library
CATEGORIES:Meetings
END:VEVENT
BEGIN:VEVENT
DTSTART;TZID=America/New_York:20210915T190000
DTEND;TZID=America/New_York:20210915T200000
DTSTAMP:20260425T144334
CREATED:20210610T162027Z
LAST-MODIFIED:20210610T162027Z
UID:10001235-1631732400-1631736000@newcumberlandpa.org
SUMMARY:Planning Commission Meeting
DESCRIPTION:
URL:https://newcumberlandpa.org/event/planning-commission-meeting-10/
LOCATION:Borough Council Chambers\, 1120 Market Street\, New Cumberland\, PA\, 17070\, United States
CATEGORIES:Meetings
END:VEVENT
BEGIN:VEVENT
DTSTART;TZID=America/New_York:20210915T080000
DTEND;TZID=America/New_York:20210915T090000
DTSTAMP:20260425T144334
CREATED:20210607T210301Z
LAST-MODIFIED:20210607T210301Z
UID:10001206-1631692800-1631696400@newcumberlandpa.org
SUMMARY:B&PG Member Meeting
DESCRIPTION:
URL:https://newcumberlandpa.org/event/bpg-member-meeting-18/
LOCATION:New Cumberland Fire Department\, 319 4th Street\, New Cumberland\, PA\, 17070\, United States
CATEGORIES:Meetings
ORGANIZER;CN="New Cumberland Business & Profesional Group":MAILTO:communicationschairNC@gmail.com
END:VEVENT
BEGIN:VEVENT
DTSTART;TZID=America/New_York:20210908T190000
DTEND;TZID=America/New_York:20210908T210000
DTSTAMP:20260425T144334
CREATED:20210701T151135Z
LAST-MODIFIED:20210701T151135Z
UID:10001248-1631127600-1631134800@newcumberlandpa.org
SUMMARY:Borough Council Meeting
DESCRIPTION:
URL:https://newcumberlandpa.org/event/borough-council-meeting-11/
LOCATION:Borough Council Chambers\, 1120 Market Street\, New Cumberland\, PA\, 17070\, United States
CATEGORIES:Meetings
END:VEVENT
BEGIN:VEVENT
DTSTART;TZID=America/New_York:20210902T080000
DTEND;TZID=America/New_York:20210902T090000
DTSTAMP:20260425T144334
CREATED:20210607T210134Z
LAST-MODIFIED:20210607T210134Z
UID:10001202-1630569600-1630573200@newcumberlandpa.org
SUMMARY:B&PG Board Meeting
DESCRIPTION:
URL:https://newcumberlandpa.org/event/bpg-board-meeting-12/
LOCATION:New Cumberland Fire Department\, 319 4th Street\, New Cumberland\, PA\, 17070\, United States
CATEGORIES:Meetings
ORGANIZER;CN="New Cumberland Business & Profesional Group":MAILTO:communicationschairNC@gmail.com
END:VEVENT
BEGIN:VEVENT
DTSTART;TZID=America/New_York:20210823T130000
DTEND;TZID=America/New_York:20210823T140000
DTSTAMP:20260425T144334
CREATED:20210812T155410Z
LAST-MODIFIED:20210812T155410Z
UID:10001258-1629723600-1629727200@newcumberlandpa.org
SUMMARY:Codes Enforcement Committee Meeting
DESCRIPTION:
URL:https://newcumberlandpa.org/event/codes-enforcement-committee-meeting-4/
LOCATION:Borough Council Chambers\, 1120 Market Street\, New Cumberland\, PA\, 17070\, United States
CATEGORIES:Meetings
END:VEVENT
BEGIN:VEVENT
DTSTART;TZID=America/New_York:20210818T190000
DTEND;TZID=America/New_York:20210818T200000
DTSTAMP:20260425T144334
CREATED:20210610T161926Z
LAST-MODIFIED:20210610T161926Z
UID:10001234-1629313200-1629316800@newcumberlandpa.org
SUMMARY:Planning Commission Meeting
DESCRIPTION:
URL:https://newcumberlandpa.org/event/planning-commission-meeting-9/
LOCATION:Borough Council Chambers\, 1120 Market Street\, New Cumberland\, PA\, 17070\, United States
CATEGORIES:Meetings
END:VEVENT
BEGIN:VEVENT
DTSTART;TZID=America/New_York:20210818T080000
DTEND;TZID=America/New_York:20210818T090000
DTSTAMP:20260425T144334
CREATED:20210607T210246Z
LAST-MODIFIED:20210607T210246Z
UID:10001205-1629273600-1629277200@newcumberlandpa.org
SUMMARY:B&PG Member Meeting
DESCRIPTION:
URL:https://newcumberlandpa.org/event/bpg-member-meeting-17/
LOCATION:New Cumberland Fire Department\, 319 4th Street\, New Cumberland\, PA\, 17070\, United States
CATEGORIES:Meetings
ORGANIZER;CN="New Cumberland Business & Profesional Group":MAILTO:communicationschairNC@gmail.com
END:VEVENT
BEGIN:VEVENT
DTSTART;TZID=America/New_York:20210817T193000
DTEND;TZID=America/New_York:20210817T203000
DTSTAMP:20260425T144334
CREATED:20210607T210408Z
LAST-MODIFIED:20210607T210455Z
UID:10001207-1629228600-1629232200@newcumberlandpa.org
SUMMARY:Library Board Meeting
DESCRIPTION:
URL:https://newcumberlandpa.org/event/library-board-meeting-7/
LOCATION:New Cumberland Public Library
CATEGORIES:Meetings
END:VEVENT
BEGIN:VEVENT
DTSTART;TZID=America/New_York:20210811T190000
DTEND;TZID=America/New_York:20210811T210000
DTSTAMP:20260425T144334
CREATED:20210701T151119Z
LAST-MODIFIED:20210701T151119Z
UID:10001247-1628708400-1628715600@newcumberlandpa.org
SUMMARY:Borough Council Meeting
DESCRIPTION:
URL:https://newcumberlandpa.org/event/borough-council-meeting-10/
LOCATION:Borough Council Chambers\, 1120 Market Street\, New Cumberland\, PA\, 17070\, United States
CATEGORIES:Meetings
END:VEVENT
BEGIN:VEVENT
DTSTART;TZID=America/New_York:20210805T080000
DTEND;TZID=America/New_York:20210805T090000
DTSTAMP:20260425T144334
CREATED:20210607T210117Z
LAST-MODIFIED:20210607T210117Z
UID:10001201-1628150400-1628154000@newcumberlandpa.org
SUMMARY:B&PG Board Meeting
DESCRIPTION:
URL:https://newcumberlandpa.org/event/bpg-board-meeting-11/
LOCATION:New Cumberland Fire Department\, 319 4th Street\, New Cumberland\, PA\, 17070\, United States
CATEGORIES:Meetings
ORGANIZER;CN="New Cumberland Business & Profesional Group":MAILTO:communicationschairNC@gmail.com
END:VEVENT
BEGIN:VEVENT
DTSTART;TZID=America/New_York:20210721T190000
DTEND;TZID=America/New_York:20210721T200000
DTSTAMP:20260425T144334
CREATED:20210610T161910Z
LAST-MODIFIED:20210610T161910Z
UID:10001233-1626894000-1626897600@newcumberlandpa.org
SUMMARY:Planning Commission Meeting
DESCRIPTION:
URL:https://newcumberlandpa.org/event/planning-commission-meeting-8/
LOCATION:Borough Council Chambers\, 1120 Market Street\, New Cumberland\, PA\, 17070\, United States
CATEGORIES:Meetings
END:VEVENT
BEGIN:VEVENT
DTSTART;TZID=America/New_York:20210721T080000
DTEND;TZID=America/New_York:20210721T090000
DTSTAMP:20260425T144334
CREATED:20210607T210231Z
LAST-MODIFIED:20210607T210231Z
UID:10001204-1626854400-1626858000@newcumberlandpa.org
SUMMARY:B&PG Member Meeting
DESCRIPTION:
URL:https://newcumberlandpa.org/event/bpg-member-meeting-16/
LOCATION:New Cumberland Fire Department\, 319 4th Street\, New Cumberland\, PA\, 17070\, United States
CATEGORIES:Meetings
ORGANIZER;CN="New Cumberland Business & Profesional Group":MAILTO:communicationschairNC@gmail.com
END:VEVENT
BEGIN:VEVENT
DTSTART;TZID=America/New_York:20210714T190000
DTEND;TZID=America/New_York:20210714T210000
DTSTAMP:20260425T144334
CREATED:20210701T151059Z
LAST-MODIFIED:20210701T151059Z
UID:10001246-1626289200-1626296400@newcumberlandpa.org
SUMMARY:Borough Council Meeting
DESCRIPTION:
URL:https://newcumberlandpa.org/event/borough-council-meeting-9/
LOCATION:Borough Council Chambers\, 1120 Market Street\, New Cumberland\, PA\, 17070\, United States
CATEGORIES:Meetings
END:VEVENT
BEGIN:VEVENT
DTSTART;TZID=America/New_York:20210706T183000
DTEND;TZID=America/New_York:20210706T193000
DTSTAMP:20260425T144334
CREATED:20210607T205809Z
LAST-MODIFIED:20210607T205935Z
UID:10001198-1625596200-1625599800@newcumberlandpa.org
SUMMARY:Zoning Hearing Board Meeting
DESCRIPTION:The following request for zoning relief will be heard: \n\nApplicant: St. Theresa School\nProperty: 1200 Bridge Street\, New Cumberland\, PA 17070\n\nApplicant is requesting a variance relief to erect an eight-foot high safety fence within the front yard at the above-referenced property. \nThe property is located in the C2 Zone. \nAll interested parties are urged to attend. The aforementioned application and plans are available upon request by contacting the New Cumberland Borough Office at 717-774-0404.
URL:https://newcumberlandpa.org/event/zoning-hearing-board-meeting/
LOCATION:Borough Council Chambers\, 1120 Market Street\, New Cumberland\, PA\, 17070\, United States
CATEGORIES:Meetings
END:VEVENT
BEGIN:VEVENT
DTSTART;TZID=America/New_York:20210701T080000
DTEND;TZID=America/New_York:20210701T090000
DTSTAMP:20260425T144334
CREATED:20210607T210057Z
LAST-MODIFIED:20210607T210057Z
UID:10001200-1625126400-1625130000@newcumberlandpa.org
SUMMARY:B&PG Board Meeting
DESCRIPTION:
URL:https://newcumberlandpa.org/event/bpg-board-meeting-10/
LOCATION:New Cumberland Fire Department\, 319 4th Street\, New Cumberland\, PA\, 17070\, United States
CATEGORIES:Meetings
ORGANIZER;CN="New Cumberland Business & Profesional Group":MAILTO:communicationschairNC@gmail.com
END:VEVENT
BEGIN:VEVENT
DTSTART;TZID=America/New_York:20210628T130000
DTEND;TZID=America/New_York:20210628T140000
DTSTAMP:20260425T144334
CREATED:20210610T162113Z
LAST-MODIFIED:20210610T162113Z
UID:10001236-1624885200-1624888800@newcumberlandpa.org
SUMMARY:Codes Enforcement Committee Meeting
DESCRIPTION:
URL:https://newcumberlandpa.org/event/codes-enforcement-committee-meeting-3/
LOCATION:Borough Council Chambers\, 1120 Market Street\, New Cumberland\, PA\, 17070\, United States
CATEGORIES:Meetings
END:VEVENT
BEGIN:VEVENT
DTSTART;TZID=America/New_York:20210624T120000
DTEND;TZID=America/New_York:20210624T130000
DTSTAMP:20260425T144334
CREATED:20210610T161753Z
LAST-MODIFIED:20210610T161753Z
UID:10001231-1624536000-1624539600@newcumberlandpa.org
SUMMARY:Zoning Update Meeting
DESCRIPTION:
URL:https://newcumberlandpa.org/event/zoning-update-meeting-4/
LOCATION:Borough Council Chambers\, 1120 Market Street\, New Cumberland\, PA\, 17070\, United States
CATEGORIES:Meetings
END:VEVENT
BEGIN:VEVENT
DTSTART;TZID=America/New_York:20210616T190000
DTEND;TZID=America/New_York:20210616T200000
DTSTAMP:20260425T144334
CREATED:20210610T161836Z
LAST-MODIFIED:20210610T161836Z
UID:10001232-1623870000-1623873600@newcumberlandpa.org
SUMMARY:Planning Commission Meeting
DESCRIPTION:
URL:https://newcumberlandpa.org/event/planning-commission-meeting-7/
LOCATION:Borough Council Chambers\, 1120 Market Street\, New Cumberland\, PA\, 17070\, United States
CATEGORIES:Meetings
END:VEVENT
BEGIN:VEVENT
DTSTART;TZID=America/New_York:20210616T080000
DTEND;TZID=America/New_York:20210616T090000
DTSTAMP:20260425T144334
CREATED:20210607T210214Z
LAST-MODIFIED:20210607T210214Z
UID:10001203-1623830400-1623834000@newcumberlandpa.org
SUMMARY:B&PG Member Meeting
DESCRIPTION:
URL:https://newcumberlandpa.org/event/bpg-member-meeting-15/
LOCATION:New Cumberland Fire Department\, 319 4th Street\, New Cumberland\, PA\, 17070\, United States
CATEGORIES:Meetings
ORGANIZER;CN="New Cumberland Business & Profesional Group":MAILTO:communicationschairNC@gmail.com
END:VEVENT
BEGIN:VEVENT
DTSTART;TZID=America/New_York:20210615T193000
DTEND;TZID=America/New_York:20210615T203000
DTSTAMP:20260425T144334
CREATED:20210607T205530Z
LAST-MODIFIED:20210607T210515Z
UID:10001197-1623785400-1623789000@newcumberlandpa.org
SUMMARY:Library Board Meeting
DESCRIPTION:
URL:https://newcumberlandpa.org/event/library-board-meeting-6/
LOCATION:New Cumberland Public Library
CATEGORIES:Meetings
END:VEVENT
BEGIN:VEVENT
DTSTART;TZID=America/New_York:20210610T120000
DTEND;TZID=America/New_York:20210610T130000
DTSTAMP:20260425T144334
CREATED:20210610T161728Z
LAST-MODIFIED:20210610T161728Z
UID:10001230-1623326400-1623330000@newcumberlandpa.org
SUMMARY:Zoning Update Meeting
DESCRIPTION:
URL:https://newcumberlandpa.org/event/zoning-update-meeting-3/
LOCATION:Borough Council Chambers\, 1120 Market Street\, New Cumberland\, PA\, 17070\, United States
CATEGORIES:Meetings
END:VEVENT
BEGIN:VEVENT
DTSTART;TZID=America/New_York:20210609T190000
DTEND;TZID=America/New_York:20210609T210000
DTSTAMP:20260425T144334
CREATED:20210513T195444Z
LAST-MODIFIED:20210513T195444Z
UID:10001196-1623265200-1623272400@newcumberlandpa.org
SUMMARY:Borough Council Meeting
DESCRIPTION:
URL:https://newcumberlandpa.org/event/borough-council-meeting-8/
LOCATION:Borough Council Chambers\, 1120 Market Street\, New Cumberland\, PA\, 17070\, United States
CATEGORIES:Meetings
END:VEVENT
BEGIN:VEVENT
DTSTART;TZID=America/New_York:20210603T080000
DTEND;TZID=America/New_York:20210603T090000
DTSTAMP:20260425T144334
CREATED:20210607T210032Z
LAST-MODIFIED:20210607T210032Z
UID:10001199-1622707200-1622710800@newcumberlandpa.org
SUMMARY:B&PG Board Meeting
DESCRIPTION:
URL:https://newcumberlandpa.org/event/bpg-board-meeting-9/
LOCATION:New Cumberland Fire Department\, 319 4th Street\, New Cumberland\, PA\, 17070\, United States
CATEGORIES:Meetings
ORGANIZER;CN="New Cumberland Business & Profesional Group":MAILTO:communicationschairNC@gmail.com
END:VEVENT
BEGIN:VEVENT
DTSTART;TZID=America/New_York:20210527T120000
DTEND;TZID=America/New_York:20210527T130000
DTSTAMP:20260425T144334
CREATED:20210513T195144Z
LAST-MODIFIED:20210513T195144Z
UID:10001194-1622116800-1622120400@newcumberlandpa.org
SUMMARY:Zoning Update Meeting
DESCRIPTION:
URL:https://newcumberlandpa.org/event/zoning-update-meeting-2/
LOCATION:Borough Council Chambers\, 1120 Market Street\, New Cumberland\, PA\, 17070\, United States
CATEGORIES:Meetings
END:VEVENT
BEGIN:VEVENT
DTSTART;TZID=America/New_York:20210524T130000
DTEND;TZID=America/New_York:20210524T140000
DTSTAMP:20260425T144334
CREATED:20210513T194926Z
LAST-MODIFIED:20210513T194926Z
UID:10001191-1621861200-1621864800@newcumberlandpa.org
SUMMARY:Codes Enforcement Committee Meeting
DESCRIPTION:
URL:https://newcumberlandpa.org/event/codes-enforcement-committee-meeting-2/
LOCATION:Borough Council Chambers\, 1120 Market Street\, New Cumberland\, PA\, 17070\, United States
CATEGORIES:Meetings
END:VEVENT
BEGIN:VEVENT
DTSTART;TZID=America/New_York:20210519T190000
DTEND;TZID=America/New_York:20210519T200000
DTSTAMP:20260425T144334
CREATED:20210513T195026Z
LAST-MODIFIED:20210513T195026Z
UID:10001192-1621450800-1621454400@newcumberlandpa.org
SUMMARY:Planning Commission Meeting
DESCRIPTION:
URL:https://newcumberlandpa.org/event/planning-commission-meeting-6/
LOCATION:Borough Council Chambers\, 1120 Market Street\, New Cumberland\, PA\, 17070\, United States
CATEGORIES:Meetings
END:VEVENT
BEGIN:VEVENT
DTSTART;TZID=America/New_York:20210519T080000
DTEND;TZID=America/New_York:20210519T090000
DTSTAMP:20260425T144334
CREATED:20210419T143547Z
LAST-MODIFIED:20210419T143547Z
UID:10001171-1621411200-1621414800@newcumberlandpa.org
SUMMARY:B&PG Member Meeting
DESCRIPTION:
URL:https://newcumberlandpa.org/event/bpg-member-meeting-14/
LOCATION:New Cumberland Fire Department\, 319 4th Street\, New Cumberland\, PA\, 17070\, United States
CATEGORIES:Meetings
ORGANIZER;CN="New Cumberland Business & Profesional Group":MAILTO:communicationschairNC@gmail.com
END:VEVENT
BEGIN:VEVENT
DTSTART;TZID=America/New_York:20210518T193000
DTEND;TZID=America/New_York:20210518T203000
DTSTAMP:20260425T144334
CREATED:20210513T195301Z
LAST-MODIFIED:20210513T195301Z
UID:10001195-1621366200-1621369800@newcumberlandpa.org
SUMMARY:Library Board Meeting
DESCRIPTION:This meeting will be held via Zoom.
URL:https://newcumberlandpa.org/event/library-board-meeting-5/
LOCATION:New Cumberland Public Library
CATEGORIES:Meetings
END:VEVENT
BEGIN:VEVENT
DTSTART;TZID=America/New_York:20210513T120000
DTEND;TZID=America/New_York:20210513T130000
DTSTAMP:20260425T144334
CREATED:20210513T195109Z
LAST-MODIFIED:20210513T195109Z
UID:10001193-1620907200-1620910800@newcumberlandpa.org
SUMMARY:Zoning Update Meeting
DESCRIPTION:
URL:https://newcumberlandpa.org/event/zoning-update-meeting/
LOCATION:Borough Council Chambers\, 1120 Market Street\, New Cumberland\, PA\, 17070\, United States
CATEGORIES:Meetings
END:VEVENT
END:VCALENDAR