BEGIN:VCALENDAR
VERSION:2.0
PRODID:-//New Cumberland B&amp;PG - ECPv6.15.17.1//NONSGML v1.0//EN
CALSCALE:GREGORIAN
METHOD:PUBLISH
X-WR-CALNAME:New Cumberland B&amp;PG
X-ORIGINAL-URL:https://newcumberlandpa.org
X-WR-CALDESC:Events for New Cumberland B&amp;PG
REFRESH-INTERVAL;VALUE=DURATION:PT1H
X-Robots-Tag:noindex
X-PUBLISHED-TTL:PT1H
BEGIN:VTIMEZONE
TZID:America/New_York
BEGIN:DAYLIGHT
TZOFFSETFROM:-0500
TZOFFSETTO:-0400
TZNAME:EDT
DTSTART:20210314T070000
END:DAYLIGHT
BEGIN:STANDARD
TZOFFSETFROM:-0400
TZOFFSETTO:-0500
TZNAME:EST
DTSTART:20211107T060000
END:STANDARD
BEGIN:DAYLIGHT
TZOFFSETFROM:-0500
TZOFFSETTO:-0400
TZNAME:EDT
DTSTART:20220313T070000
END:DAYLIGHT
BEGIN:STANDARD
TZOFFSETFROM:-0400
TZOFFSETTO:-0500
TZNAME:EST
DTSTART:20221106T060000
END:STANDARD
BEGIN:DAYLIGHT
TZOFFSETFROM:-0500
TZOFFSETTO:-0400
TZNAME:EDT
DTSTART:20230312T070000
END:DAYLIGHT
BEGIN:STANDARD
TZOFFSETFROM:-0400
TZOFFSETTO:-0500
TZNAME:EST
DTSTART:20231105T060000
END:STANDARD
END:VTIMEZONE
BEGIN:VEVENT
DTSTART;TZID=America/New_York:20220817T080000
DTEND;TZID=America/New_York:20220817T090000
DTSTAMP:20260425T062702
CREATED:20211213T210153Z
LAST-MODIFIED:20221026T153858Z
UID:10001308-1660723200-1660726800@newcumberlandpa.org
SUMMARY:B&PG Member Meeting
DESCRIPTION:
URL:https://newcumberlandpa.org/event/bpg-member-meeting-22/2022-08-17/
LOCATION:New Cumberland Fire Department\, 319 4th Street\, New Cumberland\, PA\, 17070\, United States
CATEGORIES:Meetings
ORGANIZER;CN="New Cumberland Business & Profesional Group":MAILTO:communicationschairNC@gmail.com
END:VEVENT
BEGIN:VEVENT
DTSTART;TZID=America/New_York:20220816T190000
DTEND;TZID=America/New_York:20220816T203000
DTSTAMP:20260425T062702
CREATED:20211213T211610Z
LAST-MODIFIED:20211213T211610Z
UID:10001583-1660676400-1660681800@newcumberlandpa.org
SUMMARY:Library Board Meeting
DESCRIPTION:
URL:https://newcumberlandpa.org/event/library-board-meeting-11/2022-08-16/
LOCATION:New Cumberland Public Library
CATEGORIES:Meetings
END:VEVENT
BEGIN:VEVENT
DTSTART;TZID=America/New_York:20220810T190000
DTEND;TZID=America/New_York:20220810T210000
DTSTAMP:20260425T062702
CREATED:20211213T211039Z
LAST-MODIFIED:20211213T211039Z
UID:10001445-1660158000-1660165200@newcumberlandpa.org
SUMMARY:Borough Council Meeting
DESCRIPTION:
URL:https://newcumberlandpa.org/event/borough-council-meeting-15/2022-08-10/
LOCATION:Borough Council Chambers\, 1120 Market Street\, New Cumberland\, PA\, 17070\, United States
CATEGORIES:Meetings
END:VEVENT
BEGIN:VEVENT
DTSTART;TZID=America/New_York:20220810T113000
DTEND;TZID=America/New_York:20220810T130000
DTSTAMP:20260425T062702
CREATED:20211213T211258Z
LAST-MODIFIED:20220919T141217Z
UID:10001515-1660131000-1660136400@newcumberlandpa.org
SUMMARY:New Cumberland Olde Towne Association Monthly Meeting
DESCRIPTION:The organization is always looking for new members and the public is invited to attend. Lunch is $10.00 for guests and $8.50 for members. Membership is $5.00 a year.  For more information contact Christine Leukus at 717-319-4421 or email her at cvleukus@aol.com.
URL:https://newcumberlandpa.org/event/new-cumberland-olde-towne-association-monthly-meeting-8/2022-08-10/
LOCATION:American Legion Post 143\, 214 Market Street\, New Cumberland\, PA\, 17070\, United States
CATEGORIES:Community,Meetings
ORGANIZER;CN="New Cumberland Olde Towne Association":MAILTO:cvleukus@aol.com
END:VEVENT
BEGIN:VEVENT
DTSTART;TZID=America/New_York:20220727T180000
DTEND;TZID=America/New_York:20220727T200000
DTSTAMP:20260425T062702
CREATED:20220705T132747Z
LAST-MODIFIED:20220705T132747Z
UID:10001957-1658944800-1658952000@newcumberlandpa.org
SUMMARY:New Cumberland Borough Public Meeting
DESCRIPTION:We want to hear from you as we develop a stakeholder-based approach to create a plan for a community-wide identity and a downtown master plan. This plan will be a roadmap to improve the economic health and cultural vibrancy of the community we live\, work and play in. \nWednesday\, July 27th\, 2022 @ 6-7 p.m.\nNew Cumberland Fire Department\n319 4th Street\, New Cumberland \nYour call to Action: Plan to attend\, share ideas and ask questions. \nAny inquiries about this meeting\, please contact Valerie Copenhaver\, Director of Community & Economic Development for the Borough of New Cumberland\, at (717) 774-0404 or valerie@newcumberlandborough.com.
URL:https://newcumberlandpa.org/event/new-cumberland-borough-public-meeting-2/
LOCATION:New Cumberland Fire Department\, 319 4th Street\, New Cumberland\, PA\, 17070\, United States
CATEGORIES:Community,Meetings
END:VEVENT
BEGIN:VEVENT
DTSTART;TZID=America/New_York:20220720T190000
DTEND;TZID=America/New_York:20220720T200000
DTSTAMP:20260425T062702
CREATED:20211213T211909Z
LAST-MODIFIED:20211213T211909Z
UID:10001649-1658343600-1658347200@newcumberlandpa.org
SUMMARY:Planning Commission Meeting
DESCRIPTION:
URL:https://newcumberlandpa.org/event/planning-commission-meeting-14/2022-07-20/
LOCATION:Borough Council Chambers\, 1120 Market Street\, New Cumberland\, PA\, 17070\, United States
CATEGORIES:Meetings
END:VEVENT
BEGIN:VEVENT
DTSTART;TZID=America/New_York:20220720T080000
DTEND;TZID=America/New_York:20220720T090000
DTSTAMP:20260425T062702
CREATED:20211213T210153Z
LAST-MODIFIED:20221026T153858Z
UID:10001307-1658304000-1658307600@newcumberlandpa.org
SUMMARY:B&PG Member Meeting
DESCRIPTION:
URL:https://newcumberlandpa.org/event/bpg-member-meeting-22/2022-07-20/
LOCATION:New Cumberland Fire Department\, 319 4th Street\, New Cumberland\, PA\, 17070\, United States
CATEGORIES:Meetings
ORGANIZER;CN="New Cumberland Business & Profesional Group":MAILTO:communicationschairNC@gmail.com
END:VEVENT
BEGIN:VEVENT
DTSTART;TZID=America/New_York:20220713T190000
DTEND;TZID=America/New_York:20220713T210000
DTSTAMP:20260425T062702
CREATED:20211213T211039Z
LAST-MODIFIED:20211213T211039Z
UID:10001444-1657738800-1657746000@newcumberlandpa.org
SUMMARY:Borough Council Meeting
DESCRIPTION:
URL:https://newcumberlandpa.org/event/borough-council-meeting-15/2022-07-13/
LOCATION:Borough Council Chambers\, 1120 Market Street\, New Cumberland\, PA\, 17070\, United States
CATEGORIES:Meetings
END:VEVENT
BEGIN:VEVENT
DTSTART;TZID=America/New_York:20220713T113000
DTEND;TZID=America/New_York:20220713T130000
DTSTAMP:20260425T062702
CREATED:20211213T211258Z
LAST-MODIFIED:20220919T141217Z
UID:10001514-1657711800-1657717200@newcumberlandpa.org
SUMMARY:New Cumberland Olde Towne Association Monthly Meeting
DESCRIPTION:The organization is always looking for new members and the public is invited to attend. Lunch is $10.00 for guests and $8.50 for members. Membership is $5.00 a year.  For more information contact Christine Leukus at 717-319-4421 or email her at cvleukus@aol.com.
URL:https://newcumberlandpa.org/event/new-cumberland-olde-towne-association-monthly-meeting-8/2022-07-13/
LOCATION:American Legion Post 143\, 214 Market Street\, New Cumberland\, PA\, 17070\, United States
CATEGORIES:Community,Meetings
ORGANIZER;CN="New Cumberland Olde Towne Association":MAILTO:cvleukus@aol.com
END:VEVENT
BEGIN:VEVENT
DTSTART;TZID=America/New_York:20220621T190000
DTEND;TZID=America/New_York:20220621T203000
DTSTAMP:20260425T062702
CREATED:20211213T211610Z
LAST-MODIFIED:20211213T211610Z
UID:10001582-1655838000-1655843400@newcumberlandpa.org
SUMMARY:Library Board Meeting
DESCRIPTION:
URL:https://newcumberlandpa.org/event/library-board-meeting-11/2022-06-21/
LOCATION:New Cumberland Public Library
CATEGORIES:Meetings
END:VEVENT
BEGIN:VEVENT
DTSTART;TZID=America/New_York:20220615T190000
DTEND;TZID=America/New_York:20220615T200000
DTSTAMP:20260425T062702
CREATED:20211213T211909Z
LAST-MODIFIED:20211213T211909Z
UID:10001648-1655319600-1655323200@newcumberlandpa.org
SUMMARY:Planning Commission Meeting
DESCRIPTION:
URL:https://newcumberlandpa.org/event/planning-commission-meeting-14/2022-06-15/
LOCATION:Borough Council Chambers\, 1120 Market Street\, New Cumberland\, PA\, 17070\, United States
CATEGORIES:Meetings
END:VEVENT
BEGIN:VEVENT
DTSTART;TZID=America/New_York:20220615T080000
DTEND;TZID=America/New_York:20220615T090000
DTSTAMP:20260425T062702
CREATED:20211213T210153Z
LAST-MODIFIED:20221026T153858Z
UID:10001306-1655280000-1655283600@newcumberlandpa.org
SUMMARY:B&PG Member Meeting
DESCRIPTION:
URL:https://newcumberlandpa.org/event/bpg-member-meeting-22/2022-06-15/
LOCATION:New Cumberland Fire Department\, 319 4th Street\, New Cumberland\, PA\, 17070\, United States
CATEGORIES:Meetings
ORGANIZER;CN="New Cumberland Business & Profesional Group":MAILTO:communicationschairNC@gmail.com
END:VEVENT
BEGIN:VEVENT
DTSTART;TZID=America/New_York:20220608T190000
DTEND;TZID=America/New_York:20220608T210000
DTSTAMP:20260425T062702
CREATED:20211213T211039Z
LAST-MODIFIED:20211213T211039Z
UID:10001443-1654714800-1654722000@newcumberlandpa.org
SUMMARY:Borough Council Meeting
DESCRIPTION:
URL:https://newcumberlandpa.org/event/borough-council-meeting-15/2022-06-08/
LOCATION:Borough Council Chambers\, 1120 Market Street\, New Cumberland\, PA\, 17070\, United States
CATEGORIES:Meetings
END:VEVENT
BEGIN:VEVENT
DTSTART;TZID=America/New_York:20220608T113000
DTEND;TZID=America/New_York:20220608T130000
DTSTAMP:20260425T062702
CREATED:20211213T211258Z
LAST-MODIFIED:20220919T141217Z
UID:10001513-1654687800-1654693200@newcumberlandpa.org
SUMMARY:New Cumberland Olde Towne Association Monthly Meeting
DESCRIPTION:The organization is always looking for new members and the public is invited to attend. Lunch is $10.00 for guests and $8.50 for members. Membership is $5.00 a year.  For more information contact Christine Leukus at 717-319-4421 or email her at cvleukus@aol.com.
URL:https://newcumberlandpa.org/event/new-cumberland-olde-towne-association-monthly-meeting-8/2022-06-08/
LOCATION:American Legion Post 143\, 214 Market Street\, New Cumberland\, PA\, 17070\, United States
CATEGORIES:Community,Meetings
ORGANIZER;CN="New Cumberland Olde Towne Association":MAILTO:cvleukus@aol.com
END:VEVENT
BEGIN:VEVENT
DTSTART;TZID=America/New_York:20220518T190000
DTEND;TZID=America/New_York:20220518T200000
DTSTAMP:20260425T062702
CREATED:20211213T211909Z
LAST-MODIFIED:20211213T211909Z
UID:10001647-1652900400-1652904000@newcumberlandpa.org
SUMMARY:Planning Commission Meeting
DESCRIPTION:
URL:https://newcumberlandpa.org/event/planning-commission-meeting-14/2022-05-18/
LOCATION:Borough Council Chambers\, 1120 Market Street\, New Cumberland\, PA\, 17070\, United States
CATEGORIES:Meetings
END:VEVENT
BEGIN:VEVENT
DTSTART;TZID=America/New_York:20220518T080000
DTEND;TZID=America/New_York:20220518T090000
DTSTAMP:20260425T062702
CREATED:20211213T210153Z
LAST-MODIFIED:20221026T153858Z
UID:10001305-1652860800-1652864400@newcumberlandpa.org
SUMMARY:B&PG Member Meeting
DESCRIPTION:
URL:https://newcumberlandpa.org/event/bpg-member-meeting-22/2022-05-18/
LOCATION:New Cumberland Fire Department\, 319 4th Street\, New Cumberland\, PA\, 17070\, United States
CATEGORIES:Meetings
ORGANIZER;CN="New Cumberland Business & Profesional Group":MAILTO:communicationschairNC@gmail.com
END:VEVENT
BEGIN:VEVENT
DTSTART;TZID=America/New_York:20220517T190000
DTEND;TZID=America/New_York:20220517T203000
DTSTAMP:20260425T062702
CREATED:20211213T211610Z
LAST-MODIFIED:20211213T211610Z
UID:10001581-1652814000-1652819400@newcumberlandpa.org
SUMMARY:Library Board Meeting
DESCRIPTION:
URL:https://newcumberlandpa.org/event/library-board-meeting-11/2022-05-17/
LOCATION:New Cumberland Public Library
CATEGORIES:Meetings
END:VEVENT
BEGIN:VEVENT
DTSTART;TZID=America/New_York:20220511T190000
DTEND;TZID=America/New_York:20220511T210000
DTSTAMP:20260425T062702
CREATED:20211213T211039Z
LAST-MODIFIED:20211213T211039Z
UID:10001442-1652295600-1652302800@newcumberlandpa.org
SUMMARY:Borough Council Meeting
DESCRIPTION:
URL:https://newcumberlandpa.org/event/borough-council-meeting-15/2022-05-11/
LOCATION:Borough Council Chambers\, 1120 Market Street\, New Cumberland\, PA\, 17070\, United States
CATEGORIES:Meetings
END:VEVENT
BEGIN:VEVENT
DTSTART;TZID=America/New_York:20220511T113000
DTEND;TZID=America/New_York:20220511T130000
DTSTAMP:20260425T062702
CREATED:20211213T211258Z
LAST-MODIFIED:20220919T141217Z
UID:10001512-1652268600-1652274000@newcumberlandpa.org
SUMMARY:New Cumberland Olde Towne Association Monthly Meeting
DESCRIPTION:The organization is always looking for new members and the public is invited to attend. Lunch is $10.00 for guests and $8.50 for members. Membership is $5.00 a year.  For more information contact Christine Leukus at 717-319-4421 or email her at cvleukus@aol.com.
URL:https://newcumberlandpa.org/event/new-cumberland-olde-towne-association-monthly-meeting-8/2022-05-11/
LOCATION:American Legion Post 143\, 214 Market Street\, New Cumberland\, PA\, 17070\, United States
CATEGORIES:Community,Meetings
ORGANIZER;CN="New Cumberland Olde Towne Association":MAILTO:cvleukus@aol.com
END:VEVENT
BEGIN:VEVENT
DTSTART;TZID=America/New_York:20220420T190000
DTEND;TZID=America/New_York:20220420T200000
DTSTAMP:20260425T062702
CREATED:20211213T211909Z
LAST-MODIFIED:20211213T211909Z
UID:10001646-1650481200-1650484800@newcumberlandpa.org
SUMMARY:Planning Commission Meeting
DESCRIPTION:
URL:https://newcumberlandpa.org/event/planning-commission-meeting-14/2022-04-20/
LOCATION:Borough Council Chambers\, 1120 Market Street\, New Cumberland\, PA\, 17070\, United States
CATEGORIES:Meetings
END:VEVENT
BEGIN:VEVENT
DTSTART;TZID=America/New_York:20220420T080000
DTEND;TZID=America/New_York:20220420T090000
DTSTAMP:20260425T062702
CREATED:20211213T210153Z
LAST-MODIFIED:20221026T153858Z
UID:10001304-1650441600-1650445200@newcumberlandpa.org
SUMMARY:B&PG Member Meeting
DESCRIPTION:
URL:https://newcumberlandpa.org/event/bpg-member-meeting-22/2022-04-20/
LOCATION:New Cumberland Fire Department\, 319 4th Street\, New Cumberland\, PA\, 17070\, United States
CATEGORIES:Meetings
ORGANIZER;CN="New Cumberland Business & Profesional Group":MAILTO:communicationschairNC@gmail.com
END:VEVENT
BEGIN:VEVENT
DTSTART;TZID=America/New_York:20220419T190000
DTEND;TZID=America/New_York:20220419T203000
DTSTAMP:20260425T062702
CREATED:20211213T211610Z
LAST-MODIFIED:20211213T211610Z
UID:10001580-1650394800-1650400200@newcumberlandpa.org
SUMMARY:Library Board Meeting
DESCRIPTION:
URL:https://newcumberlandpa.org/event/library-board-meeting-11/2022-04-19/
LOCATION:New Cumberland Public Library
CATEGORIES:Meetings
END:VEVENT
BEGIN:VEVENT
DTSTART;TZID=America/New_York:20220413T190000
DTEND;TZID=America/New_York:20220413T210000
DTSTAMP:20260425T062702
CREATED:20211213T211039Z
LAST-MODIFIED:20211213T211039Z
UID:10001441-1649876400-1649883600@newcumberlandpa.org
SUMMARY:Borough Council Meeting
DESCRIPTION:
URL:https://newcumberlandpa.org/event/borough-council-meeting-15/2022-04-13/
LOCATION:Borough Council Chambers\, 1120 Market Street\, New Cumberland\, PA\, 17070\, United States
CATEGORIES:Meetings
END:VEVENT
BEGIN:VEVENT
DTSTART;TZID=America/New_York:20220413T113000
DTEND;TZID=America/New_York:20220413T130000
DTSTAMP:20260425T062702
CREATED:20211213T211258Z
LAST-MODIFIED:20220919T141217Z
UID:10001511-1649849400-1649854800@newcumberlandpa.org
SUMMARY:New Cumberland Olde Towne Association Monthly Meeting
DESCRIPTION:The organization is always looking for new members and the public is invited to attend. Lunch is $10.00 for guests and $8.50 for members. Membership is $5.00 a year.  For more information contact Christine Leukus at 717-319-4421 or email her at cvleukus@aol.com.
URL:https://newcumberlandpa.org/event/new-cumberland-olde-towne-association-monthly-meeting-8/2022-04-13/
LOCATION:American Legion Post 143\, 214 Market Street\, New Cumberland\, PA\, 17070\, United States
CATEGORIES:Community,Meetings
ORGANIZER;CN="New Cumberland Olde Towne Association":MAILTO:cvleukus@aol.com
END:VEVENT
BEGIN:VEVENT
DTSTART;TZID=America/New_York:20220316T190000
DTEND;TZID=America/New_York:20220316T200000
DTSTAMP:20260425T062702
CREATED:20211213T211909Z
LAST-MODIFIED:20211213T211909Z
UID:10001645-1647457200-1647460800@newcumberlandpa.org
SUMMARY:Planning Commission Meeting
DESCRIPTION:
URL:https://newcumberlandpa.org/event/planning-commission-meeting-14/2022-03-16/
LOCATION:Borough Council Chambers\, 1120 Market Street\, New Cumberland\, PA\, 17070\, United States
CATEGORIES:Meetings
END:VEVENT
BEGIN:VEVENT
DTSTART;TZID=America/New_York:20220316T080000
DTEND;TZID=America/New_York:20220316T090000
DTSTAMP:20260425T062702
CREATED:20211213T210153Z
LAST-MODIFIED:20221026T153858Z
UID:10001303-1647417600-1647421200@newcumberlandpa.org
SUMMARY:B&PG Member Meeting
DESCRIPTION:
URL:https://newcumberlandpa.org/event/bpg-member-meeting-22/2022-03-16/
LOCATION:New Cumberland Fire Department\, 319 4th Street\, New Cumberland\, PA\, 17070\, United States
CATEGORIES:Meetings
ORGANIZER;CN="New Cumberland Business & Profesional Group":MAILTO:communicationschairNC@gmail.com
END:VEVENT
BEGIN:VEVENT
DTSTART;TZID=America/New_York:20220315T190000
DTEND;TZID=America/New_York:20220315T203000
DTSTAMP:20260425T062702
CREATED:20211213T211610Z
LAST-MODIFIED:20211213T211610Z
UID:10001579-1647370800-1647376200@newcumberlandpa.org
SUMMARY:Library Board Meeting
DESCRIPTION:
URL:https://newcumberlandpa.org/event/library-board-meeting-11/2022-03-15/
LOCATION:New Cumberland Public Library
CATEGORIES:Meetings
END:VEVENT
BEGIN:VEVENT
DTSTART;TZID=America/New_York:20220309T190000
DTEND;TZID=America/New_York:20220309T210000
DTSTAMP:20260425T062702
CREATED:20211213T211039Z
LAST-MODIFIED:20211213T211039Z
UID:10001440-1646852400-1646859600@newcumberlandpa.org
SUMMARY:Borough Council Meeting
DESCRIPTION:
URL:https://newcumberlandpa.org/event/borough-council-meeting-15/2022-03-09/
LOCATION:Borough Council Chambers\, 1120 Market Street\, New Cumberland\, PA\, 17070\, United States
CATEGORIES:Meetings
END:VEVENT
BEGIN:VEVENT
DTSTART;TZID=America/New_York:20220309T113000
DTEND;TZID=America/New_York:20220309T130000
DTSTAMP:20260425T062702
CREATED:20211213T211258Z
LAST-MODIFIED:20220919T141217Z
UID:10001510-1646825400-1646830800@newcumberlandpa.org
SUMMARY:New Cumberland Olde Towne Association Monthly Meeting
DESCRIPTION:The organization is always looking for new members and the public is invited to attend. Lunch is $10.00 for guests and $8.50 for members. Membership is $5.00 a year.  For more information contact Christine Leukus at 717-319-4421 or email her at cvleukus@aol.com.
URL:https://newcumberlandpa.org/event/new-cumberland-olde-towne-association-monthly-meeting-8/2022-03-09/
LOCATION:American Legion Post 143\, 214 Market Street\, New Cumberland\, PA\, 17070\, United States
CATEGORIES:Community,Meetings
ORGANIZER;CN="New Cumberland Olde Towne Association":MAILTO:cvleukus@aol.com
END:VEVENT
BEGIN:VEVENT
DTSTART;TZID=America/New_York:20220216T190000
DTEND;TZID=America/New_York:20220216T200000
DTSTAMP:20260425T062702
CREATED:20211213T211909Z
LAST-MODIFIED:20211213T211909Z
UID:10001644-1645038000-1645041600@newcumberlandpa.org
SUMMARY:Planning Commission Meeting
DESCRIPTION:
URL:https://newcumberlandpa.org/event/planning-commission-meeting-14/2022-02-16/
LOCATION:Borough Council Chambers\, 1120 Market Street\, New Cumberland\, PA\, 17070\, United States
CATEGORIES:Meetings
END:VEVENT
END:VCALENDAR