BEGIN:VCALENDAR
VERSION:2.0
PRODID:-//New Cumberland B&amp;PG - ECPv6.15.17.1//NONSGML v1.0//EN
CALSCALE:GREGORIAN
METHOD:PUBLISH
X-WR-CALNAME:New Cumberland B&amp;PG
X-ORIGINAL-URL:https://newcumberlandpa.org
X-WR-CALDESC:Events for New Cumberland B&amp;PG
REFRESH-INTERVAL;VALUE=DURATION:PT1H
X-Robots-Tag:noindex
X-PUBLISHED-TTL:PT1H
BEGIN:VTIMEZONE
TZID:America/New_York
BEGIN:DAYLIGHT
TZOFFSETFROM:-0500
TZOFFSETTO:-0400
TZNAME:EDT
DTSTART:20250309T070000
END:DAYLIGHT
BEGIN:STANDARD
TZOFFSETFROM:-0400
TZOFFSETTO:-0500
TZNAME:EST
DTSTART:20251102T060000
END:STANDARD
BEGIN:DAYLIGHT
TZOFFSETFROM:-0500
TZOFFSETTO:-0400
TZNAME:EDT
DTSTART:20260308T070000
END:DAYLIGHT
BEGIN:STANDARD
TZOFFSETFROM:-0400
TZOFFSETTO:-0500
TZNAME:EST
DTSTART:20261101T060000
END:STANDARD
BEGIN:DAYLIGHT
TZOFFSETFROM:-0500
TZOFFSETTO:-0400
TZNAME:EDT
DTSTART:20270314T070000
END:DAYLIGHT
BEGIN:STANDARD
TZOFFSETFROM:-0400
TZOFFSETTO:-0500
TZNAME:EST
DTSTART:20271107T060000
END:STANDARD
END:VTIMEZONE
BEGIN:VEVENT
DTSTART;TZID=America/New_York:20260205T080000
DTEND;TZID=America/New_York:20260205T090000
DTSTAMP:20260423T171753
CREATED:20240311T152305Z
LAST-MODIFIED:20240311T152307Z
UID:10002014-1770278400-1770282000@newcumberlandpa.org
SUMMARY:B&PG Executive Team Meeting
DESCRIPTION:
URL:https://newcumberlandpa.org/event/bpg-executive-team-meeting-2/2026-02-05/
LOCATION:New Cumberland Fire Department\, 319 4th Street\, New Cumberland\, PA\, 17070\, United States
CATEGORIES:Meetings
ORGANIZER;CN="New Cumberland Business & Profesional Group":MAILTO:communicationschairNC@gmail.com
END:VEVENT
BEGIN:VEVENT
DTSTART;TZID=America/New_York:20260211T113000
DTEND;TZID=America/New_York:20260211T130000
DTSTAMP:20260423T171753
CREATED:20221026T154232Z
LAST-MODIFIED:20221026T154232Z
UID:10001557-1770809400-1770814800@newcumberlandpa.org
SUMMARY:New Cumberland Olde Towne Association Monthly Meeting
DESCRIPTION:The organization is always looking for new members and the public is invited to attend. Lunch is $10.00 for guests and $8.50 for members. Membership is $5.00 a year.  For more information contact Christine Leukus at 717-319-4421 or email her at cvleukus@aol.com.
URL:https://newcumberlandpa.org/event/new-cumberland-olde-towne-association-monthly-meeting-8-2/2026-02-11/
LOCATION:American Legion Post 143\, 214 Market Street\, New Cumberland\, PA\, 17070\, United States
CATEGORIES:Community,Meetings
ORGANIZER;CN="New Cumberland Olde Towne Association":MAILTO:cvleukus@aol.com
END:VEVENT
BEGIN:VEVENT
DTSTART;TZID=America/New_York:20260211T190000
DTEND;TZID=America/New_York:20260211T210000
DTSTAMP:20260423T171753
CREATED:20221026T154317Z
LAST-MODIFIED:20221026T154318Z
UID:10001487-1770836400-1770843600@newcumberlandpa.org
SUMMARY:Borough Council Meeting
DESCRIPTION:
URL:https://newcumberlandpa.org/event/borough-council-meeting-15-2/2026-02-11/
LOCATION:Borough Council Chambers\, 1120 Market Street\, New Cumberland\, PA\, 17070\, United States
CATEGORIES:Meetings
END:VEVENT
BEGIN:VEVENT
DTSTART;TZID=America/New_York:20260217T190000
DTEND;TZID=America/New_York:20260217T203000
DTSTAMP:20260423T171753
CREATED:20221026T154410Z
LAST-MODIFIED:20230920T144708Z
UID:10001624-1771354800-1771360200@newcumberlandpa.org
SUMMARY:Library Board Meeting
DESCRIPTION:
URL:https://newcumberlandpa.org/event/library-board-meeting-11-2/2026-02-17/
LOCATION:New Cumberland Public Library
CATEGORIES:Meetings
END:VEVENT
BEGIN:VEVENT
DTSTART;TZID=America/New_York:20260218T080000
DTEND;TZID=America/New_York:20260218T090000
DTSTAMP:20260423T171753
CREATED:20211213T210153Z
LAST-MODIFIED:20221026T153858Z
UID:10001350-1771401600-1771405200@newcumberlandpa.org
SUMMARY:B&PG Member Meeting
DESCRIPTION:
URL:https://newcumberlandpa.org/event/bpg-member-meeting-22/2026-02-18/
LOCATION:New Cumberland Fire Department\, 319 4th Street\, New Cumberland\, PA\, 17070\, United States
CATEGORIES:Meetings
ORGANIZER;CN="New Cumberland Business & Profesional Group":MAILTO:communicationschairNC@gmail.com
END:VEVENT
BEGIN:VEVENT
DTSTART;TZID=America/New_York:20260218T190000
DTEND;TZID=America/New_York:20260218T200000
DTSTAMP:20260423T171753
CREATED:20221026T154435Z
LAST-MODIFIED:20221026T154436Z
UID:10001692-1771441200-1771444800@newcumberlandpa.org
SUMMARY:Planning Commission Meeting
DESCRIPTION:
URL:https://newcumberlandpa.org/event/planning-commission-meeting-14-2/2026-02-18/
LOCATION:Borough Council Chambers\, 1120 Market Street\, New Cumberland\, PA\, 17070\, United States
CATEGORIES:Meetings
END:VEVENT
END:VCALENDAR