BEGIN:VCALENDAR
VERSION:2.0
PRODID:-//New Cumberland B&amp;PG - ECPv6.15.17.1//NONSGML v1.0//EN
CALSCALE:GREGORIAN
METHOD:PUBLISH
X-WR-CALNAME:New Cumberland B&amp;PG
X-ORIGINAL-URL:https://newcumberlandpa.org
X-WR-CALDESC:Events for New Cumberland B&amp;PG
REFRESH-INTERVAL;VALUE=DURATION:PT1H
X-Robots-Tag:noindex
X-PUBLISHED-TTL:PT1H
BEGIN:VTIMEZONE
TZID:America/New_York
BEGIN:DAYLIGHT
TZOFFSETFROM:-0500
TZOFFSETTO:-0400
TZNAME:EDT
DTSTART:20190310T070000
END:DAYLIGHT
BEGIN:STANDARD
TZOFFSETFROM:-0400
TZOFFSETTO:-0500
TZNAME:EST
DTSTART:20191103T060000
END:STANDARD
BEGIN:DAYLIGHT
TZOFFSETFROM:-0500
TZOFFSETTO:-0400
TZNAME:EDT
DTSTART:20200308T070000
END:DAYLIGHT
BEGIN:STANDARD
TZOFFSETFROM:-0400
TZOFFSETTO:-0500
TZNAME:EST
DTSTART:20201101T060000
END:STANDARD
BEGIN:DAYLIGHT
TZOFFSETFROM:-0500
TZOFFSETTO:-0400
TZNAME:EDT
DTSTART:20210314T070000
END:DAYLIGHT
BEGIN:STANDARD
TZOFFSETFROM:-0400
TZOFFSETTO:-0500
TZNAME:EST
DTSTART:20211107T060000
END:STANDARD
BEGIN:DAYLIGHT
TZOFFSETFROM:-0500
TZOFFSETTO:-0400
TZNAME:EDT
DTSTART:20220313T070000
END:DAYLIGHT
BEGIN:STANDARD
TZOFFSETFROM:-0400
TZOFFSETTO:-0500
TZNAME:EST
DTSTART:20221106T060000
END:STANDARD
END:VTIMEZONE
BEGIN:VEVENT
DTSTART;TZID=America/New_York:20210703T090000
DTEND;TZID=America/New_York:20210703T150000
DTSTAMP:20260424T020524
CREATED:20210608T132147Z
LAST-MODIFIED:20210608T132147Z
UID:10001224-1625302800-1625324400@newcumberlandpa.org
SUMMARY:Book Sale
DESCRIPTION:The Friends of the New Cumberland Public Library hold pre-owned book sales on the first and third Saturdays of each month from 9:00 am until 3:00 pm in the Foundation House located across the shared parking lot from the Library. Sales include: hardback and paperback books in fiction and non-fiction\, DVD’s\, music CD’s\, puzzles\, children’s books\, 331/3 rpm vinyl records\, tote bags\, and notecards. The Friends have large collections of all genres of books\, DVD movies\, a children’s book corner\, and “specials” during each sale.  A great selection of gently used and vintage jewelry will also be for sale.
URL:https://newcumberlandpa.org/event/book-sale-18/
LOCATION:Foundation House at the New Cumberland Public Library\, 1 Benjamin Plaza\, New Cumberland\, PA\, 17070\, United States
CATEGORIES:Fundraiser
ATTACH;FMTTYPE=image/jpeg:https://newcumberlandpa.org/wp-content/uploads/2019/12/book_sale_photo_250X175.jpg
END:VEVENT
BEGIN:VEVENT
DTSTART;TZID=America/New_York:20210625T180000
DTEND;TZID=America/New_York:20210625T210000
DTSTAMP:20260424T020524
CREATED:20210419T143206Z
LAST-MODIFIED:20210608T154850Z
UID:10001169-1624644000-1624654800@newcumberlandpa.org
SUMMARY:West Shore Has Talent
DESCRIPTION:Enjoy live music! \nJoin the Friends of the West Shore Theatre at New Cumberland Borough PArk Pavilion #4 for food\, friends\, and fundraising. \n$25 – Picnic meal with non-alcoholic drinks\n$50 – Picnic meal and alcoholic drinks (ID required) \nFor tickets\, visit www.friendsofthewestshoretheatre.org \n 
URL:https://newcumberlandpa.org/event/west-shore-has-talent/
LOCATION:New Cumberland Borough Park\, Front Street & Geary Avenue\, New Cumberland\, Pennsylvania\, 17070\, United States
CATEGORIES:Community,Fundraiser
ORGANIZER;CN="Friends of the West Shore Theatre":MAILTO:fowstheatre@gmail.com
END:VEVENT
BEGIN:VEVENT
DTSTART;TZID=America/New_York:20210619T090000
DTEND;TZID=America/New_York:20210619T150000
DTSTAMP:20260424T020524
CREATED:20210608T132122Z
LAST-MODIFIED:20210608T132122Z
UID:10001223-1624093200-1624114800@newcumberlandpa.org
SUMMARY:Book Sale
DESCRIPTION:The Friends of the New Cumberland Public Library hold pre-owned book sales on the first and third Saturdays of each month from 9:00 am until 3:00 pm in the Foundation House located across the shared parking lot from the Library. Sales include: hardback and paperback books in fiction and non-fiction\, DVD’s\, music CD’s\, puzzles\, children’s books\, 331/3 rpm vinyl records\, tote bags\, and notecards. The Friends have large collections of all genres of books\, DVD movies\, a children’s book corner\, and “specials” during each sale.  A great selection of gently used and vintage jewelry will also be for sale.
URL:https://newcumberlandpa.org/event/book-sale-15/
LOCATION:Foundation House at the New Cumberland Public Library\, 1 Benjamin Plaza\, New Cumberland\, PA\, 17070\, United States
CATEGORIES:Fundraiser
ATTACH;FMTTYPE=image/jpeg:https://newcumberlandpa.org/wp-content/uploads/2019/12/book_sale_photo_250X175.jpg
END:VEVENT
BEGIN:VEVENT
DTSTART;TZID=America/New_York:20210619T080000
DTEND;TZID=America/New_York:20210619T140000
DTSTAMP:20260424T020524
CREATED:20210505T135011Z
LAST-MODIFIED:20210505T135011Z
UID:10001187-1624089600-1624111200@newcumberlandpa.org
SUMMARY:Blood Drive
DESCRIPTION:The New Cumberland First Church of God\, 323 Reno Avenue\, New Cumberland\, will hold a community blood drive for the Central PA Blood Bank on Saturday\, June 19\, 2021\, from 8:00 AM to 2:00 PM at the church. \nDue to the current Covid-19 pandemic\, there will be appropriate social distancing and sanitation protocols in place.  Also\, donors are required to adhere to the following: \n\nAll donors must make a donation appointment through the Central Pennsylvania Blood Bank by calling 1-800-771-0059 OR by going to the website at https://donate.717giveblood.org/donor/schedules/zip.\nAll donors must wear a mask from the time they enter the church\, during the donation process and up until the time they exit the building.\n\nFor more information please call Rose Bruce at 717-215-0328 or contact the CPBB directly at 1-800-771-0059.
URL:https://newcumberlandpa.org/event/blood-drive-6/
LOCATION:New Cumberland First Church of God\, 323 Reno Street\, New Cumberland\, Pennsylvania\, 17070\, United States
CATEGORIES:Community,Fundraiser
ORGANIZER;CN="New Cumberland First Church of God":MAILTO:gen@odessadesign.com
END:VEVENT
BEGIN:VEVENT
DTSTART;TZID=America/New_York:20210508T110000
DTEND;TZID=America/New_York:20210508T170000
DTSTAMP:20260424T020524
CREATED:20210402T212922Z
LAST-MODIFIED:20210402T212922Z
UID:10001163-1620471600-1620493200@newcumberlandpa.org
SUMMARY:Chicken BBQ
DESCRIPTION:Barbeque chicken\, baked potato\, apple sauce\, roll\, and butter. This will be a drive-by or walk thru fundraising event. There will be no onsite dining allowed. 11:00 a.m. until sell out. $10.00
URL:https://newcumberlandpa.org/event/chicken-bbq-6/
LOCATION:New Cumberland Fire Department\, 319 4th Street\, New Cumberland\, PA\, 17070\, United States
CATEGORIES:Community,Fundraiser
ATTACH;FMTTYPE=image/jpeg:https://newcumberlandpa.org/wp-content/uploads/2020/03/NCFD10-Web-Banner.jpg
END:VEVENT
BEGIN:VEVENT
DTSTART;TZID=America/New_York:20210424T080000
DTEND;TZID=America/New_York:20210424T140000
DTSTAMP:20260424T020524
CREATED:20210201T153213Z
LAST-MODIFIED:20210201T153214Z
UID:10001135-1619251200-1619272800@newcumberlandpa.org
SUMMARY:New Cumberland Library Plant Sale
DESCRIPTION:
URL:https://newcumberlandpa.org/event/new-cumberland-library-plant-sale/
LOCATION:Foundation House at the New Cumberland Public Library\, 1 Benjamin Plaza\, New Cumberland\, PA\, 17070\, United States
CATEGORIES:Community,Fundraiser
END:VEVENT
BEGIN:VEVENT
DTSTART;TZID=America/New_York:20210417T090000
DTEND;TZID=America/New_York:20210417T150000
DTSTAMP:20260424T020524
CREATED:20210315T155544Z
LAST-MODIFIED:20210315T155544Z
UID:10001156-1618650000-1618671600@newcumberlandpa.org
SUMMARY:Book Sale
DESCRIPTION:The Friends of the New Cumberland Public Library hold pre-owned book sales on the first and third Saturdays of each month from 9:00 am until 3:00 pm in the Foundation House located across the shared parking lot from the Library. Sales include: hardback and paperback books in fiction and non-fiction\, DVD’s\, music CD’s\, puzzles\, children’s books\, 331/3 rpm vinyl records\, tote bags\, and notecards. The Friends have large collections of all genres of books\, DVD movies\, a children’s book corner\, and “specials” during each sale.  A great selection of gently used and vintage jewelry will also be for sale.
URL:https://newcumberlandpa.org/event/book-sale-14/
LOCATION:Foundation House at the New Cumberland Public Library\, 1 Benjamin Plaza\, New Cumberland\, PA\, 17070\, United States
CATEGORIES:Fundraiser
ATTACH;FMTTYPE=image/jpeg:https://newcumberlandpa.org/wp-content/uploads/2019/12/book_sale_photo_250X175.jpg
END:VEVENT
BEGIN:VEVENT
DTSTART;TZID=America/New_York:20210403T090000
DTEND;TZID=America/New_York:20210403T150000
DTSTAMP:20260424T020524
CREATED:20210315T155514Z
LAST-MODIFIED:20210315T155514Z
UID:10001155-1617440400-1617462000@newcumberlandpa.org
SUMMARY:Book Sale
DESCRIPTION:The Friends of the New Cumberland Public Library hold pre-owned book sales on the first and third Saturdays of each month from 9:00 am until 3:00 pm in the Foundation House located across the shared parking lot from the Library. Sales include: hardback and paperback books in fiction and non-fiction\, DVD’s\, music CD’s\, puzzles\, children’s books\, 331/3 rpm vinyl records\, tote bags\, and notecards. The Friends have large collections of all genres of books\, DVD movies\, a children’s book corner\, and “specials” during each sale.  A great selection of gently used and vintage jewelry will also be for sale.
URL:https://newcumberlandpa.org/event/book-sale-13/
LOCATION:Foundation House at the New Cumberland Public Library\, 1 Benjamin Plaza\, New Cumberland\, PA\, 17070\, United States
CATEGORIES:Fundraiser
ATTACH;FMTTYPE=image/jpeg:https://newcumberlandpa.org/wp-content/uploads/2019/12/book_sale_photo_250X175.jpg
END:VEVENT
BEGIN:VEVENT
DTSTART;TZID=America/New_York:20210320T090000
DTEND;TZID=America/New_York:20210320T150000
DTSTAMP:20260424T020524
CREATED:20210315T155446Z
LAST-MODIFIED:20210315T155446Z
UID:10001154-1616230800-1616252400@newcumberlandpa.org
SUMMARY:Book Sale
DESCRIPTION:The Friends of the New Cumberland Public Library hold pre-owned book sales on the first and third Saturdays of each month from 9:00 am until 3:00 pm in the Foundation House located across the shared parking lot from the Library. Sales include: hardback and paperback books in fiction and non-fiction\, DVD’s\, music CD’s\, puzzles\, children’s books\, 331/3 rpm vinyl records\, tote bags\, and notecards. The Friends have large collections of all genres of books\, DVD movies\, a children’s book corner\, and “specials” during each sale.  A great selection of gently used and vintage jewelry will also be for sale.
URL:https://newcumberlandpa.org/event/book-sale-12/
LOCATION:Foundation House at the New Cumberland Public Library\, 1 Benjamin Plaza\, New Cumberland\, PA\, 17070\, United States
CATEGORIES:Fundraiser
ATTACH;FMTTYPE=image/jpeg:https://newcumberlandpa.org/wp-content/uploads/2019/12/book_sale_photo_250X175.jpg
END:VEVENT
BEGIN:VEVENT
DTSTART;TZID=America/New_York:20210220T090000
DTEND;TZID=America/New_York:20210220T150000
DTSTAMP:20260424T020524
CREATED:20210201T153641Z
LAST-MODIFIED:20210201T153641Z
UID:10001137-1613811600-1613833200@newcumberlandpa.org
SUMMARY:Book Sale
DESCRIPTION:The Friends of the New Cumberland Public Library hold pre-owned book sales on the first and third Saturdays of each month from 9:00 am until 3:00 pm in the Foundation House located across the shared parking lot from the Library. Sales include: hardback and paperback books in fiction and non-fiction\, DVD’s\, music CD’s\, puzzles\, children’s books\, 331/3 rpm vinyl records\, tote bags\, and notecards. The Friends have large collections of all genres of books\, DVD movies\, a children’s book corner\, and “specials” during each sale.  A great selection of gently used and vintage jewelry will also be for sale.
URL:https://newcumberlandpa.org/event/book-sale-11/
LOCATION:Foundation House at the New Cumberland Public Library\, 1 Benjamin Plaza\, New Cumberland\, PA\, 17070\, United States
CATEGORIES:Fundraiser
ATTACH;FMTTYPE=image/jpeg:https://newcumberlandpa.org/wp-content/uploads/2019/12/book_sale_photo_250X175.jpg
END:VEVENT
BEGIN:VEVENT
DTSTART;TZID=America/New_York:20210213T080000
DTEND;TZID=America/New_York:20210213T140000
DTSTAMP:20260424T020524
CREATED:20210112T171942Z
LAST-MODIFIED:20210112T171942Z
UID:10001123-1613203200-1613224800@newcumberlandpa.org
SUMMARY:Blood Drive
DESCRIPTION:The New Cumberland First Church of God\, 323 Reno Avenue\, New Cumberland\, will hold a community blood drive for the Central PA Blood Bank on Saturday\, February 13\, 2021\, from 8:00 AM to 2:00 PM at the church. \nDue to the current Covid-19 pandemic\, there will be appropriate social distancing and sanitation protocols in place.  Also\, donors are required to adhere to the following: \n\nAll donors must make a donation appointment through the Central Pennsylvania Blood Bank by calling 1-800-771-0059.\nAll donors must wear a mask from the time they enter the church\, during the donation process and up until the time they exit the building.\n\nFor more information please call Rose Bruce at 717-215-0328 or contact the CPBB directly at 1-800-771-0059.
URL:https://newcumberlandpa.org/event/blood-drive-5/
LOCATION:New Cumberland First Church of God\, 323 Reno Street\, New Cumberland\, Pennsylvania\, 17070\, United States
CATEGORIES:Community,Fundraiser
ORGANIZER;CN="New Cumberland First Church of God":MAILTO:gen@odessadesign.com
END:VEVENT
BEGIN:VEVENT
DTSTART;TZID=America/New_York:20210206T090000
DTEND;TZID=America/New_York:20210206T150000
DTSTAMP:20260424T020524
CREATED:20210201T153545Z
LAST-MODIFIED:20210201T153700Z
UID:10001136-1612602000-1612623600@newcumberlandpa.org
SUMMARY:Book Sale
DESCRIPTION:The Friends of the New Cumberland Public Library hold pre-owned book sales on the first and third Saturdays of each month from 9:00 am until 3:00 pm in the Foundation House located across the shared parking lot from the Library. Sales include: hardback and paperback books in fiction and non-fiction\, DVD’s\, music CD’s\, puzzles\, children’s books\, 331/3 rpm vinyl records\, tote bags\, and notecards. The Friends have large collections of all genres of books\, DVD movies\, a children’s book corner\, and “specials” during each sale.  A great selection of gently used and vintage jewelry will also be for sale.
URL:https://newcumberlandpa.org/event/book-sale-10/
LOCATION:Foundation House at the New Cumberland Public Library\, 1 Benjamin Plaza\, New Cumberland\, PA\, 17070\, United States
CATEGORIES:Fundraiser
ATTACH;FMTTYPE=image/jpeg:https://newcumberlandpa.org/wp-content/uploads/2019/12/book_sale_photo_250X175.jpg
END:VEVENT
BEGIN:VEVENT
DTSTART;TZID=America/New_York:20201205T080000
DTEND;TZID=America/New_York:20201205T140000
DTSTAMP:20260424T020524
CREATED:20201023T200054Z
LAST-MODIFIED:20201023T200054Z
UID:10001102-1607155200-1607176800@newcumberlandpa.org
SUMMARY:Blood Drive
DESCRIPTION:The New Cumberland First Church of God\, 323 Reno Avenue\, New Cumberland\, will hold a community blood drive for the Central PA Blood Bank on Saturday\, December 5\, 2020\, from 8:00 AM to 2:00 PM at the church. \nDue to the current Covid-19 pandemic\, there will be appropriate social distancing and sanitation protocols in place.  Also\, donors are required to adhere to the following: \n\nAll donors must make a donation appointment through the Central Pennsylvania Blood Bank by calling 1-800-771-0059.\nAll donors must wear a mask from the time they enter the church\, during the donation process and up until the time they exit the building.\n\nFor more information please call Rose Bruce at 717-215-0328 or contact the CPBB directly at 1-800-771-0059.
URL:https://newcumberlandpa.org/event/blood-drive-4/
LOCATION:New Cumberland First Church of God\, 323 Reno Street\, New Cumberland\, Pennsylvania\, 17070\, United States
CATEGORIES:Community,Fundraiser
ORGANIZER;CN="New Cumberland First Church of God":MAILTO:gen@odessadesign.com
END:VEVENT
BEGIN:VEVENT
DTSTART;TZID=America/New_York:20201017T110000
DTEND;TZID=America/New_York:20201017T170000
DTSTAMP:20260424T020524
CREATED:20201008T212548Z
LAST-MODIFIED:20201008T212548Z
UID:10001101-1602932400-1602954000@newcumberlandpa.org
SUMMARY:Chicken BBQ
DESCRIPTION:Barbeque chicken\, baked potato\, apple sauce\, roll\, and butter. This will be a drive-by or walk thru fundraising event. There will be no onsite dining allowed. 11:00 a.m. until sell out. $10.00
URL:https://newcumberlandpa.org/event/chicken-bbq-5/
LOCATION:New Cumberland Fire Department\, 319 4th Street\, New Cumberland\, PA\, 17070\, United States
CATEGORIES:Community,Fundraiser
ATTACH;FMTTYPE=image/jpeg:https://newcumberlandpa.org/wp-content/uploads/2020/03/NCFD10-Web-Banner.jpg
END:VEVENT
BEGIN:VEVENT
DTSTART;TZID=America/New_York:20201003T080000
DTEND;TZID=America/New_York:20201003T140000
DTSTAMP:20260424T020524
CREATED:20200917T205713Z
LAST-MODIFIED:20200917T210109Z
UID:10001094-1601712000-1601733600@newcumberlandpa.org
SUMMARY:Blood Drive
DESCRIPTION:The New Cumberland First Church of God\, 323 Reno Avenue\, New Cumberland\, will hold a community blood drive for the Central PA Blood Bank on Saturday\, October 2\, 2020\, from 8:00 AM to 2:00 PM at the church. \nDue to the current Covid-19 pandemic\, there will be appropriate social distancing and sanitation protocols in place.  Also\, donors are required to adhere to the following: \n\nAll donors must make a donation appointment through the Central Pennsylvania Blood Bank by calling 1-800-771-0059.\nAll donors must wear a mask from the time they enter the church\, during the donation process and up until the time they exit the building.\n\nFor more information please call Rose Bruce at 717-215-0328 or contact the CPBB directly at 1-800-771-0059.
URL:https://newcumberlandpa.org/event/blood-drive-3/
LOCATION:New Cumberland First Church of God\, 323 Reno Street\, New Cumberland\, Pennsylvania\, 17070\, United States
CATEGORIES:Community,Fundraiser
ORGANIZER;CN="New Cumberland First Church of God":MAILTO:gen@odessadesign.com
END:VEVENT
BEGIN:VEVENT
DTSTART;TZID=America/New_York:20200822T110000
DTEND;TZID=America/New_York:20200822T170000
DTSTAMP:20260424T020524
CREATED:20200729T125310Z
LAST-MODIFIED:20200729T125310Z
UID:10001081-1598094000-1598115600@newcumberlandpa.org
SUMMARY:Chicken BBQ
DESCRIPTION:Barbeque chicken\, baked potato\, and apple sauce. This will be a drive-by or walk thru fundraising event. There will be no onsite dining allowed. 11:00 a.m. until sell out.
URL:https://newcumberlandpa.org/event/chicken-bbq-4/
LOCATION:New Cumberland Fire Department\, 319 4th Street\, New Cumberland\, PA\, 17070\, United States
CATEGORIES:Community,Fundraiser
ATTACH;FMTTYPE=image/jpeg:https://newcumberlandpa.org/wp-content/uploads/2020/03/NCFD10-Web-Banner.jpg
END:VEVENT
BEGIN:VEVENT
DTSTART;TZID=America/New_York:20200725T080000
DTEND;TZID=America/New_York:20200725T130000
DTSTAMP:20260424T020524
CREATED:20200716T185448Z
LAST-MODIFIED:20200716T185510Z
UID:10001079-1595664000-1595682000@newcumberlandpa.org
SUMMARY:Blood Drive
DESCRIPTION:The New Cumberland First Church of God\, 323 Reno Avenue\, New Cumberland\, will hold a community blood drive for the Central PA Blood Bank on Saturday\, July 25\, 2020\, from 8:00 AM to 1:00 PM at the church. \nDue to the current Covid-19 pandemic\, there will be appropriate social distancing and sanitation protocols in place.  Also\, donors are required to adhere to the following: \n\nAll donors must make a donation appointment through the Central Pennsylvania Blood Bank by calling 1-800-771-0059.\nAll donors must wear a mask from the time they enter the church\, during the donation process and up until the time they exit the building.\n\nFor more information please call Rose Bruce at 717-215-0328 or contact the CPBB directly at 1-800-771-0059.
URL:https://newcumberlandpa.org/event/blood-drive-2/
LOCATION:New Cumberland First Church of God\, 323 Reno Street\, New Cumberland\, Pennsylvania\, 17070\, United States
CATEGORIES:Community,Fundraiser
ORGANIZER;CN="New Cumberland First Church of God":MAILTO:gen@odessadesign.com
END:VEVENT
BEGIN:VEVENT
DTSTART;TZID=America/New_York:20200718T110000
DTEND;TZID=America/New_York:20200718T170000
DTSTAMP:20260424T020524
CREATED:20200702T150941Z
LAST-MODIFIED:20200702T150942Z
UID:10001077-1595070000-1595091600@newcumberlandpa.org
SUMMARY:Chicken BBQ
DESCRIPTION:Barbeque chicken\, baked potato\, and apple sauce. This will be a drive-by or walk thru fundraising event. There will be no onsite dining allowed. 11:00 a.m. until sell out.
URL:https://newcumberlandpa.org/event/chicken-bbq-3/
LOCATION:New Cumberland Fire Department\, 319 4th Street\, New Cumberland\, PA\, 17070\, United States
CATEGORIES:Community,Fundraiser
ATTACH;FMTTYPE=image/jpeg:https://newcumberlandpa.org/wp-content/uploads/2020/03/NCFD10-Web-Banner.jpg
END:VEVENT
END:VCALENDAR