BEGIN:VCALENDAR
VERSION:2.0
PRODID:-//New Cumberland B&amp;PG - ECPv6.15.17.1//NONSGML v1.0//EN
CALSCALE:GREGORIAN
METHOD:PUBLISH
X-WR-CALNAME:New Cumberland B&amp;PG
X-ORIGINAL-URL:https://newcumberlandpa.org
X-WR-CALDESC:Events for New Cumberland B&amp;PG
REFRESH-INTERVAL;VALUE=DURATION:PT1H
X-Robots-Tag:noindex
X-PUBLISHED-TTL:PT1H
BEGIN:VTIMEZONE
TZID:America/New_York
BEGIN:DAYLIGHT
TZOFFSETFROM:-0500
TZOFFSETTO:-0400
TZNAME:EDT
DTSTART:20250309T070000
END:DAYLIGHT
BEGIN:STANDARD
TZOFFSETFROM:-0400
TZOFFSETTO:-0500
TZNAME:EST
DTSTART:20251102T060000
END:STANDARD
BEGIN:DAYLIGHT
TZOFFSETFROM:-0500
TZOFFSETTO:-0400
TZNAME:EDT
DTSTART:20260308T070000
END:DAYLIGHT
BEGIN:STANDARD
TZOFFSETFROM:-0400
TZOFFSETTO:-0500
TZNAME:EST
DTSTART:20261101T060000
END:STANDARD
BEGIN:DAYLIGHT
TZOFFSETFROM:-0500
TZOFFSETTO:-0400
TZNAME:EDT
DTSTART:20270314T070000
END:DAYLIGHT
BEGIN:STANDARD
TZOFFSETFROM:-0400
TZOFFSETTO:-0500
TZNAME:EST
DTSTART:20271107T060000
END:STANDARD
BEGIN:DAYLIGHT
TZOFFSETFROM:-0500
TZOFFSETTO:-0400
TZNAME:EDT
DTSTART:20280312T070000
END:DAYLIGHT
BEGIN:STANDARD
TZOFFSETFROM:-0400
TZOFFSETTO:-0500
TZNAME:EST
DTSTART:20281105T060000
END:STANDARD
END:VTIMEZONE
BEGIN:VEVENT
DTSTART;TZID=America/New_York:20260613T110000
DTEND;TZID=America/New_York:20260613T210000
DTSTAMP:20260425T120511
CREATED:20260204T201916Z
LAST-MODIFIED:20260204T201916Z
UID:10004063-1781348400-1781384400@newcumberlandpa.org
SUMMARY:Iron Bridge Music Festival
DESCRIPTION:The Iron Bridge Music Festival is a great way to support and enjoy the talent of local musicians while bringing our community together! Not only do you get to experience the music of talented performers\, but you also get to meet other music lovers and make great memories. Plus\, by attending our annual event\, you’re helping to support the local music scene and our community! \nSo join us at New Cumberland Borough Park to enjoy the music\, have fun\, and show your support for local musicians!
URL:https://newcumberlandpa.org/event/iron-bridge-music-festival-11/
LOCATION:New Cumberland Borough Park\, Front Street & Geary Avenue\, New Cumberland\, Pennsylvania\, 17070\, United States
CATEGORIES:Community
ATTACH;FMTTYPE=image/png:https://newcumberlandpa.org/wp-content/uploads/2024/01/iron-birdge.png
ORGANIZER;CN="New Cumberland Olde Towne Association":MAILTO:cvleukus@aol.com
END:VEVENT
BEGIN:VEVENT
DTSTART;TZID=America/New_York:20260614T110000
DTEND;TZID=America/New_York:20260614T170000
DTSTAMP:20260425T120511
CREATED:20260204T201913Z
LAST-MODIFIED:20260204T201913Z
UID:10004062-1781434800-1781456400@newcumberlandpa.org
SUMMARY:Iron Bridge Music Festival
DESCRIPTION:The Iron Bridge Music Festival is a great way to support and enjoy the talent of local musicians while bringing our community together! Not only do you get to experience the music of talented performers\, but you also get to meet other music lovers and make great memories. Plus\, by attending our annual event\, you’re helping to support the local music scene and our community! \nSo join us on at New Cumberland Borough Park to enjoy the music\, have fun\, and show your support for local musicians!
URL:https://newcumberlandpa.org/event/iron-bridge-music-festival-10/
LOCATION:New Cumberland Borough Park\, Front Street & Geary Avenue\, New Cumberland\, Pennsylvania\, 17070\, United States
CATEGORIES:Community
ATTACH;FMTTYPE=image/png:https://newcumberlandpa.org/wp-content/uploads/2024/01/iron-birdge.png
ORGANIZER;CN="New Cumberland Olde Towne Association":MAILTO:cvleukus@aol.com
END:VEVENT
BEGIN:VEVENT
DTSTART;TZID=America/New_York:20260708T113000
DTEND;TZID=America/New_York:20260708T130000
DTSTAMP:20260425T120511
CREATED:20221026T154232Z
LAST-MODIFIED:20221026T154232Z
UID:10001562-1783510200-1783515600@newcumberlandpa.org
SUMMARY:New Cumberland Olde Towne Association Monthly Meeting
DESCRIPTION:The organization is always looking for new members and the public is invited to attend. Lunch is $10.00 for guests and $8.50 for members. Membership is $5.00 a year.  For more information contact Christine Leukus at 717-319-4421 or email her at cvleukus@aol.com.
URL:https://newcumberlandpa.org/event/new-cumberland-olde-towne-association-monthly-meeting-8-2/2026-07-08/
LOCATION:American Legion Post 143\, 214 Market Street\, New Cumberland\, PA\, 17070\, United States
CATEGORIES:Community,Meetings
ORGANIZER;CN="New Cumberland Olde Towne Association":MAILTO:cvleukus@aol.com
END:VEVENT
BEGIN:VEVENT
DTSTART;TZID=America/New_York:20260709T170000
DTEND;TZID=America/New_York:20260709T200000
DTSTAMP:20260425T120511
CREATED:20260204T201654Z
LAST-MODIFIED:20260204T201654Z
UID:10004054-1783616400-1783627200@newcumberlandpa.org
SUMMARY:Food Truck and Restaurant Rally
DESCRIPTION:
URL:https://newcumberlandpa.org/event/food-truck-and-restaurant-rally-20/2026-07-09/
LOCATION:Market Square\, 221-235 Market Street\, New Cumberland\, PA\, 17070\, United States
CATEGORIES:Community
ATTACH;FMTTYPE=image/jpeg:https://newcumberlandpa.org/wp-content/uploads/2020/05/food-truck-web-event-art-1.jpg
ORGANIZER;CN="New Cumberland Business & Profesional Group":MAILTO:communicationschairNC@gmail.com
END:VEVENT
BEGIN:VEVENT
DTSTART;TZID=America/New_York:20260804T180000
DTEND;TZID=America/New_York:20260804T200000
DTSTAMP:20260425T120511
CREATED:20260204T202133Z
LAST-MODIFIED:20260204T202133Z
UID:10004064-1785866400-1785873600@newcumberlandpa.org
SUMMARY:National Night Out
DESCRIPTION:National Night Out 2026 is Tuesday\, August 4\, 2026 from 6 p.m. – 8 p.m. in downtown New Cumberland. Bringing neighbors together\, promoting community\, sharing available resources\, and hosting a night full of fun!\n\nStart your evening at the stage for opening remarks\, prayer\, and the national anthem. Stop by the tents for comradery\, popcorn\, milkshakes\, and games like cornhole. Get to know your local emergency response teams for safety demonstrations and\, of course\, our local police officers. It is sure to be a fun filled evening getting to know your neighbors and community. We hope to see you there!
URL:https://newcumberlandpa.org/event/national-night-out-2/
LOCATION:Downtown New Cumberland\, Bridge Street\, New Cumberland\, PA\, 17070\, United States
CATEGORIES:Community,Member Mixer
END:VEVENT
BEGIN:VEVENT
DTSTART;TZID=America/New_York:20260808T100000
DTEND;TZID=America/New_York:20260808T130000
DTSTAMP:20260425T120511
CREATED:20260204T202233Z
LAST-MODIFIED:20260204T202233Z
UID:10004065-1786183200-1786194000@newcumberlandpa.org
SUMMARY:Summer Cruise-In Car & Cycle Show
DESCRIPTION:Join car and cycle enthusiasts at the sixth annual New Cumberland Summer Cruise-In Car & Cycle Show\, a family-friendly event celebrating all makes\, models\, and years of cars and cycles. Admire antiques and classic cars\, cruisers\, hot rods\, rat rods\, muscle cars\, foreign/exotics\, and more PLUS custom\, restored\, and open class motorcycles. Food truck fare will be sure to tempt your taste buds when hunger calls. You won’t want to miss this favorite go-to event! Free to attend. Prizes awarded for cars\, trucks\, and cycles. Judging starts at 10:30 a.m.\nRain date: Sunday\, August 9\, 2026
URL:https://newcumberlandpa.org/event/summer-cruise-in-car-cycle-show-5/
LOCATION:New Cumberland Borough Park\, Front Street & Geary Avenue\, New Cumberland\, Pennsylvania\, 17070\, United States
CATEGORIES:Community
ATTACH;FMTTYPE=image/jpeg:https://newcumberlandpa.org/wp-content/uploads/2021/07/cruise-in-website-art.jpg
ORGANIZER;CN="New Cumberland Business & Profesional Group":MAILTO:communicationschairNC@gmail.com
END:VEVENT
BEGIN:VEVENT
DTSTART;TZID=America/New_York:20260812T113000
DTEND;TZID=America/New_York:20260812T130000
DTSTAMP:20260425T120511
CREATED:20221026T154232Z
LAST-MODIFIED:20221026T154232Z
UID:10001563-1786534200-1786539600@newcumberlandpa.org
SUMMARY:New Cumberland Olde Towne Association Monthly Meeting
DESCRIPTION:The organization is always looking for new members and the public is invited to attend. Lunch is $10.00 for guests and $8.50 for members. Membership is $5.00 a year.  For more information contact Christine Leukus at 717-319-4421 or email her at cvleukus@aol.com.
URL:https://newcumberlandpa.org/event/new-cumberland-olde-towne-association-monthly-meeting-8-2/2026-08-12/
LOCATION:American Legion Post 143\, 214 Market Street\, New Cumberland\, PA\, 17070\, United States
CATEGORIES:Community,Meetings
ORGANIZER;CN="New Cumberland Olde Towne Association":MAILTO:cvleukus@aol.com
END:VEVENT
BEGIN:VEVENT
DTSTART;TZID=America/New_York:20260813T170000
DTEND;TZID=America/New_York:20260813T200000
DTSTAMP:20260425T120511
CREATED:20260204T201654Z
LAST-MODIFIED:20260204T201654Z
UID:10004055-1786640400-1786651200@newcumberlandpa.org
SUMMARY:Food Truck and Restaurant Rally
DESCRIPTION:
URL:https://newcumberlandpa.org/event/food-truck-and-restaurant-rally-20/2026-08-13/
LOCATION:Market Square\, 221-235 Market Street\, New Cumberland\, PA\, 17070\, United States
CATEGORIES:Community
ATTACH;FMTTYPE=image/jpeg:https://newcumberlandpa.org/wp-content/uploads/2020/05/food-truck-web-event-art-1.jpg
ORGANIZER;CN="New Cumberland Business & Profesional Group":MAILTO:communicationschairNC@gmail.com
END:VEVENT
BEGIN:VEVENT
DTSTART;TZID=America/New_York:20260909T113000
DTEND;TZID=America/New_York:20260909T130000
DTSTAMP:20260425T120511
CREATED:20221026T154232Z
LAST-MODIFIED:20221026T154232Z
UID:10001564-1788953400-1788958800@newcumberlandpa.org
SUMMARY:New Cumberland Olde Towne Association Monthly Meeting
DESCRIPTION:The organization is always looking for new members and the public is invited to attend. Lunch is $10.00 for guests and $8.50 for members. Membership is $5.00 a year.  For more information contact Christine Leukus at 717-319-4421 or email her at cvleukus@aol.com.
URL:https://newcumberlandpa.org/event/new-cumberland-olde-towne-association-monthly-meeting-8-2/2026-09-09/
LOCATION:American Legion Post 143\, 214 Market Street\, New Cumberland\, PA\, 17070\, United States
CATEGORIES:Community,Meetings
ORGANIZER;CN="New Cumberland Olde Towne Association":MAILTO:cvleukus@aol.com
END:VEVENT
BEGIN:VEVENT
DTSTART;TZID=America/New_York:20260910T170000
DTEND;TZID=America/New_York:20260910T200000
DTSTAMP:20260425T120511
CREATED:20260204T201654Z
LAST-MODIFIED:20260204T201654Z
UID:10004056-1789059600-1789070400@newcumberlandpa.org
SUMMARY:Food Truck and Restaurant Rally
DESCRIPTION:
URL:https://newcumberlandpa.org/event/food-truck-and-restaurant-rally-20/2026-09-10/
LOCATION:Market Square\, 221-235 Market Street\, New Cumberland\, PA\, 17070\, United States
CATEGORIES:Community
ATTACH;FMTTYPE=image/jpeg:https://newcumberlandpa.org/wp-content/uploads/2020/05/food-truck-web-event-art-1.jpg
ORGANIZER;CN="New Cumberland Business & Profesional Group":MAILTO:communicationschairNC@gmail.com
END:VEVENT
BEGIN:VEVENT
DTSTART;TZID=America/New_York:20260926T090000
DTEND;TZID=America/New_York:20260926T160000
DTSTAMP:20260425T120511
CREATED:20260204T202316Z
LAST-MODIFIED:20260204T202316Z
UID:10004066-1790413200-1790438400@newcumberlandpa.org
SUMMARY:40th Annual Apple Festival
DESCRIPTION:The New Cumberland Olde Towne Association’s Annual Apple Festival continues to entertain families with music\, great food\, handmade crafts\, contests\, and lots of activities. Held in the Borough Park of New Cumberland located at Front and Reno Streets\, the festival will have live musical entertainment from opening until closing. \nCrafters offering handmade items of all types will display and sell their products.  Food vendors offering a vast array of delicious selections will be preparing and serving their items to eat at the festival or to take home to enjoy later. Many items featuring apples are available. There is an Apple Pie Contest\, a Lego Building Contest\, Entertainment all day long\, Kids Activities\, Games and pony rides. \nTrolleys will pick up and deliver festival guests on Bridge Street at the corners of Third Street\, Seventh Street\, Park Avenue and Haldeman Boulevard.  Limited parking is available behind the West Shore Senior Citizens Center on Reno Street. \nIf you must bring your dog to the Festival\, please have it on a short leash to keep it safe from the crowd\, and to keep Festival attendees safe. Be a responsible dog owner. \nApproximately 12\,000 individuals attend the festival. The Festival is sponsored by the New Cumberland Olde Towne Association with funds raised used to support the Community of New Cumberland Service Departments as well as Local Youth Programs.  For more information\, go to www.applefestivalnewcumberlandpa.com or contact Christine Leukus at 717-319-4421. \n 
URL:https://newcumberlandpa.org/event/40th-annual-apple-festival/
LOCATION:New Cumberland Borough Park\, Front Street & Geary Avenue\, New Cumberland\, Pennsylvania\, 17070\, United States
CATEGORIES:Community
ATTACH;FMTTYPE=image/jpeg:https://newcumberlandpa.org/wp-content/uploads/2022/08/apple-fest.jpg
ORGANIZER;CN="New Cumberland Olde Towne Association":MAILTO:cvleukus@aol.com
END:VEVENT
BEGIN:VEVENT
DTSTART;TZID=America/New_York:20261008T170000
DTEND;TZID=America/New_York:20261008T200000
DTSTAMP:20260425T120511
CREATED:20260204T201654Z
LAST-MODIFIED:20260204T201654Z
UID:10004057-1791478800-1791489600@newcumberlandpa.org
SUMMARY:Food Truck and Restaurant Rally
DESCRIPTION:
URL:https://newcumberlandpa.org/event/food-truck-and-restaurant-rally-20/2026-10-08/
LOCATION:Market Square\, 221-235 Market Street\, New Cumberland\, PA\, 17070\, United States
CATEGORIES:Community
ATTACH;FMTTYPE=image/jpeg:https://newcumberlandpa.org/wp-content/uploads/2020/05/food-truck-web-event-art-1.jpg
ORGANIZER;CN="New Cumberland Business & Profesional Group":MAILTO:communicationschairNC@gmail.com
END:VEVENT
BEGIN:VEVENT
DTSTART;TZID=America/New_York:20261010T080000
DTEND;TZID=America/New_York:20261010T130000
DTSTAMP:20260425T120511
CREATED:20260220T210832Z
LAST-MODIFIED:20260220T210832Z
UID:10004070-1791619200-1791637200@newcumberlandpa.org
SUMMARY:24th Annual Vickie's Angel Walk
DESCRIPTION:24th Annual Vickie’s Angel Walk in Borough Park \n100% of funds raised help to support local families in active cancer treatment. \nDonate to an Angel Walk Team or join today!
URL:https://newcumberlandpa.org/event/24th-annual-vickies-angel-walk/
LOCATION:New Cumberland Borough Park\, Front Street & Geary Avenue\, New Cumberland\, Pennsylvania\, 17070\, United States
CATEGORIES:Community,Fundraiser
ATTACH;FMTTYPE=image/jpeg:https://newcumberlandpa.org/wp-content/uploads/2024/01/VAF-walk.jpg
END:VEVENT
BEGIN:VEVENT
DTSTART;TZID=America/New_York:20261014T113000
DTEND;TZID=America/New_York:20261014T130000
DTSTAMP:20260425T120511
CREATED:20221026T154232Z
LAST-MODIFIED:20221026T154232Z
UID:10001565-1791977400-1791982800@newcumberlandpa.org
SUMMARY:New Cumberland Olde Towne Association Monthly Meeting
DESCRIPTION:The organization is always looking for new members and the public is invited to attend. Lunch is $10.00 for guests and $8.50 for members. Membership is $5.00 a year.  For more information contact Christine Leukus at 717-319-4421 or email her at cvleukus@aol.com.
URL:https://newcumberlandpa.org/event/new-cumberland-olde-towne-association-monthly-meeting-8-2/2026-10-14/
LOCATION:American Legion Post 143\, 214 Market Street\, New Cumberland\, PA\, 17070\, United States
CATEGORIES:Community,Meetings
ORGANIZER;CN="New Cumberland Olde Towne Association":MAILTO:cvleukus@aol.com
END:VEVENT
BEGIN:VEVENT
DTSTART;TZID=America/New_York:20261024T120000
DTEND;TZID=America/New_York:20261024T150000
DTSTAMP:20260425T120511
CREATED:20260204T202356Z
LAST-MODIFIED:20260204T202356Z
UID:10004067-1792843200-1792854000@newcumberlandpa.org
SUMMARY:Trick-or-Treat: Downtown New Cumberland
DESCRIPTION:The New Cumberland Business & Professional Group is hosting a FREE trick-or-treat downtown! Come in costume for lots of tricks and treats at participating businesses!
URL:https://newcumberlandpa.org/event/trick-or-treat-downtown-new-cumberland-7/
LOCATION:Downtown New Cumberland\, Bridge Street\, New Cumberland\, PA\, 17070\, United States
CATEGORIES:Community
ATTACH;FMTTYPE=image/jpeg:https://newcumberlandpa.org/wp-content/uploads/2023/08/DT-ToT-cruise-in-website-art.jpg
ORGANIZER;CN="New Cumberland Business & Profesional Group":MAILTO:communicationschairNC@gmail.com
END:VEVENT
BEGIN:VEVENT
DTSTART;TZID=America/New_York:20261111T113000
DTEND;TZID=America/New_York:20261111T130000
DTSTAMP:20260425T120511
CREATED:20221026T154232Z
LAST-MODIFIED:20221026T154232Z
UID:10001566-1794396600-1794402000@newcumberlandpa.org
SUMMARY:New Cumberland Olde Towne Association Monthly Meeting
DESCRIPTION:The organization is always looking for new members and the public is invited to attend. Lunch is $10.00 for guests and $8.50 for members. Membership is $5.00 a year.  For more information contact Christine Leukus at 717-319-4421 or email her at cvleukus@aol.com.
URL:https://newcumberlandpa.org/event/new-cumberland-olde-towne-association-monthly-meeting-8-2/2026-11-11/
LOCATION:American Legion Post 143\, 214 Market Street\, New Cumberland\, PA\, 17070\, United States
CATEGORIES:Community,Meetings
ORGANIZER;CN="New Cumberland Olde Towne Association":MAILTO:cvleukus@aol.com
END:VEVENT
BEGIN:VEVENT
DTSTART;TZID=America/New_York:20261112T170000
DTEND;TZID=America/New_York:20261112T200000
DTSTAMP:20260425T120511
CREATED:20260204T201654Z
LAST-MODIFIED:20260204T201654Z
UID:10004058-1794502800-1794513600@newcumberlandpa.org
SUMMARY:Food Truck and Restaurant Rally
DESCRIPTION:
URL:https://newcumberlandpa.org/event/food-truck-and-restaurant-rally-20/2026-11-12/
LOCATION:Market Square\, 221-235 Market Street\, New Cumberland\, PA\, 17070\, United States
CATEGORIES:Community
ATTACH;FMTTYPE=image/jpeg:https://newcumberlandpa.org/wp-content/uploads/2020/05/food-truck-web-event-art-1.jpg
ORGANIZER;CN="New Cumberland Business & Profesional Group":MAILTO:communicationschairNC@gmail.com
END:VEVENT
BEGIN:VEVENT
DTSTART;TZID=America/New_York:20261209T113000
DTEND;TZID=America/New_York:20261209T130000
DTSTAMP:20260425T120511
CREATED:20221026T154232Z
LAST-MODIFIED:20221026T154232Z
UID:10001567-1796815800-1796821200@newcumberlandpa.org
SUMMARY:New Cumberland Olde Towne Association Monthly Meeting
DESCRIPTION:The organization is always looking for new members and the public is invited to attend. Lunch is $10.00 for guests and $8.50 for members. Membership is $5.00 a year.  For more information contact Christine Leukus at 717-319-4421 or email her at cvleukus@aol.com.
URL:https://newcumberlandpa.org/event/new-cumberland-olde-towne-association-monthly-meeting-8-2/2026-12-09/
LOCATION:American Legion Post 143\, 214 Market Street\, New Cumberland\, PA\, 17070\, United States
CATEGORIES:Community,Meetings
ORGANIZER;CN="New Cumberland Olde Towne Association":MAILTO:cvleukus@aol.com
END:VEVENT
BEGIN:VEVENT
DTSTART;TZID=America/New_York:20261210T170000
DTEND;TZID=America/New_York:20261210T200000
DTSTAMP:20260425T120511
CREATED:20260204T201654Z
LAST-MODIFIED:20260204T201654Z
UID:10004059-1796922000-1796932800@newcumberlandpa.org
SUMMARY:Food Truck and Restaurant Rally
DESCRIPTION:
URL:https://newcumberlandpa.org/event/food-truck-and-restaurant-rally-20/2026-12-10/
LOCATION:Market Square\, 221-235 Market Street\, New Cumberland\, PA\, 17070\, United States
CATEGORIES:Community
ATTACH;FMTTYPE=image/jpeg:https://newcumberlandpa.org/wp-content/uploads/2020/05/food-truck-web-event-art-1.jpg
ORGANIZER;CN="New Cumberland Business & Profesional Group":MAILTO:communicationschairNC@gmail.com
END:VEVENT
BEGIN:VEVENT
DTSTART;TZID=America/New_York:20261210T170000
DTEND;TZID=America/New_York:20261210T200000
DTSTAMP:20260425T120511
CREATED:20260204T202554Z
LAST-MODIFIED:20260204T202554Z
UID:10004069-1796922000-1796932800@newcumberlandpa.org
SUMMARY:Holidays in New Cumberland
DESCRIPTION:Get ready to kick off the holiday season in style at Second Thursday on December 10 in New Cumberland! It’s the perfect trio of events: the Food Truck and Restaurant Rally\, horse-drawn wagon rides\, and pictures with Old Saint Nick. Join us from 5 p.m. to 8 p.m. in downtown New Cumberland for an unforgettable night filled with holiday cheer and mouthwatering feasts.\n\nBring your loved ones and get into the festive spirit on Second Thursday!
URL:https://newcumberlandpa.org/event/holidays-in-new-cumberland-3/
LOCATION:New Cumberland\, New Cumberland\, PA\, 17070\, United States
CATEGORIES:Community
ATTACH;FMTTYPE=image/jpeg:https://newcumberlandpa.org/wp-content/uploads/2024/01/holidays-NC-1.jpg
ORGANIZER;CN="New Cumberland Business & Profesional Group":MAILTO:communicationschairNC@gmail.com
END:VEVENT
BEGIN:VEVENT
DTSTART;TZID=America/New_York:20270113T113000
DTEND;TZID=America/New_York:20270113T130000
DTSTAMP:20260425T120511
CREATED:20221026T154232Z
LAST-MODIFIED:20221026T154232Z
UID:10001568-1799839800-1799845200@newcumberlandpa.org
SUMMARY:New Cumberland Olde Towne Association Monthly Meeting
DESCRIPTION:The organization is always looking for new members and the public is invited to attend. Lunch is $10.00 for guests and $8.50 for members. Membership is $5.00 a year.  For more information contact Christine Leukus at 717-319-4421 or email her at cvleukus@aol.com.
URL:https://newcumberlandpa.org/event/new-cumberland-olde-towne-association-monthly-meeting-8-2/2027-01-13/
LOCATION:American Legion Post 143\, 214 Market Street\, New Cumberland\, PA\, 17070\, United States
CATEGORIES:Community,Meetings
ORGANIZER;CN="New Cumberland Olde Towne Association":MAILTO:cvleukus@aol.com
END:VEVENT
BEGIN:VEVENT
DTSTART;TZID=America/New_York:20270210T113000
DTEND;TZID=America/New_York:20270210T130000
DTSTAMP:20260425T120511
CREATED:20221026T154232Z
LAST-MODIFIED:20221026T154232Z
UID:10001569-1802259000-1802264400@newcumberlandpa.org
SUMMARY:New Cumberland Olde Towne Association Monthly Meeting
DESCRIPTION:The organization is always looking for new members and the public is invited to attend. Lunch is $10.00 for guests and $8.50 for members. Membership is $5.00 a year.  For more information contact Christine Leukus at 717-319-4421 or email her at cvleukus@aol.com.
URL:https://newcumberlandpa.org/event/new-cumberland-olde-towne-association-monthly-meeting-8-2/2027-02-10/
LOCATION:American Legion Post 143\, 214 Market Street\, New Cumberland\, PA\, 17070\, United States
CATEGORIES:Community,Meetings
ORGANIZER;CN="New Cumberland Olde Towne Association":MAILTO:cvleukus@aol.com
END:VEVENT
BEGIN:VEVENT
DTSTART;TZID=America/New_York:20270310T113000
DTEND;TZID=America/New_York:20270310T130000
DTSTAMP:20260425T120511
CREATED:20221026T154232Z
LAST-MODIFIED:20221026T154232Z
UID:10001570-1804678200-1804683600@newcumberlandpa.org
SUMMARY:New Cumberland Olde Towne Association Monthly Meeting
DESCRIPTION:The organization is always looking for new members and the public is invited to attend. Lunch is $10.00 for guests and $8.50 for members. Membership is $5.00 a year.  For more information contact Christine Leukus at 717-319-4421 or email her at cvleukus@aol.com.
URL:https://newcumberlandpa.org/event/new-cumberland-olde-towne-association-monthly-meeting-8-2/2027-03-10/
LOCATION:American Legion Post 143\, 214 Market Street\, New Cumberland\, PA\, 17070\, United States
CATEGORIES:Community,Meetings
ORGANIZER;CN="New Cumberland Olde Towne Association":MAILTO:cvleukus@aol.com
END:VEVENT
BEGIN:VEVENT
DTSTART;TZID=America/New_York:20270414T113000
DTEND;TZID=America/New_York:20270414T130000
DTSTAMP:20260425T120511
CREATED:20221026T154232Z
LAST-MODIFIED:20221026T154232Z
UID:10001571-1807702200-1807707600@newcumberlandpa.org
SUMMARY:New Cumberland Olde Towne Association Monthly Meeting
DESCRIPTION:The organization is always looking for new members and the public is invited to attend. Lunch is $10.00 for guests and $8.50 for members. Membership is $5.00 a year.  For more information contact Christine Leukus at 717-319-4421 or email her at cvleukus@aol.com.
URL:https://newcumberlandpa.org/event/new-cumberland-olde-towne-association-monthly-meeting-8-2/2027-04-14/
LOCATION:American Legion Post 143\, 214 Market Street\, New Cumberland\, PA\, 17070\, United States
CATEGORIES:Community,Meetings
ORGANIZER;CN="New Cumberland Olde Towne Association":MAILTO:cvleukus@aol.com
END:VEVENT
BEGIN:VEVENT
DTSTART;TZID=America/New_York:20270512T113000
DTEND;TZID=America/New_York:20270512T130000
DTSTAMP:20260425T120511
CREATED:20221026T154232Z
LAST-MODIFIED:20221026T154232Z
UID:10001572-1810121400-1810126800@newcumberlandpa.org
SUMMARY:New Cumberland Olde Towne Association Monthly Meeting
DESCRIPTION:The organization is always looking for new members and the public is invited to attend. Lunch is $10.00 for guests and $8.50 for members. Membership is $5.00 a year.  For more information contact Christine Leukus at 717-319-4421 or email her at cvleukus@aol.com.
URL:https://newcumberlandpa.org/event/new-cumberland-olde-towne-association-monthly-meeting-8-2/2027-05-12/
LOCATION:American Legion Post 143\, 214 Market Street\, New Cumberland\, PA\, 17070\, United States
CATEGORIES:Community,Meetings
ORGANIZER;CN="New Cumberland Olde Towne Association":MAILTO:cvleukus@aol.com
END:VEVENT
BEGIN:VEVENT
DTSTART;TZID=America/New_York:20270609T113000
DTEND;TZID=America/New_York:20270609T130000
DTSTAMP:20260425T120511
CREATED:20221026T154232Z
LAST-MODIFIED:20221026T154232Z
UID:10001573-1812540600-1812546000@newcumberlandpa.org
SUMMARY:New Cumberland Olde Towne Association Monthly Meeting
DESCRIPTION:The organization is always looking for new members and the public is invited to attend. Lunch is $10.00 for guests and $8.50 for members. Membership is $5.00 a year.  For more information contact Christine Leukus at 717-319-4421 or email her at cvleukus@aol.com.
URL:https://newcumberlandpa.org/event/new-cumberland-olde-towne-association-monthly-meeting-8-2/2027-06-09/
LOCATION:American Legion Post 143\, 214 Market Street\, New Cumberland\, PA\, 17070\, United States
CATEGORIES:Community,Meetings
ORGANIZER;CN="New Cumberland Olde Towne Association":MAILTO:cvleukus@aol.com
END:VEVENT
BEGIN:VEVENT
DTSTART;TZID=America/New_York:20270714T113000
DTEND;TZID=America/New_York:20270714T130000
DTSTAMP:20260425T120511
CREATED:20221026T154232Z
LAST-MODIFIED:20221026T154232Z
UID:10001574-1815564600-1815570000@newcumberlandpa.org
SUMMARY:New Cumberland Olde Towne Association Monthly Meeting
DESCRIPTION:The organization is always looking for new members and the public is invited to attend. Lunch is $10.00 for guests and $8.50 for members. Membership is $5.00 a year.  For more information contact Christine Leukus at 717-319-4421 or email her at cvleukus@aol.com.
URL:https://newcumberlandpa.org/event/new-cumberland-olde-towne-association-monthly-meeting-8-2/2027-07-14/
LOCATION:American Legion Post 143\, 214 Market Street\, New Cumberland\, PA\, 17070\, United States
CATEGORIES:Community,Meetings
ORGANIZER;CN="New Cumberland Olde Towne Association":MAILTO:cvleukus@aol.com
END:VEVENT
BEGIN:VEVENT
DTSTART;TZID=America/New_York:20270811T113000
DTEND;TZID=America/New_York:20270811T130000
DTSTAMP:20260425T120511
CREATED:20221026T154232Z
LAST-MODIFIED:20221026T154232Z
UID:10001575-1817983800-1817989200@newcumberlandpa.org
SUMMARY:New Cumberland Olde Towne Association Monthly Meeting
DESCRIPTION:The organization is always looking for new members and the public is invited to attend. Lunch is $10.00 for guests and $8.50 for members. Membership is $5.00 a year.  For more information contact Christine Leukus at 717-319-4421 or email her at cvleukus@aol.com.
URL:https://newcumberlandpa.org/event/new-cumberland-olde-towne-association-monthly-meeting-8-2/2027-08-11/
LOCATION:American Legion Post 143\, 214 Market Street\, New Cumberland\, PA\, 17070\, United States
CATEGORIES:Community,Meetings
ORGANIZER;CN="New Cumberland Olde Towne Association":MAILTO:cvleukus@aol.com
END:VEVENT
BEGIN:VEVENT
DTSTART;TZID=America/New_York:20270908T113000
DTEND;TZID=America/New_York:20270908T130000
DTSTAMP:20260425T120511
CREATED:20221026T154232Z
LAST-MODIFIED:20221026T154232Z
UID:10001576-1820403000-1820408400@newcumberlandpa.org
SUMMARY:New Cumberland Olde Towne Association Monthly Meeting
DESCRIPTION:The organization is always looking for new members and the public is invited to attend. Lunch is $10.00 for guests and $8.50 for members. Membership is $5.00 a year.  For more information contact Christine Leukus at 717-319-4421 or email her at cvleukus@aol.com.
URL:https://newcumberlandpa.org/event/new-cumberland-olde-towne-association-monthly-meeting-8-2/2027-09-08/
LOCATION:American Legion Post 143\, 214 Market Street\, New Cumberland\, PA\, 17070\, United States
CATEGORIES:Community,Meetings
ORGANIZER;CN="New Cumberland Olde Towne Association":MAILTO:cvleukus@aol.com
END:VEVENT
END:VCALENDAR