BEGIN:VCALENDAR
VERSION:2.0
PRODID:-//New Cumberland B&amp;PG - ECPv6.15.17.1//NONSGML v1.0//EN
CALSCALE:GREGORIAN
METHOD:PUBLISH
X-ORIGINAL-URL:https://newcumberlandpa.org
X-WR-CALDESC:Events for New Cumberland B&amp;PG
REFRESH-INTERVAL;VALUE=DURATION:PT1H
X-Robots-Tag:noindex
X-PUBLISHED-TTL:PT1H
BEGIN:VTIMEZONE
TZID:America/New_York
BEGIN:DAYLIGHT
TZOFFSETFROM:-0500
TZOFFSETTO:-0400
TZNAME:EDT
DTSTART:20230312T070000
END:DAYLIGHT
BEGIN:STANDARD
TZOFFSETFROM:-0400
TZOFFSETTO:-0500
TZNAME:EST
DTSTART:20231105T060000
END:STANDARD
BEGIN:DAYLIGHT
TZOFFSETFROM:-0500
TZOFFSETTO:-0400
TZNAME:EDT
DTSTART:20240310T070000
END:DAYLIGHT
BEGIN:STANDARD
TZOFFSETFROM:-0400
TZOFFSETTO:-0500
TZNAME:EST
DTSTART:20241103T060000
END:STANDARD
BEGIN:DAYLIGHT
TZOFFSETFROM:-0500
TZOFFSETTO:-0400
TZNAME:EDT
DTSTART:20250309T070000
END:DAYLIGHT
BEGIN:STANDARD
TZOFFSETFROM:-0400
TZOFFSETTO:-0500
TZNAME:EST
DTSTART:20251102T060000
END:STANDARD
END:VTIMEZONE
BEGIN:VEVENT
DTSTART;TZID=America/New_York:20241026T090000
DTEND;TZID=America/New_York:20241026T140000
DTSTAMP:20260424T163446
CREATED:20240118T174109Z
LAST-MODIFIED:20240404T182759Z
UID:10003796-1729933200-1729951200@newcumberlandpa.org
SUMMARY:Farmers’ Market On 4th
DESCRIPTION:The New Cumberland Farmers’ Market On 4th returns! The farmers’ market operates each Saturday\, May 4 through October 26\, from 9 a.m. to 2 p.m. rain or shine at 4th and Bridge Streets\, New Cumberland\, in the parking lot of Olde Towne Commons. Elevate your taste buds with locally grown produce\, fresh meats\, homemade baked goods\, and more! NEW this year\, artisans and makers! Look for returning farms and several new vendors. \n  \nClick here for a vendor application.
URL:https://newcumberlandpa.org/event/farmers-market-on-4th-58/2024-10-26/
LOCATION:Kelly Financial Services\, 400 Bridge Street\, New Cumberland\, PA\, 17070\, United States
ATTACH;FMTTYPE=image/jpeg:https://newcumberlandpa.org/wp-content/uploads/2023/04/farmers-market-pics_general.jpg
ORGANIZER;CN="New Cumberland Business & Profesional Group":MAILTO:communicationschairNC@gmail.com
END:VEVENT
BEGIN:VEVENT
DTSTART;TZID=America/New_York:20241026T120000
DTEND;TZID=America/New_York:20241026T150000
DTSTAMP:20260424T163446
CREATED:20240118T173717Z
LAST-MODIFIED:20240118T173717Z
UID:10003743-1729944000-1729954800@newcumberlandpa.org
SUMMARY:Trick-or-Treat: Downtown New Cumberland
DESCRIPTION:The New Cumberland Business & Professional Group is hosting a FREE trick-or-treat downtown! Come in costume for lots of tricks and treats at participating businesses!
URL:https://newcumberlandpa.org/event/trick-or-treat-downtown-new-cumberland-5/
LOCATION:Downtown New Cumberland\, Bridge Street\, New Cumberland\, PA\, 17070\, United States
CATEGORIES:Community
ATTACH;FMTTYPE=image/jpeg:https://newcumberlandpa.org/wp-content/uploads/2023/08/DT-ToT-cruise-in-website-art.jpg
ORGANIZER;CN="New Cumberland Business & Profesional Group":MAILTO:communicationschairNC@gmail.com
END:VEVENT
BEGIN:VEVENT
DTSTART;TZID=America/New_York:20241026T180000
DTEND;TZID=America/New_York:20241026T220000
DTSTAMP:20260424T163446
CREATED:20240823T190641Z
LAST-MODIFIED:20241021T144146Z
UID:10003914-1729965600-1729980000@newcumberlandpa.org
SUMMARY:Accents On Bridge – A New Cumberland Gala
DESCRIPTION:Hosted by the New Cumberland Olde Towne Association and Business & Professional Group\, together with the Borough of New Cumberland\, Accents On Bridge is a fundraising gala that will benefit the enhancement of New Cumberland. This year’s proceeds will go toward the purchase of new playground equipment. Attendees will enjoy hearty hors d’oeuvres\, a served dinner\, drinks\, a live band\, dancing\, silent auction\, and more. Our goal is to raise $20\,000.
URL:https://newcumberlandpa.org/event/accents-on-bridge-a-new-cumberland-gala-2/
LOCATION:Susquehanna Club\, 608 Ross Ave.\, New Cumberland\, PA\, 17070\, United States
CATEGORIES:Fundraiser
ATTACH;FMTTYPE=image/jpeg:https://newcumberlandpa.org/wp-content/uploads/2023/08/accents-on-bridge-logo_RGB.jpg
ORGANIZER;CN="New Cumberland Olde Towne Association":MAILTO:cvleukus@aol.com
END:VEVENT
END:VCALENDAR