BEGIN:VCALENDAR
VERSION:2.0
PRODID:-//New Cumberland B&amp;PG - ECPv6.15.17.1//NONSGML v1.0//EN
CALSCALE:GREGORIAN
METHOD:PUBLISH
X-WR-CALNAME:New Cumberland B&amp;PG
X-ORIGINAL-URL:https://newcumberlandpa.org
X-WR-CALDESC:Events for New Cumberland B&amp;PG
REFRESH-INTERVAL;VALUE=DURATION:PT1H
X-Robots-Tag:noindex
X-PUBLISHED-TTL:PT1H
BEGIN:VTIMEZONE
TZID:America/New_York
BEGIN:DAYLIGHT
TZOFFSETFROM:-0500
TZOFFSETTO:-0400
TZNAME:EDT
DTSTART:20220313T070000
END:DAYLIGHT
BEGIN:STANDARD
TZOFFSETFROM:-0400
TZOFFSETTO:-0500
TZNAME:EST
DTSTART:20221106T060000
END:STANDARD
BEGIN:DAYLIGHT
TZOFFSETFROM:-0500
TZOFFSETTO:-0400
TZNAME:EDT
DTSTART:20230312T070000
END:DAYLIGHT
BEGIN:STANDARD
TZOFFSETFROM:-0400
TZOFFSETTO:-0500
TZNAME:EST
DTSTART:20231105T060000
END:STANDARD
BEGIN:DAYLIGHT
TZOFFSETFROM:-0500
TZOFFSETTO:-0400
TZNAME:EDT
DTSTART:20240310T070000
END:DAYLIGHT
BEGIN:STANDARD
TZOFFSETFROM:-0400
TZOFFSETTO:-0500
TZNAME:EST
DTSTART:20241103T060000
END:STANDARD
END:VTIMEZONE
BEGIN:VEVENT
DTSTART;TZID=America/New_York:20231028T120000
DTEND;TZID=America/New_York:20231028T150000
DTSTAMP:20260425T115716
CREATED:20221230T194957Z
LAST-MODIFIED:20230817T161711Z
UID:10002053-1698494400-1698505200@newcumberlandpa.org
SUMMARY:Trick-or-Treat: Downtown New Cumberland
DESCRIPTION:The New Cumberland Business & Professional Group is hosting a FREE trick-or-treat downtown! Come in costume for lots of tricks and treats at participating businesses!\n\nBring your most creative Halloween drawing and enter to win a prize! Submit your drawing at Oxford Hall Celtic Shop\, 233 Bridge Street. Be sure to include your name\, age\, and phone number.
URL:https://newcumberlandpa.org/event/trick-or-treat-downtown-new-cumberland-4/
LOCATION:Downtown New Cumberland\, Bridge Street\, New Cumberland\, PA\, 17070\, United States
CATEGORIES:Community
ORGANIZER;CN="New Cumberland Business & Profesional Group":MAILTO:communicationschairNC@gmail.com
END:VEVENT
BEGIN:VEVENT
DTSTART;TZID=America/New_York:20231028T180000
DTEND;TZID=America/New_York:20231028T200000
DTSTAMP:20260425T115716
CREATED:20230920T145210Z
LAST-MODIFIED:20230920T145210Z
UID:10003569-1698516000-1698523200@newcumberlandpa.org
SUMMARY:NCFD Haunted House
DESCRIPTION:
URL:https://newcumberlandpa.org/event/ncfd-haunted-house/2023-10-28/
LOCATION:New Cumberland Fire Department\, 319 4th Street\, New Cumberland\, PA\, 17070\, United States
END:VEVENT
END:VCALENDAR