BEGIN:VCALENDAR
VERSION:2.0
PRODID:-//New Cumberland B&amp;PG - ECPv6.15.17.1//NONSGML v1.0//EN
CALSCALE:GREGORIAN
METHOD:PUBLISH
X-WR-CALNAME:New Cumberland B&amp;PG
X-ORIGINAL-URL:https://newcumberlandpa.org
X-WR-CALDESC:Events for New Cumberland B&amp;PG
REFRESH-INTERVAL;VALUE=DURATION:PT1H
X-Robots-Tag:noindex
X-PUBLISHED-TTL:PT1H
BEGIN:VTIMEZONE
TZID:America/New_York
BEGIN:DAYLIGHT
TZOFFSETFROM:-0500
TZOFFSETTO:-0400
TZNAME:EDT
DTSTART:20220313T070000
END:DAYLIGHT
BEGIN:STANDARD
TZOFFSETFROM:-0400
TZOFFSETTO:-0500
TZNAME:EST
DTSTART:20221106T060000
END:STANDARD
BEGIN:DAYLIGHT
TZOFFSETFROM:-0500
TZOFFSETTO:-0400
TZNAME:EDT
DTSTART:20230312T070000
END:DAYLIGHT
BEGIN:STANDARD
TZOFFSETFROM:-0400
TZOFFSETTO:-0500
TZNAME:EST
DTSTART:20231105T060000
END:STANDARD
BEGIN:DAYLIGHT
TZOFFSETFROM:-0500
TZOFFSETTO:-0400
TZNAME:EDT
DTSTART:20240310T070000
END:DAYLIGHT
BEGIN:STANDARD
TZOFFSETFROM:-0400
TZOFFSETTO:-0500
TZNAME:EST
DTSTART:20241103T060000
END:STANDARD
END:VTIMEZONE
BEGIN:VEVENT
DTSTART;TZID=America/New_York:20230812T100000
DTEND;TZID=America/New_York:20230812T140000
DTSTAMP:20260425T145810
CREATED:20221230T194831Z
LAST-MODIFIED:20230608T163214Z
UID:10002052-1691834400-1691848800@newcumberlandpa.org
SUMMARY:Summer Cruise-In Car & Cycle Show
DESCRIPTION:  \nJoin car and cycle enthusiasts at the third annual New Cumberland Summer Cruise-In Car & Cycle Show\, a family-friendly event celebrating all makes\, models\, and years of cars and cycles. Admire antiques and classic cars\, cruisers\, hot rods\, rat rods\, muscle cars\, tuners\, foreign/exotics\, and more PLUS custom\, restored\, and open class motorcycles. Craft and retail vendors will round out the event\, and food truck fare will be sure to tempt your taste buds when hunger calls. Prizes will be awarded for car and cycle Best In Show and Best In Class. You won’t want to miss this new favorite go-to event! Free to attend.\n\nRain date: Sunday\, August 13\, 2023\n\n\nClick here for a registration form.\n\n 
URL:https://newcumberlandpa.org/event/summer-cruise-in-car-cycle-show-2/
LOCATION:New Cumberland Borough Park\, Front Street & Geary Avenue\, New Cumberland\, Pennsylvania\, 17070\, United States
CATEGORIES:Community
ATTACH;FMTTYPE=image/jpeg:https://newcumberlandpa.org/wp-content/uploads/2021/07/cruise-in-website-art.jpg
ORGANIZER;CN="New Cumberland Business & Profesional Group":MAILTO:communicationschairNC@gmail.com
END:VEVENT
BEGIN:VEVENT
DTSTART;TZID=America/New_York:20230812T200000
DTEND;TZID=America/New_York:20230812T220000
DTSTAMP:20260425T145810
CREATED:20230731T145236Z
LAST-MODIFIED:20230731T150532Z
UID:10003549-1691870400-1691877600@newcumberlandpa.org
SUMMARY:Summer Outdoor Movie – Over the Hedge
DESCRIPTION:On the grounds of the library. Free to attend.
URL:https://newcumberlandpa.org/event/summer-outdoor-movie-over-the-hedge/
LOCATION:New Cumberland Public Library
CATEGORIES:Community
ATTACH;FMTTYPE=image/jpeg:https://newcumberlandpa.org/wp-content/uploads/2023/07/over-the-hedge.jpg
ORGANIZER;CN="New Cumberland Olde Towne Association":MAILTO:cvleukus@aol.com
END:VEVENT
END:VCALENDAR