BEGIN:VCALENDAR
VERSION:2.0
PRODID:-//New Cumberland B&amp;PG - ECPv6.15.17.1//NONSGML v1.0//EN
CALSCALE:GREGORIAN
METHOD:PUBLISH
X-ORIGINAL-URL:https://newcumberlandpa.org
X-WR-CALDESC:Events for New Cumberland B&amp;PG
REFRESH-INTERVAL;VALUE=DURATION:PT1H
X-Robots-Tag:noindex
X-PUBLISHED-TTL:PT1H
BEGIN:VTIMEZONE
TZID:America/New_York
BEGIN:DAYLIGHT
TZOFFSETFROM:-0500
TZOFFSETTO:-0400
TZNAME:EDT
DTSTART:20220313T070000
END:DAYLIGHT
BEGIN:STANDARD
TZOFFSETFROM:-0400
TZOFFSETTO:-0500
TZNAME:EST
DTSTART:20221106T060000
END:STANDARD
BEGIN:DAYLIGHT
TZOFFSETFROM:-0500
TZOFFSETTO:-0400
TZNAME:EDT
DTSTART:20230312T070000
END:DAYLIGHT
BEGIN:STANDARD
TZOFFSETFROM:-0400
TZOFFSETTO:-0500
TZNAME:EST
DTSTART:20231105T060000
END:STANDARD
BEGIN:DAYLIGHT
TZOFFSETFROM:-0500
TZOFFSETTO:-0400
TZNAME:EDT
DTSTART:20240310T070000
END:DAYLIGHT
BEGIN:STANDARD
TZOFFSETFROM:-0400
TZOFFSETTO:-0500
TZNAME:EST
DTSTART:20241103T060000
END:STANDARD
END:VTIMEZONE
BEGIN:VEVENT
DTSTART;TZID=America/New_York:20230402T130000
DTEND;TZID=America/New_York:20230402T150000
DTSTAMP:20260425T224737
CREATED:20230331T185949Z
LAST-MODIFIED:20230331T190011Z
UID:10002252-1680440400-1680447600@newcumberlandpa.org
SUMMARY:Egg-Stravaganza!
DESCRIPTION:Drop-In (No Registration Required)\nJoin us rain or shine on the lawn of the New Cumberland Public Library for a community Easter Egg Hunt. Crafts & games will be available\, and special prizes will be awarded to anyone who finds a ticket in their eggs! Plus\, the Easter Bunny will drop-in for a surprise visit. \n  \nEgg Hunt times are as follows:\n2:00-2:15 for ages 2-3\n2:15-2:30 for ages 4-6\n2:30-2:45 for ages 7-8 \nThis event is sponsored by the Women’s Club of New Cumberland & Highland.
URL:https://newcumberlandpa.org/event/egg-stravaganza/
ATTACH;FMTTYPE=image/png:https://newcumberlandpa.org/wp-content/uploads/2023/03/Easter-Egg-Hunt-1.png
END:VEVENT
END:VCALENDAR